BEGIN:VCALENDAR
VERSION:2.0
PRODID:-//Esplanade by the Islands - ECPv6.15.15//NONSGML v1.0//EN
CALSCALE:GREGORIAN
METHOD:PUBLISH
X-ORIGINAL-URL:https://www.esplanadebytheislandslifestyle.com
X-WR-CALDESC:Events for Esplanade by the Islands
REFRESH-INTERVAL;VALUE=DURATION:PT1H
X-Robots-Tag:noindex
X-PUBLISHED-TTL:PT1H
BEGIN:VTIMEZONE
TZID:America/New_York
BEGIN:DAYLIGHT
TZOFFSETFROM:-0500
TZOFFSETTO:-0400
TZNAME:EDT
DTSTART:20240310T070000
END:DAYLIGHT
BEGIN:STANDARD
TZOFFSETFROM:-0400
TZOFFSETTO:-0500
TZNAME:EST
DTSTART:20241103T060000
END:STANDARD
BEGIN:DAYLIGHT
TZOFFSETFROM:-0500
TZOFFSETTO:-0400
TZNAME:EDT
DTSTART:20250309T070000
END:DAYLIGHT
BEGIN:STANDARD
TZOFFSETFROM:-0400
TZOFFSETTO:-0500
TZNAME:EST
DTSTART:20251102T060000
END:STANDARD
BEGIN:DAYLIGHT
TZOFFSETFROM:-0500
TZOFFSETTO:-0400
TZNAME:EDT
DTSTART:20260308T070000
END:DAYLIGHT
BEGIN:STANDARD
TZOFFSETFROM:-0400
TZOFFSETTO:-0500
TZNAME:EST
DTSTART:20261101T060000
END:STANDARD
END:VTIMEZONE
BEGIN:VEVENT
DTSTART;TZID=America/New_York:20250426T090000
DTEND;TZID=America/New_York:20250426T100000
DTSTAMP:20260422T190930
CREATED:20250303T183222Z
LAST-MODIFIED:20250418T152149Z
UID:48864-1745658000-1745661600@www.esplanadebytheislandslifestyle.com
SUMMARY:Aqua Flow: Instructor- Lacie
DESCRIPTION:Slow-paced\, low-impact class offering a relaxing yet effective workout where no swimming skills are needed.  This class incorporates elements of Water Pilates\, Yoga\, and Strength Training. This class is designed to improve flexibility\, range of motion\, strength\, muscle tone\, and cardiovascular endurance while using the resistance of the water to cushion the feet\, knees\, and back. \n 
URL:https://www.esplanadebytheislandslifestyle.com/event/aqua-flow-instructor-lacie-10/2025-04-26/
LOCATION:Resort Amenity Pool
CATEGORIES:Fitness & Wellness
ATTACH;FMTTYPE=image/jpeg:https://www.esplanadebytheislandslifestyle.com/wp-content/uploads/sites/64/2023/01/water.jpg
END:VEVENT
BEGIN:VEVENT
DTSTART;TZID=America/New_York:20250419T090000
DTEND;TZID=America/New_York:20250419T100000
DTSTAMP:20260422T190930
CREATED:20250303T183222Z
LAST-MODIFIED:20250418T152148Z
UID:48863-1745053200-1745056800@www.esplanadebytheislandslifestyle.com
SUMMARY:Aqua Flow: Instructor- Lacie
DESCRIPTION:Slow-paced\, low-impact class offering a relaxing yet effective workout where no swimming skills are needed.  This class incorporates elements of Water Pilates\, Yoga\, and Strength Training. This class is designed to improve flexibility\, range of motion\, strength\, muscle tone\, and cardiovascular endurance while using the resistance of the water to cushion the feet\, knees\, and back. \n 
URL:https://www.esplanadebytheislandslifestyle.com/event/aqua-flow-instructor-lacie-10/2025-04-19/
LOCATION:Resort Amenity Pool
CATEGORIES:Fitness & Wellness
ATTACH;FMTTYPE=image/jpeg:https://www.esplanadebytheislandslifestyle.com/wp-content/uploads/sites/64/2023/01/water.jpg
END:VEVENT
BEGIN:VEVENT
DTSTART;TZID=America/New_York:20250412T090000
DTEND;TZID=America/New_York:20250412T100000
DTSTAMP:20260422T190930
CREATED:20250303T183222Z
LAST-MODIFIED:20250418T152148Z
UID:48862-1744448400-1744452000@www.esplanadebytheislandslifestyle.com
SUMMARY:Aqua Flow: Instructor- Lacie
DESCRIPTION:Slow-paced\, low-impact class offering a relaxing yet effective workout where no swimming skills are needed.  This class incorporates elements of Water Pilates\, Yoga\, and Strength Training. This class is designed to improve flexibility\, range of motion\, strength\, muscle tone\, and cardiovascular endurance while using the resistance of the water to cushion the feet\, knees\, and back. \n 
URL:https://www.esplanadebytheislandslifestyle.com/event/aqua-flow-instructor-lacie-10/2025-04-12/
LOCATION:Resort Amenity Pool
CATEGORIES:Fitness & Wellness
ATTACH;FMTTYPE=image/jpeg:https://www.esplanadebytheislandslifestyle.com/wp-content/uploads/sites/64/2023/01/water.jpg
END:VEVENT
BEGIN:VEVENT
DTSTART;TZID=America/New_York:20250405T090000
DTEND;TZID=America/New_York:20250405T100000
DTSTAMP:20260422T190930
CREATED:20250303T183222Z
LAST-MODIFIED:20250418T152148Z
UID:48859-1743843600-1743847200@www.esplanadebytheislandslifestyle.com
SUMMARY:Aqua Flow: Instructor- Lacie
DESCRIPTION:Slow-paced\, low-impact class offering a relaxing yet effective workout where no swimming skills are needed.  This class incorporates elements of Water Pilates\, Yoga\, and Strength Training. This class is designed to improve flexibility\, range of motion\, strength\, muscle tone\, and cardiovascular endurance while using the resistance of the water to cushion the feet\, knees\, and back. \n 
URL:https://www.esplanadebytheislandslifestyle.com/event/aqua-flow-instructor-lacie-10/2025-04-05/
LOCATION:Resort Amenity Pool
CATEGORIES:Fitness & Wellness
ATTACH;FMTTYPE=image/jpeg:https://www.esplanadebytheislandslifestyle.com/wp-content/uploads/sites/64/2023/01/water.jpg
END:VEVENT
END:VCALENDAR