BEGIN:VCALENDAR
VERSION:2.0
PRODID:-//Esplanade by the Islands - ECPv6.15.15//NONSGML v1.0//EN
CALSCALE:GREGORIAN
METHOD:PUBLISH
X-ORIGINAL-URL:https://www.esplanadebytheislandslifestyle.com
X-WR-CALDESC:Events for Esplanade by the Islands
REFRESH-INTERVAL;VALUE=DURATION:PT1H
X-Robots-Tag:noindex
X-PUBLISHED-TTL:PT1H
BEGIN:VTIMEZONE
TZID:America/New_York
BEGIN:DAYLIGHT
TZOFFSETFROM:-0500
TZOFFSETTO:-0400
TZNAME:EDT
DTSTART:20250309T070000
END:DAYLIGHT
BEGIN:STANDARD
TZOFFSETFROM:-0400
TZOFFSETTO:-0500
TZNAME:EST
DTSTART:20251102T060000
END:STANDARD
BEGIN:DAYLIGHT
TZOFFSETFROM:-0500
TZOFFSETTO:-0400
TZNAME:EDT
DTSTART:20260308T070000
END:DAYLIGHT
BEGIN:STANDARD
TZOFFSETFROM:-0400
TZOFFSETTO:-0500
TZNAME:EST
DTSTART:20261101T060000
END:STANDARD
BEGIN:DAYLIGHT
TZOFFSETFROM:-0500
TZOFFSETTO:-0400
TZNAME:EDT
DTSTART:20270314T070000
END:DAYLIGHT
BEGIN:STANDARD
TZOFFSETFROM:-0400
TZOFFSETTO:-0500
TZNAME:EST
DTSTART:20271107T060000
END:STANDARD
END:VTIMEZONE
BEGIN:VEVENT
DTSTART;TZID=America/New_York:20260406T163000
DTEND;TZID=America/New_York:20260406T173000
DTSTAMP:20260423T110505
CREATED:20251205T202302Z
LAST-MODIFIED:20251205T202302Z
UID:68821-1775493000-1775496600@www.esplanadebytheislandslifestyle.com
SUMMARY:Barre Class: Instructor- Suzanne
DESCRIPTION:Barre class is a workout technique inspired by elements of ballet\, yoga\, and Pilates. Class focuses on low-impact\, high-intensity movements designed to strengthen and lengthen your body. Chairs will be provided for use for this class in place of ballet bars. \nAll levels welcome
URL:https://www.esplanadebytheislandslifestyle.com/event/barre-class-instructor-suzanne-76/2026-04-06/
LOCATION:Movement Studio
CATEGORIES:Fitness & Wellness
ATTACH;FMTTYPE=image/jpeg:https://www.esplanadebytheislandslifestyle.com/wp-content/uploads/sites/64/2021/09/Depositphotos_84915358_l-2015.jpg
END:VEVENT
BEGIN:VEVENT
DTSTART;TZID=America/New_York:20260330T163000
DTEND;TZID=America/New_York:20260330T173000
DTSTAMP:20260423T110505
CREATED:20251205T202302Z
LAST-MODIFIED:20251205T202302Z
UID:68820-1774888200-1774891800@www.esplanadebytheislandslifestyle.com
SUMMARY:Barre Class: Instructor- Suzanne
DESCRIPTION:Barre class is a workout technique inspired by elements of ballet\, yoga\, and Pilates. Class focuses on low-impact\, high-intensity movements designed to strengthen and lengthen your body. Chairs will be provided for use for this class in place of ballet bars. \nAll levels welcome
URL:https://www.esplanadebytheislandslifestyle.com/event/barre-class-instructor-suzanne-76/2026-03-30/
LOCATION:Movement Studio
CATEGORIES:Fitness & Wellness
ATTACH;FMTTYPE=image/jpeg:https://www.esplanadebytheislandslifestyle.com/wp-content/uploads/sites/64/2021/09/Depositphotos_84915358_l-2015.jpg
END:VEVENT
BEGIN:VEVENT
DTSTART;TZID=America/New_York:20260323T163000
DTEND;TZID=America/New_York:20260323T173000
DTSTAMP:20260423T110505
CREATED:20251205T202302Z
LAST-MODIFIED:20251205T202302Z
UID:68819-1774283400-1774287000@www.esplanadebytheislandslifestyle.com
SUMMARY:Barre Class: Instructor- Suzanne
DESCRIPTION:Barre class is a workout technique inspired by elements of ballet\, yoga\, and Pilates. Class focuses on low-impact\, high-intensity movements designed to strengthen and lengthen your body. Chairs will be provided for use for this class in place of ballet bars. \nAll levels welcome
URL:https://www.esplanadebytheislandslifestyle.com/event/barre-class-instructor-suzanne-76/2026-03-23/
LOCATION:Movement Studio
CATEGORIES:Fitness & Wellness
ATTACH;FMTTYPE=image/jpeg:https://www.esplanadebytheislandslifestyle.com/wp-content/uploads/sites/64/2021/09/Depositphotos_84915358_l-2015.jpg
END:VEVENT
BEGIN:VEVENT
DTSTART;TZID=America/New_York:20260316T163000
DTEND;TZID=America/New_York:20260316T173000
DTSTAMP:20260423T110505
CREATED:20251205T202302Z
LAST-MODIFIED:20251205T202302Z
UID:68818-1773678600-1773682200@www.esplanadebytheislandslifestyle.com
SUMMARY:Barre Class: Instructor- Suzanne
DESCRIPTION:Barre class is a workout technique inspired by elements of ballet\, yoga\, and Pilates. Class focuses on low-impact\, high-intensity movements designed to strengthen and lengthen your body. Chairs will be provided for use for this class in place of ballet bars. \nAll levels welcome
URL:https://www.esplanadebytheislandslifestyle.com/event/barre-class-instructor-suzanne-76/2026-03-16/
LOCATION:Movement Studio
CATEGORIES:Fitness & Wellness
ATTACH;FMTTYPE=image/jpeg:https://www.esplanadebytheislandslifestyle.com/wp-content/uploads/sites/64/2021/09/Depositphotos_84915358_l-2015.jpg
END:VEVENT
BEGIN:VEVENT
DTSTART;TZID=America/New_York:20260309T163000
DTEND;TZID=America/New_York:20260309T173000
DTSTAMP:20260423T110505
CREATED:20251205T202302Z
LAST-MODIFIED:20260307T210556Z
UID:63805-1773073800-1773077400@www.esplanadebytheislandslifestyle.com
SUMMARY:Barre Class: Instructor- Suzanne
DESCRIPTION:Barre class is a workout technique inspired by elements of ballet\, yoga\, and Pilates. Class focuses on low-impact\, high-intensity movements designed to strengthen and lengthen your body. Chairs will be provided for use for this class in place of ballet bars. \nAll levels welcome
URL:https://www.esplanadebytheislandslifestyle.com/event/barre-class-instructor-suzanne-76/2026-03-09/
LOCATION:Movement Studio
CATEGORIES:Fitness & Wellness
ATTACH;FMTTYPE=image/jpeg:https://www.esplanadebytheislandslifestyle.com/wp-content/uploads/sites/64/2021/09/Depositphotos_84915358_l-2015.jpg
END:VEVENT
END:VCALENDAR