BEGIN:VCALENDAR
VERSION:2.0
PRODID:-//Esplanade by the Islands - ECPv6.15.15//NONSGML v1.0//EN
CALSCALE:GREGORIAN
METHOD:PUBLISH
X-WR-CALNAME:Esplanade by the Islands
X-ORIGINAL-URL:https://www.esplanadebytheislandslifestyle.com
X-WR-CALDESC:Events for Esplanade by the Islands
REFRESH-INTERVAL;VALUE=DURATION:PT1H
X-Robots-Tag:noindex
X-PUBLISHED-TTL:PT1H
BEGIN:VTIMEZONE
TZID:America/New_York
BEGIN:DAYLIGHT
TZOFFSETFROM:-0500
TZOFFSETTO:-0400
TZNAME:EDT
DTSTART:20250309T070000
END:DAYLIGHT
BEGIN:STANDARD
TZOFFSETFROM:-0400
TZOFFSETTO:-0500
TZNAME:EST
DTSTART:20251102T060000
END:STANDARD
BEGIN:DAYLIGHT
TZOFFSETFROM:-0500
TZOFFSETTO:-0400
TZNAME:EDT
DTSTART:20260308T070000
END:DAYLIGHT
BEGIN:STANDARD
TZOFFSETFROM:-0400
TZOFFSETTO:-0500
TZNAME:EST
DTSTART:20261101T060000
END:STANDARD
BEGIN:DAYLIGHT
TZOFFSETFROM:-0500
TZOFFSETTO:-0400
TZNAME:EDT
DTSTART:20270314T070000
END:DAYLIGHT
BEGIN:STANDARD
TZOFFSETFROM:-0400
TZOFFSETTO:-0500
TZNAME:EST
DTSTART:20271107T060000
END:STANDARD
END:VTIMEZONE
BEGIN:VEVENT
DTSTART;TZID=America/New_York:20260416T100000
DTEND;TZID=America/New_York:20260416T140000
DTSTAMP:20260421T174132
CREATED:20260306T144310Z
LAST-MODIFIED:20260306T144310Z
UID:68425-1776333600-1776348000@www.esplanadebytheislandslifestyle.com
SUMMARY:Better Than a Bistro On Site
DESCRIPTION:Better Than A Bistro will deliver to the community everything from Signature Black Label Steaks to Wagyu to Kobe to Prime Steaks. Their seafood is Sashimi Grade from locations throughout the world. Their poultry is Antibiotic\, Hormone and Steroid-free. They have Veal Chops and Veal Cutlets\, Lamb Chops to Lollipop Lamb chops to Rack of Lamb and even Leg of lamb as well. Their desserts come from New York\, France and Italy. \nFor those who take entertaining seriously\, they will be offering a complete line of exceptional Hors d’oeuvres and Appetizers. For those who desire something they do not usually offer\, please let us know. They will reach out to their purveyors and do their very best to get it for you. \nAt Better Than A Bistro\, they strive to only purchase the highest grades in beef\, poultry and seafood. They know that once you try any of their products\, you\, your family and your guest will enjoy every meal at your dinner table. \nFeel free to browse their website here: Better Than a Bistro: Quality\, Convenience\, Affordability to Your Home
URL:https://www.esplanadebytheislandslifestyle.com/event/better-than-a-bistro-on-site-16/2026-04-16/
LOCATION:Resort Amenity Campus Parking Area
CATEGORIES:Lifestyle Activities and Events
ATTACH;FMTTYPE=image/jpeg:https://www.esplanadebytheislandslifestyle.com/wp-content/uploads/sites/64/2024/11/PackagedBeef-scaled.jpg
END:VEVENT
BEGIN:VEVENT
DTSTART;TZID=America/New_York:20260409T100000
DTEND;TZID=America/New_York:20260409T140000
DTSTAMP:20260421T174132
CREATED:20260306T144310Z
LAST-MODIFIED:20260306T144310Z
UID:68424-1775728800-1775743200@www.esplanadebytheislandslifestyle.com
SUMMARY:Better Than a Bistro On Site
DESCRIPTION:Better Than A Bistro will deliver to the community everything from Signature Black Label Steaks to Wagyu to Kobe to Prime Steaks. Their seafood is Sashimi Grade from locations throughout the world. Their poultry is Antibiotic\, Hormone and Steroid-free. They have Veal Chops and Veal Cutlets\, Lamb Chops to Lollipop Lamb chops to Rack of Lamb and even Leg of lamb as well. Their desserts come from New York\, France and Italy. \nFor those who take entertaining seriously\, they will be offering a complete line of exceptional Hors d’oeuvres and Appetizers. For those who desire something they do not usually offer\, please let us know. They will reach out to their purveyors and do their very best to get it for you. \nAt Better Than A Bistro\, they strive to only purchase the highest grades in beef\, poultry and seafood. They know that once you try any of their products\, you\, your family and your guest will enjoy every meal at your dinner table. \nFeel free to browse their website here: Better Than a Bistro: Quality\, Convenience\, Affordability to Your Home
URL:https://www.esplanadebytheislandslifestyle.com/event/better-than-a-bistro-on-site-16/2026-04-09/
LOCATION:Resort Amenity Campus Parking Area
CATEGORIES:Lifestyle Activities and Events
ATTACH;FMTTYPE=image/jpeg:https://www.esplanadebytheislandslifestyle.com/wp-content/uploads/sites/64/2024/11/PackagedBeef-scaled.jpg
END:VEVENT
BEGIN:VEVENT
DTSTART;TZID=America/New_York:20260402T100000
DTEND;TZID=America/New_York:20260402T140000
DTSTAMP:20260421T174132
CREATED:20260306T144310Z
LAST-MODIFIED:20260306T144310Z
UID:68423-1775124000-1775138400@www.esplanadebytheislandslifestyle.com
SUMMARY:Better Than a Bistro On Site
DESCRIPTION:Better Than A Bistro will deliver to the community everything from Signature Black Label Steaks to Wagyu to Kobe to Prime Steaks. Their seafood is Sashimi Grade from locations throughout the world. Their poultry is Antibiotic\, Hormone and Steroid-free. They have Veal Chops and Veal Cutlets\, Lamb Chops to Lollipop Lamb chops to Rack of Lamb and even Leg of lamb as well. Their desserts come from New York\, France and Italy. \nFor those who take entertaining seriously\, they will be offering a complete line of exceptional Hors d’oeuvres and Appetizers. For those who desire something they do not usually offer\, please let us know. They will reach out to their purveyors and do their very best to get it for you. \nAt Better Than A Bistro\, they strive to only purchase the highest grades in beef\, poultry and seafood. They know that once you try any of their products\, you\, your family and your guest will enjoy every meal at your dinner table. \nFeel free to browse their website here: Better Than a Bistro: Quality\, Convenience\, Affordability to Your Home
URL:https://www.esplanadebytheislandslifestyle.com/event/better-than-a-bistro-on-site-16/2026-04-02/
LOCATION:Resort Amenity Campus Parking Area
CATEGORIES:Lifestyle Activities and Events
ATTACH;FMTTYPE=image/jpeg:https://www.esplanadebytheislandslifestyle.com/wp-content/uploads/sites/64/2024/11/PackagedBeef-scaled.jpg
END:VEVENT
BEGIN:VEVENT
DTSTART;TZID=America/New_York:20260326T100000
DTEND;TZID=America/New_York:20260326T140000
DTSTAMP:20260421T174132
CREATED:20260306T144308Z
LAST-MODIFIED:20260306T144308Z
UID:68422-1774519200-1774533600@www.esplanadebytheislandslifestyle.com
SUMMARY:Better Than a Bistro On Site
DESCRIPTION:Better Than A Bistro will deliver to the community everything from Signature Black Label Steaks to Wagyu to Kobe to Prime Steaks. Their seafood is Sashimi Grade from locations throughout the world. Their poultry is Antibiotic\, Hormone and Steroid-free. They have Veal Chops and Veal Cutlets\, Lamb Chops to Lollipop Lamb chops to Rack of Lamb and even Leg of lamb as well. Their desserts come from New York\, France and Italy. \nFor those who take entertaining seriously\, they will be offering a complete line of exceptional Hors d’oeuvres and Appetizers. For those who desire something they do not usually offer\, please let us know. They will reach out to their purveyors and do their very best to get it for you. \nAt Better Than A Bistro\, they strive to only purchase the highest grades in beef\, poultry and seafood. They know that once you try any of their products\, you\, your family and your guest will enjoy every meal at your dinner table. \nFeel free to browse their website here: Better Than a Bistro: Quality\, Convenience\, Affordability to Your Home
URL:https://www.esplanadebytheislandslifestyle.com/event/better-than-a-bistro-on-site-16/2026-03-26/
LOCATION:Resort Amenity Campus Parking Area
CATEGORIES:Lifestyle Activities and Events
ATTACH;FMTTYPE=image/jpeg:https://www.esplanadebytheislandslifestyle.com/wp-content/uploads/sites/64/2024/11/PackagedBeef-scaled.jpg
END:VEVENT
BEGIN:VEVENT
DTSTART;TZID=America/New_York:20260319T100000
DTEND;TZID=America/New_York:20260319T140000
DTSTAMP:20260421T174132
CREATED:20260306T144308Z
LAST-MODIFIED:20260306T144308Z
UID:68421-1773914400-1773928800@www.esplanadebytheislandslifestyle.com
SUMMARY:Better Than a Bistro On Site
DESCRIPTION:Better Than A Bistro will deliver to the community everything from Signature Black Label Steaks to Wagyu to Kobe to Prime Steaks. Their seafood is Sashimi Grade from locations throughout the world. Their poultry is Antibiotic\, Hormone and Steroid-free. They have Veal Chops and Veal Cutlets\, Lamb Chops to Lollipop Lamb chops to Rack of Lamb and even Leg of lamb as well. Their desserts come from New York\, France and Italy. \nFor those who take entertaining seriously\, they will be offering a complete line of exceptional Hors d’oeuvres and Appetizers. For those who desire something they do not usually offer\, please let us know. They will reach out to their purveyors and do their very best to get it for you. \nAt Better Than A Bistro\, they strive to only purchase the highest grades in beef\, poultry and seafood. They know that once you try any of their products\, you\, your family and your guest will enjoy every meal at your dinner table. \nFeel free to browse their website here: Better Than a Bistro: Quality\, Convenience\, Affordability to Your Home
URL:https://www.esplanadebytheislandslifestyle.com/event/better-than-a-bistro-on-site-16/2026-03-19/
LOCATION:Resort Amenity Campus Parking Area
CATEGORIES:Lifestyle Activities and Events
ATTACH;FMTTYPE=image/jpeg:https://www.esplanadebytheislandslifestyle.com/wp-content/uploads/sites/64/2024/11/PackagedBeef-scaled.jpg
END:VEVENT
BEGIN:VEVENT
DTSTART;TZID=America/New_York:20260312T100000
DTEND;TZID=America/New_York:20260312T140000
DTSTAMP:20260421T174132
CREATED:20260306T144225Z
LAST-MODIFIED:20260306T144225Z
UID:68420-1773309600-1773324000@www.esplanadebytheislandslifestyle.com
SUMMARY:Better Than a Bistro On Site
DESCRIPTION:Better Than A Bistro will deliver to the community everything from Signature Black Label Steaks to Wagyu to Kobe to Prime Steaks. Their seafood is Sashimi Grade from locations throughout the world. Their poultry is Antibiotic\, Hormone and Steroid-free. They have Veal Chops and Veal Cutlets\, Lamb Chops to Lollipop Lamb chops to Rack of Lamb and even Leg of lamb as well. Their desserts come from New York\, France and Italy. \nFor those who take entertaining seriously\, they will be offering a complete line of exceptional Hors d’oeuvres and Appetizers. For those who desire something they do not usually offer\, please let us know. They will reach out to their purveyors and do their very best to get it for you. \nAt Better Than A Bistro\, they strive to only purchase the highest grades in beef\, poultry and seafood. They know that once you try any of their products\, you\, your family and your guest will enjoy every meal at your dinner table. \nFeel free to browse their website here: Better Than a Bistro: Quality\, Convenience\, Affordability to Your Home
URL:https://www.esplanadebytheislandslifestyle.com/event/better-than-a-bistro-on-site-16/2026-03-12/
LOCATION:Resort Amenity Campus Parking Area
CATEGORIES:Lifestyle Activities and Events
ATTACH;FMTTYPE=image/jpeg:https://www.esplanadebytheislandslifestyle.com/wp-content/uploads/sites/64/2024/11/PackagedBeef-scaled.jpg
END:VEVENT
END:VCALENDAR