BEGIN:VCALENDAR
VERSION:2.0
PRODID:-//Esplanade by the Islands - ECPv6.15.15//NONSGML v1.0//EN
CALSCALE:GREGORIAN
METHOD:PUBLISH
X-ORIGINAL-URL:https://www.esplanadebytheislandslifestyle.com
X-WR-CALDESC:Events for Esplanade by the Islands
REFRESH-INTERVAL;VALUE=DURATION:PT1H
X-Robots-Tag:noindex
X-PUBLISHED-TTL:PT1H
BEGIN:VTIMEZONE
TZID:America/New_York
BEGIN:DAYLIGHT
TZOFFSETFROM:-0500
TZOFFSETTO:-0400
TZNAME:EDT
DTSTART:20250309T070000
END:DAYLIGHT
BEGIN:STANDARD
TZOFFSETFROM:-0400
TZOFFSETTO:-0500
TZNAME:EST
DTSTART:20251102T060000
END:STANDARD
BEGIN:DAYLIGHT
TZOFFSETFROM:-0500
TZOFFSETTO:-0400
TZNAME:EDT
DTSTART:20260308T070000
END:DAYLIGHT
BEGIN:STANDARD
TZOFFSETFROM:-0400
TZOFFSETTO:-0500
TZNAME:EST
DTSTART:20261101T060000
END:STANDARD
BEGIN:DAYLIGHT
TZOFFSETFROM:-0500
TZOFFSETTO:-0400
TZNAME:EDT
DTSTART:20270314T070000
END:DAYLIGHT
BEGIN:STANDARD
TZOFFSETFROM:-0400
TZOFFSETTO:-0500
TZNAME:EST
DTSTART:20271107T060000
END:STANDARD
END:VTIMEZONE
BEGIN:VEVENT
DTSTART;TZID=America/New_York:20260420T160000
DTEND;TZID=America/New_York:20260420T173000
DTSTAMP:20260421T145419
CREATED:20260314T115656Z
LAST-MODIFIED:20260314T115656Z
UID:72184-1776700800-1776706200@www.esplanadebytheislandslifestyle.com
SUMMARY:Butterfly Garden Club
DESCRIPTION:A fun\, social and welcoming group that meets monthly to learn\, connect\, and meet neighbors who share an interest in nature and gardening. No prior gardening or butterfly knowledge is required. \nClub Contact: Adrian Edmonds | aedmonds622@gmail.com
URL:https://www.esplanadebytheislandslifestyle.com/event/butterfly-garden-club/2026-04-20/
LOCATION:The Venue
CATEGORIES:Clubs
END:VEVENT
BEGIN:VEVENT
DTSTART;TZID=America/New_York:20260316T130000
DTEND;TZID=America/New_York:20260316T143000
DTSTAMP:20260421T145419
CREATED:20260314T115656Z
LAST-MODIFIED:20260420T095442Z
UID:69613-1773666000-1773671400@www.esplanadebytheislandslifestyle.com
SUMMARY:Butterfly Garden Club
DESCRIPTION:A fun\, social and welcoming group that meets monthly to learn\, connect\, and meet neighbors who share an interest in nature and gardening. No prior gardening or butterfly knowledge is required. \nClub Contact: Adrian Edmonds | aedmonds622@gmail.com
URL:https://www.esplanadebytheislandslifestyle.com/event/butterfly-garden-club/2026-03-16/
LOCATION:The Venue
CATEGORIES:Clubs
END:VEVENT
END:VCALENDAR