BEGIN:VCALENDAR
VERSION:2.0
PRODID:-//Esplanade by the Islands - ECPv6.15.15//NONSGML v1.0//EN
CALSCALE:GREGORIAN
METHOD:PUBLISH
X-WR-CALNAME:Esplanade by the Islands
X-ORIGINAL-URL:https://www.esplanadebytheislandslifestyle.com
X-WR-CALDESC:Events for Esplanade by the Islands
REFRESH-INTERVAL;VALUE=DURATION:PT1H
X-Robots-Tag:noindex
X-PUBLISHED-TTL:PT1H
BEGIN:VTIMEZONE
TZID:America/New_York
BEGIN:DAYLIGHT
TZOFFSETFROM:-0500
TZOFFSETTO:-0400
TZNAME:EDT
DTSTART:20240310T070000
END:DAYLIGHT
BEGIN:STANDARD
TZOFFSETFROM:-0400
TZOFFSETTO:-0500
TZNAME:EST
DTSTART:20241103T060000
END:STANDARD
BEGIN:DAYLIGHT
TZOFFSETFROM:-0500
TZOFFSETTO:-0400
TZNAME:EDT
DTSTART:20250309T070000
END:DAYLIGHT
BEGIN:STANDARD
TZOFFSETFROM:-0400
TZOFFSETTO:-0500
TZNAME:EST
DTSTART:20251102T060000
END:STANDARD
BEGIN:DAYLIGHT
TZOFFSETFROM:-0500
TZOFFSETTO:-0400
TZNAME:EDT
DTSTART:20260308T070000
END:DAYLIGHT
BEGIN:STANDARD
TZOFFSETFROM:-0400
TZOFFSETTO:-0500
TZNAME:EST
DTSTART:20261101T060000
END:STANDARD
END:VTIMEZONE
BEGIN:VEVENT
DTSTART;TZID=America/New_York:20250430T073000
DTEND;TZID=America/New_York:20250430T083000
DTSTAMP:20260422T153623
CREATED:20250303T170830Z
LAST-MODIFIED:20250417T203753Z
UID:50687-1745998200-1746001800@www.esplanadebytheislandslifestyle.com
SUMMARY:Cardio Kickboxing: Instructor- Mike
DESCRIPTION:Jab\, kick\, and uppercut in this high- energy (contact-less) class combines martial arts techniques with fast-paced cardio for a fun workout that helps build stamina\, improve coordination and flexibility\, and burn calories as you build lean muscle. \nNo equipment or experience necessary. \nAll fitness levels welcome! 
URL:https://www.esplanadebytheislandslifestyle.com/event/cardio-kickboxing-instructor-mike-5/2025-04-30/
LOCATION:Movement Studio
CATEGORIES:Fitness & Wellness
ATTACH;FMTTYPE=image/png:https://www.esplanadebytheislandslifestyle.com/wp-content/uploads/sites/64/2023/09/WomenDanceFitness.png
END:VEVENT
BEGIN:VEVENT
DTSTART;TZID=America/New_York:20250423T073000
DTEND;TZID=America/New_York:20250423T083000
DTSTAMP:20260422T153623
CREATED:20250303T170830Z
LAST-MODIFIED:20250417T203753Z
UID:50686-1745393400-1745397000@www.esplanadebytheislandslifestyle.com
SUMMARY:Cardio Kickboxing: Instructor- Mike
DESCRIPTION:Jab\, kick\, and uppercut in this high- energy (contact-less) class combines martial arts techniques with fast-paced cardio for a fun workout that helps build stamina\, improve coordination and flexibility\, and burn calories as you build lean muscle. \nNo equipment or experience necessary. \nAll fitness levels welcome! 
URL:https://www.esplanadebytheislandslifestyle.com/event/cardio-kickboxing-instructor-mike-5/2025-04-23/
LOCATION:Movement Studio
CATEGORIES:Fitness & Wellness
ATTACH;FMTTYPE=image/png:https://www.esplanadebytheislandslifestyle.com/wp-content/uploads/sites/64/2023/09/WomenDanceFitness.png
END:VEVENT
BEGIN:VEVENT
DTSTART;TZID=America/New_York:20250416T073000
DTEND;TZID=America/New_York:20250416T083000
DTSTAMP:20260422T153623
CREATED:20250303T170830Z
LAST-MODIFIED:20250417T203752Z
UID:50685-1744788600-1744792200@www.esplanadebytheislandslifestyle.com
SUMMARY:Cardio Kickboxing: Instructor- Mike
DESCRIPTION:Jab\, kick\, and uppercut in this high- energy (contact-less) class combines martial arts techniques with fast-paced cardio for a fun workout that helps build stamina\, improve coordination and flexibility\, and burn calories as you build lean muscle. \nNo equipment or experience necessary. \nAll fitness levels welcome! 
URL:https://www.esplanadebytheislandslifestyle.com/event/cardio-kickboxing-instructor-mike-5/2025-04-16/
LOCATION:Movement Studio
CATEGORIES:Fitness & Wellness
ATTACH;FMTTYPE=image/png:https://www.esplanadebytheislandslifestyle.com/wp-content/uploads/sites/64/2023/09/WomenDanceFitness.png
END:VEVENT
BEGIN:VEVENT
DTSTART;TZID=America/New_York:20250409T073000
DTEND;TZID=America/New_York:20250409T083000
DTSTAMP:20260422T153623
CREATED:20250303T170830Z
LAST-MODIFIED:20250417T203752Z
UID:50684-1744183800-1744187400@www.esplanadebytheislandslifestyle.com
SUMMARY:Cardio Kickboxing: Instructor- Mike
DESCRIPTION:Jab\, kick\, and uppercut in this high- energy (contact-less) class combines martial arts techniques with fast-paced cardio for a fun workout that helps build stamina\, improve coordination and flexibility\, and burn calories as you build lean muscle. \nNo equipment or experience necessary. \nAll fitness levels welcome! 
URL:https://www.esplanadebytheislandslifestyle.com/event/cardio-kickboxing-instructor-mike-5/2025-04-09/
LOCATION:Movement Studio
CATEGORIES:Fitness & Wellness
ATTACH;FMTTYPE=image/png:https://www.esplanadebytheislandslifestyle.com/wp-content/uploads/sites/64/2023/09/WomenDanceFitness.png
END:VEVENT
BEGIN:VEVENT
DTSTART;TZID=America/New_York:20250402T073000
DTEND;TZID=America/New_York:20250402T083000
DTSTAMP:20260422T153623
CREATED:20250303T170830Z
LAST-MODIFIED:20250417T203752Z
UID:48759-1743579000-1743582600@www.esplanadebytheislandslifestyle.com
SUMMARY:Cardio Kickboxing: Instructor- Mike
DESCRIPTION:Jab\, kick\, and uppercut in this high- energy (contact-less) class combines martial arts techniques with fast-paced cardio for a fun workout that helps build stamina\, improve coordination and flexibility\, and burn calories as you build lean muscle. \nNo equipment or experience necessary. \nAll fitness levels welcome! 
URL:https://www.esplanadebytheislandslifestyle.com/event/cardio-kickboxing-instructor-mike-5/2025-04-02/
LOCATION:Movement Studio
CATEGORIES:Fitness & Wellness
ATTACH;FMTTYPE=image/png:https://www.esplanadebytheislandslifestyle.com/wp-content/uploads/sites/64/2023/09/WomenDanceFitness.png
END:VEVENT
END:VCALENDAR