BEGIN:VCALENDAR
VERSION:2.0
PRODID:-//Esplanade by the Islands - ECPv6.15.15//NONSGML v1.0//EN
CALSCALE:GREGORIAN
METHOD:PUBLISH
X-WR-CALNAME:Esplanade by the Islands
X-ORIGINAL-URL:https://www.esplanadebytheislandslifestyle.com
X-WR-CALDESC:Events for Esplanade by the Islands
REFRESH-INTERVAL;VALUE=DURATION:PT1H
X-Robots-Tag:noindex
X-PUBLISHED-TTL:PT1H
BEGIN:VTIMEZONE
TZID:America/New_York
BEGIN:DAYLIGHT
TZOFFSETFROM:-0500
TZOFFSETTO:-0400
TZNAME:EDT
DTSTART:20250309T070000
END:DAYLIGHT
BEGIN:STANDARD
TZOFFSETFROM:-0400
TZOFFSETTO:-0500
TZNAME:EST
DTSTART:20251102T060000
END:STANDARD
BEGIN:DAYLIGHT
TZOFFSETFROM:-0500
TZOFFSETTO:-0400
TZNAME:EDT
DTSTART:20260308T070000
END:DAYLIGHT
BEGIN:STANDARD
TZOFFSETFROM:-0400
TZOFFSETTO:-0500
TZNAME:EST
DTSTART:20261101T060000
END:STANDARD
BEGIN:DAYLIGHT
TZOFFSETFROM:-0500
TZOFFSETTO:-0400
TZNAME:EDT
DTSTART:20270314T070000
END:DAYLIGHT
BEGIN:STANDARD
TZOFFSETFROM:-0400
TZOFFSETTO:-0500
TZNAME:EST
DTSTART:20271107T060000
END:STANDARD
END:VTIMEZONE
BEGIN:VEVENT
DTSTART;TZID=America/New_York:20260416T090000
DTEND;TZID=America/New_York:20260416T100000
DTSTAMP:20260423T075835
CREATED:20250421T170527Z
LAST-MODIFIED:20250421T170527Z
UID:69058-1776330000-1776333600@www.esplanadebytheislandslifestyle.com
SUMMARY:Core & Strength - Franky
DESCRIPTION:This class is designed to build core muscle groups and improve posture. It involves performing various exercises that strengthen the abdomen and back muscles. The instructor may use different equipment\, such as free weights\, resistance bands\, and core fitness training balls\, in this great workout! 
URL:https://www.esplanadebytheislandslifestyle.com/event/core-more-instructor-tatiana-2/2026-04-16/
LOCATION:Movement Studio
CATEGORIES:Fitness & Wellness
ATTACH;FMTTYPE=image/jpeg:https://www.esplanadebytheislandslifestyle.com/wp-content/uploads/sites/64/2026/02/Group-Fit.jpg
END:VEVENT
BEGIN:VEVENT
DTSTART;TZID=America/New_York:20260409T090000
DTEND;TZID=America/New_York:20260409T100000
DTSTAMP:20260423T075835
CREATED:20250421T170527Z
LAST-MODIFIED:20250421T170527Z
UID:69057-1775725200-1775728800@www.esplanadebytheislandslifestyle.com
SUMMARY:Core & Strength - Franky
DESCRIPTION:This class is designed to build core muscle groups and improve posture. It involves performing various exercises that strengthen the abdomen and back muscles. The instructor may use different equipment\, such as free weights\, resistance bands\, and core fitness training balls\, in this great workout! 
URL:https://www.esplanadebytheislandslifestyle.com/event/core-more-instructor-tatiana-2/2026-04-09/
LOCATION:Movement Studio
CATEGORIES:Fitness & Wellness
ATTACH;FMTTYPE=image/jpeg:https://www.esplanadebytheislandslifestyle.com/wp-content/uploads/sites/64/2026/02/Group-Fit.jpg
END:VEVENT
BEGIN:VEVENT
DTSTART;TZID=America/New_York:20260402T090000
DTEND;TZID=America/New_York:20260402T100000
DTSTAMP:20260423T075835
CREATED:20250421T170527Z
LAST-MODIFIED:20250421T170527Z
UID:69056-1775120400-1775124000@www.esplanadebytheislandslifestyle.com
SUMMARY:Core & Strength - Franky
DESCRIPTION:This class is designed to build core muscle groups and improve posture. It involves performing various exercises that strengthen the abdomen and back muscles. The instructor may use different equipment\, such as free weights\, resistance bands\, and core fitness training balls\, in this great workout! 
URL:https://www.esplanadebytheislandslifestyle.com/event/core-more-instructor-tatiana-2/2026-04-02/
LOCATION:Movement Studio
CATEGORIES:Fitness & Wellness
ATTACH;FMTTYPE=image/jpeg:https://www.esplanadebytheislandslifestyle.com/wp-content/uploads/sites/64/2026/02/Group-Fit.jpg
END:VEVENT
BEGIN:VEVENT
DTSTART;TZID=America/New_York:20260326T090000
DTEND;TZID=America/New_York:20260326T100000
DTSTAMP:20260423T075835
CREATED:20250421T170527Z
LAST-MODIFIED:20250421T170527Z
UID:69055-1774515600-1774519200@www.esplanadebytheislandslifestyle.com
SUMMARY:Core & Strength - Franky
DESCRIPTION:This class is designed to build core muscle groups and improve posture. It involves performing various exercises that strengthen the abdomen and back muscles. The instructor may use different equipment\, such as free weights\, resistance bands\, and core fitness training balls\, in this great workout! 
URL:https://www.esplanadebytheislandslifestyle.com/event/core-more-instructor-tatiana-2/2026-03-26/
LOCATION:Movement Studio
CATEGORIES:Fitness & Wellness
ATTACH;FMTTYPE=image/jpeg:https://www.esplanadebytheislandslifestyle.com/wp-content/uploads/sites/64/2026/02/Group-Fit.jpg
END:VEVENT
BEGIN:VEVENT
DTSTART;TZID=America/New_York:20260319T090000
DTEND;TZID=America/New_York:20260319T100000
DTSTAMP:20260423T075835
CREATED:20250421T170527Z
LAST-MODIFIED:20250421T170527Z
UID:69054-1773910800-1773914400@www.esplanadebytheislandslifestyle.com
SUMMARY:Core & Strength - Franky
DESCRIPTION:This class is designed to build core muscle groups and improve posture. It involves performing various exercises that strengthen the abdomen and back muscles. The instructor may use different equipment\, such as free weights\, resistance bands\, and core fitness training balls\, in this great workout! 
URL:https://www.esplanadebytheislandslifestyle.com/event/core-more-instructor-tatiana-2/2026-03-19/
LOCATION:Movement Studio
CATEGORIES:Fitness & Wellness
ATTACH;FMTTYPE=image/jpeg:https://www.esplanadebytheislandslifestyle.com/wp-content/uploads/sites/64/2026/02/Group-Fit.jpg
END:VEVENT
BEGIN:VEVENT
DTSTART;TZID=America/New_York:20260312T090000
DTEND;TZID=America/New_York:20260312T100000
DTSTAMP:20260423T075835
CREATED:20250421T170527Z
LAST-MODIFIED:20260308T005610Z
UID:53905-1773306000-1773309600@www.esplanadebytheislandslifestyle.com
SUMMARY:Core & Strength - Franky
DESCRIPTION:This class is designed to build core muscle groups and improve posture. It involves performing various exercises that strengthen the abdomen and back muscles. The instructor may use different equipment\, such as free weights\, resistance bands\, and core fitness training balls\, in this great workout! 
URL:https://www.esplanadebytheislandslifestyle.com/event/core-more-instructor-tatiana-2/2026-03-12/
LOCATION:Movement Studio
CATEGORIES:Fitness & Wellness
ATTACH;FMTTYPE=image/jpeg:https://www.esplanadebytheislandslifestyle.com/wp-content/uploads/sites/64/2026/02/Group-Fit.jpg
END:VEVENT
END:VCALENDAR