BEGIN:VCALENDAR
VERSION:2.0
PRODID:-//Esplanade by the Islands - ECPv6.15.15//NONSGML v1.0//EN
CALSCALE:GREGORIAN
METHOD:PUBLISH
X-WR-CALNAME:Esplanade by the Islands
X-ORIGINAL-URL:https://www.esplanadebytheislandslifestyle.com
X-WR-CALDESC:Events for Esplanade by the Islands
REFRESH-INTERVAL;VALUE=DURATION:PT1H
X-Robots-Tag:noindex
X-PUBLISHED-TTL:PT1H
BEGIN:VTIMEZONE
TZID:America/New_York
BEGIN:DAYLIGHT
TZOFFSETFROM:-0500
TZOFFSETTO:-0400
TZNAME:EDT
DTSTART:20250309T070000
END:DAYLIGHT
BEGIN:STANDARD
TZOFFSETFROM:-0400
TZOFFSETTO:-0500
TZNAME:EST
DTSTART:20251102T060000
END:STANDARD
BEGIN:DAYLIGHT
TZOFFSETFROM:-0500
TZOFFSETTO:-0400
TZNAME:EDT
DTSTART:20260308T070000
END:DAYLIGHT
BEGIN:STANDARD
TZOFFSETFROM:-0400
TZOFFSETTO:-0500
TZNAME:EST
DTSTART:20261101T060000
END:STANDARD
BEGIN:DAYLIGHT
TZOFFSETFROM:-0500
TZOFFSETTO:-0400
TZNAME:EDT
DTSTART:20270314T070000
END:DAYLIGHT
BEGIN:STANDARD
TZOFFSETFROM:-0400
TZOFFSETTO:-0500
TZNAME:EST
DTSTART:20271107T060000
END:STANDARD
END:VTIMEZONE
BEGIN:VEVENT
DTSTART;TZID=America/New_York:20260423T090000
DTEND;TZID=America/New_York:20260423T100000
DTSTAMP:20260422T231605
CREATED:20250421T170527Z
LAST-MODIFIED:20250421T170527Z
UID:69059-1776934800-1776938400@www.esplanadebytheislandslifestyle.com
SUMMARY:Core & Strength - Franky
DESCRIPTION:This class is designed to build core muscle groups and improve posture. It involves performing various exercises that strengthen the abdomen and back muscles. The instructor may use different equipment\, such as free weights\, resistance bands\, and core fitness training balls\, in this great workout! 
URL:https://www.esplanadebytheislandslifestyle.com/event/core-more-instructor-tatiana-2/2026-04-23/
LOCATION:Movement Studio
CATEGORIES:Fitness & Wellness
ATTACH;FMTTYPE=image/jpeg:https://www.esplanadebytheislandslifestyle.com/wp-content/uploads/sites/64/2026/02/Group-Fit.jpg
END:VEVENT
BEGIN:VEVENT
DTSTART;TZID=America/New_York:20260430T090000
DTEND;TZID=America/New_York:20260430T100000
DTSTAMP:20260422T231605
CREATED:20250421T170527Z
LAST-MODIFIED:20250421T170527Z
UID:69060-1777539600-1777543200@www.esplanadebytheislandslifestyle.com
SUMMARY:Core & Strength - Franky
DESCRIPTION:This class is designed to build core muscle groups and improve posture. It involves performing various exercises that strengthen the abdomen and back muscles. The instructor may use different equipment\, such as free weights\, resistance bands\, and core fitness training balls\, in this great workout! 
URL:https://www.esplanadebytheislandslifestyle.com/event/core-more-instructor-tatiana-2/2026-04-30/
LOCATION:Movement Studio
CATEGORIES:Fitness & Wellness
ATTACH;FMTTYPE=image/jpeg:https://www.esplanadebytheislandslifestyle.com/wp-content/uploads/sites/64/2026/02/Group-Fit.jpg
END:VEVENT
BEGIN:VEVENT
DTSTART;TZID=America/New_York:20260507T090000
DTEND;TZID=America/New_York:20260507T100000
DTSTAMP:20260422T231605
CREATED:20250421T170527Z
LAST-MODIFIED:20250421T170527Z
UID:69061-1778144400-1778148000@www.esplanadebytheislandslifestyle.com
SUMMARY:Core & Strength - Franky
DESCRIPTION:This class is designed to build core muscle groups and improve posture. It involves performing various exercises that strengthen the abdomen and back muscles. The instructor may use different equipment\, such as free weights\, resistance bands\, and core fitness training balls\, in this great workout! 
URL:https://www.esplanadebytheislandslifestyle.com/event/core-more-instructor-tatiana-2/2026-05-07/
LOCATION:Movement Studio
CATEGORIES:Fitness & Wellness
ATTACH;FMTTYPE=image/jpeg:https://www.esplanadebytheislandslifestyle.com/wp-content/uploads/sites/64/2026/02/Group-Fit.jpg
END:VEVENT
BEGIN:VEVENT
DTSTART;TZID=America/New_York:20260514T090000
DTEND;TZID=America/New_York:20260514T100000
DTSTAMP:20260422T231605
CREATED:20250421T170527Z
LAST-MODIFIED:20250421T170527Z
UID:69062-1778749200-1778752800@www.esplanadebytheislandslifestyle.com
SUMMARY:Core & Strength - Franky
DESCRIPTION:This class is designed to build core muscle groups and improve posture. It involves performing various exercises that strengthen the abdomen and back muscles. The instructor may use different equipment\, such as free weights\, resistance bands\, and core fitness training balls\, in this great workout! 
URL:https://www.esplanadebytheislandslifestyle.com/event/core-more-instructor-tatiana-2/2026-05-14/
LOCATION:Movement Studio
CATEGORIES:Fitness & Wellness
ATTACH;FMTTYPE=image/jpeg:https://www.esplanadebytheislandslifestyle.com/wp-content/uploads/sites/64/2026/02/Group-Fit.jpg
END:VEVENT
BEGIN:VEVENT
DTSTART;TZID=America/New_York:20260521T090000
DTEND;TZID=America/New_York:20260521T100000
DTSTAMP:20260422T231605
CREATED:20250421T170527Z
LAST-MODIFIED:20250421T170527Z
UID:69063-1779354000-1779357600@www.esplanadebytheislandslifestyle.com
SUMMARY:Core & Strength - Franky
DESCRIPTION:This class is designed to build core muscle groups and improve posture. It involves performing various exercises that strengthen the abdomen and back muscles. The instructor may use different equipment\, such as free weights\, resistance bands\, and core fitness training balls\, in this great workout! 
URL:https://www.esplanadebytheislandslifestyle.com/event/core-more-instructor-tatiana-2/2026-05-21/
LOCATION:Movement Studio
CATEGORIES:Fitness & Wellness
ATTACH;FMTTYPE=image/jpeg:https://www.esplanadebytheislandslifestyle.com/wp-content/uploads/sites/64/2026/02/Group-Fit.jpg
END:VEVENT
BEGIN:VEVENT
DTSTART;TZID=America/New_York:20260528T090000
DTEND;TZID=America/New_York:20260528T100000
DTSTAMP:20260422T231605
CREATED:20250421T170527Z
LAST-MODIFIED:20250421T170527Z
UID:69065-1779958800-1779962400@www.esplanadebytheislandslifestyle.com
SUMMARY:Core & Strength - Franky
DESCRIPTION:This class is designed to build core muscle groups and improve posture. It involves performing various exercises that strengthen the abdomen and back muscles. The instructor may use different equipment\, such as free weights\, resistance bands\, and core fitness training balls\, in this great workout! 
URL:https://www.esplanadebytheislandslifestyle.com/event/core-more-instructor-tatiana-2/2026-05-28/
LOCATION:Movement Studio
CATEGORIES:Fitness & Wellness
ATTACH;FMTTYPE=image/jpeg:https://www.esplanadebytheislandslifestyle.com/wp-content/uploads/sites/64/2026/02/Group-Fit.jpg
END:VEVENT
END:VCALENDAR