BEGIN:VCALENDAR
VERSION:2.0
PRODID:-//Esplanade by the Islands - ECPv6.15.15//NONSGML v1.0//EN
CALSCALE:GREGORIAN
METHOD:PUBLISH
X-WR-CALNAME:Esplanade by the Islands
X-ORIGINAL-URL:https://www.esplanadebytheislandslifestyle.com
X-WR-CALDESC:Events for Esplanade by the Islands
REFRESH-INTERVAL;VALUE=DURATION:PT1H
X-Robots-Tag:noindex
X-PUBLISHED-TTL:PT1H
BEGIN:VTIMEZONE
TZID:America/New_York
BEGIN:DAYLIGHT
TZOFFSETFROM:-0500
TZOFFSETTO:-0400
TZNAME:EDT
DTSTART:20240310T070000
END:DAYLIGHT
BEGIN:STANDARD
TZOFFSETFROM:-0400
TZOFFSETTO:-0500
TZNAME:EST
DTSTART:20241103T060000
END:STANDARD
BEGIN:DAYLIGHT
TZOFFSETFROM:-0500
TZOFFSETTO:-0400
TZNAME:EDT
DTSTART:20250309T070000
END:DAYLIGHT
BEGIN:STANDARD
TZOFFSETFROM:-0400
TZOFFSETTO:-0500
TZNAME:EST
DTSTART:20251102T060000
END:STANDARD
BEGIN:DAYLIGHT
TZOFFSETFROM:-0500
TZOFFSETTO:-0400
TZNAME:EDT
DTSTART:20260308T070000
END:DAYLIGHT
BEGIN:STANDARD
TZOFFSETFROM:-0400
TZOFFSETTO:-0500
TZNAME:EST
DTSTART:20261101T060000
END:STANDARD
END:VTIMEZONE
BEGIN:VEVENT
DTSTART;TZID=America/New_York:20250424T110000
DTEND;TZID=America/New_York:20250424T120000
DTSTAMP:20260422T000844
CREATED:20250303T181140Z
LAST-MODIFIED:20250417T210154Z
UID:48801-1745492400-1745496000@www.esplanadebytheislandslifestyle.com
SUMMARY:Discover Wellness Equipment Orientation
DESCRIPTION:Discover a personalized approach to wellness in our orientation with Technogym.  Gain insights into tailored fitness programming\, goal setting\, and a comprehensive overview of our facilities. Our state-of-the-art Fitness Center fully has Technogym equipment that syncs to your smartphone. \nLearn about the Technogym app and receive personalized coaching\, over 1000 workouts\, and monitoring of your activities and lifestyle. Click the button below to register for our Discover Wellness technology. Whether you’re a beginner or looking to refine your routine\, this session ensures you start your wellness journey with knowledge and confidence. \n *Please note: an orientation is not a personal training session. Space is limited for each session to enhance the Member experience.
URL:https://www.esplanadebytheislandslifestyle.com/event/discover-wellness-equipment-orientation-19/2025-04-24/
LOCATION:Wellness Center
CATEGORIES:Fitness & Wellness
ATTACH;FMTTYPE=image/jpeg:https://www.esplanadebytheislandslifestyle.com/wp-content/uploads/sites/64/2024/09/TechnoGym-2.jpg
END:VEVENT
BEGIN:VEVENT
DTSTART;TZID=America/New_York:20250417T110000
DTEND;TZID=America/New_York:20250417T120000
DTSTAMP:20260422T000844
CREATED:20250303T181140Z
LAST-MODIFIED:20250417T210153Z
UID:48800-1744887600-1744891200@www.esplanadebytheislandslifestyle.com
SUMMARY:Discover Wellness Equipment Orientation
DESCRIPTION:Discover a personalized approach to wellness in our orientation with Technogym.  Gain insights into tailored fitness programming\, goal setting\, and a comprehensive overview of our facilities. Our state-of-the-art Fitness Center fully has Technogym equipment that syncs to your smartphone. \nLearn about the Technogym app and receive personalized coaching\, over 1000 workouts\, and monitoring of your activities and lifestyle. Click the button below to register for our Discover Wellness technology. Whether you’re a beginner or looking to refine your routine\, this session ensures you start your wellness journey with knowledge and confidence. \n *Please note: an orientation is not a personal training session. Space is limited for each session to enhance the Member experience.
URL:https://www.esplanadebytheislandslifestyle.com/event/discover-wellness-equipment-orientation-19/2025-04-17/
LOCATION:Wellness Center
CATEGORIES:Fitness & Wellness
ATTACH;FMTTYPE=image/jpeg:https://www.esplanadebytheislandslifestyle.com/wp-content/uploads/sites/64/2024/09/TechnoGym-2.jpg
END:VEVENT
BEGIN:VEVENT
DTSTART;TZID=America/New_York:20250410T110000
DTEND;TZID=America/New_York:20250410T120000
DTSTAMP:20260422T000844
CREATED:20250303T181140Z
LAST-MODIFIED:20250417T210153Z
UID:48799-1744282800-1744286400@www.esplanadebytheislandslifestyle.com
SUMMARY:Discover Wellness Equipment Orientation
DESCRIPTION:Discover a personalized approach to wellness in our orientation with Technogym.  Gain insights into tailored fitness programming\, goal setting\, and a comprehensive overview of our facilities. Our state-of-the-art Fitness Center fully has Technogym equipment that syncs to your smartphone. \nLearn about the Technogym app and receive personalized coaching\, over 1000 workouts\, and monitoring of your activities and lifestyle. Click the button below to register for our Discover Wellness technology. Whether you’re a beginner or looking to refine your routine\, this session ensures you start your wellness journey with knowledge and confidence. \n *Please note: an orientation is not a personal training session. Space is limited for each session to enhance the Member experience.
URL:https://www.esplanadebytheislandslifestyle.com/event/discover-wellness-equipment-orientation-19/2025-04-10/
LOCATION:Wellness Center
CATEGORIES:Fitness & Wellness
ATTACH;FMTTYPE=image/jpeg:https://www.esplanadebytheislandslifestyle.com/wp-content/uploads/sites/64/2024/09/TechnoGym-2.jpg
END:VEVENT
BEGIN:VEVENT
DTSTART;TZID=America/New_York:20250403T110000
DTEND;TZID=America/New_York:20250403T120000
DTSTAMP:20260422T000844
CREATED:20250303T181140Z
LAST-MODIFIED:20250417T210153Z
UID:48796-1743678000-1743681600@www.esplanadebytheislandslifestyle.com
SUMMARY:Discover Wellness Equipment Orientation
DESCRIPTION:Discover a personalized approach to wellness in our orientation with Technogym.  Gain insights into tailored fitness programming\, goal setting\, and a comprehensive overview of our facilities. Our state-of-the-art Fitness Center fully has Technogym equipment that syncs to your smartphone. \nLearn about the Technogym app and receive personalized coaching\, over 1000 workouts\, and monitoring of your activities and lifestyle. Click the button below to register for our Discover Wellness technology. Whether you’re a beginner or looking to refine your routine\, this session ensures you start your wellness journey with knowledge and confidence. \n *Please note: an orientation is not a personal training session. Space is limited for each session to enhance the Member experience.
URL:https://www.esplanadebytheislandslifestyle.com/event/discover-wellness-equipment-orientation-19/2025-04-03/
LOCATION:Wellness Center
CATEGORIES:Fitness & Wellness
ATTACH;FMTTYPE=image/jpeg:https://www.esplanadebytheislandslifestyle.com/wp-content/uploads/sites/64/2024/09/TechnoGym-2.jpg
END:VEVENT
END:VCALENDAR