BEGIN:VCALENDAR
VERSION:2.0
PRODID:-//Esplanade by the Islands - ECPv6.15.15//NONSGML v1.0//EN
CALSCALE:GREGORIAN
METHOD:PUBLISH
X-WR-CALNAME:Esplanade by the Islands
X-ORIGINAL-URL:https://www.esplanadebytheislandslifestyle.com
X-WR-CALDESC:Events for Esplanade by the Islands
REFRESH-INTERVAL;VALUE=DURATION:PT1H
X-Robots-Tag:noindex
X-PUBLISHED-TTL:PT1H
BEGIN:VTIMEZONE
TZID:America/New_York
BEGIN:DAYLIGHT
TZOFFSETFROM:-0500
TZOFFSETTO:-0400
TZNAME:EDT
DTSTART:20240310T070000
END:DAYLIGHT
BEGIN:STANDARD
TZOFFSETFROM:-0400
TZOFFSETTO:-0500
TZNAME:EST
DTSTART:20241103T060000
END:STANDARD
BEGIN:DAYLIGHT
TZOFFSETFROM:-0500
TZOFFSETTO:-0400
TZNAME:EDT
DTSTART:20250309T070000
END:DAYLIGHT
BEGIN:STANDARD
TZOFFSETFROM:-0400
TZOFFSETTO:-0500
TZNAME:EST
DTSTART:20251102T060000
END:STANDARD
BEGIN:DAYLIGHT
TZOFFSETFROM:-0500
TZOFFSETTO:-0400
TZNAME:EDT
DTSTART:20260308T070000
END:DAYLIGHT
BEGIN:STANDARD
TZOFFSETFROM:-0400
TZOFFSETTO:-0500
TZNAME:EST
DTSTART:20261101T060000
END:STANDARD
BEGIN:DAYLIGHT
TZOFFSETFROM:-0500
TZOFFSETTO:-0400
TZNAME:EDT
DTSTART:20270314T070000
END:DAYLIGHT
BEGIN:STANDARD
TZOFFSETFROM:-0400
TZOFFSETTO:-0500
TZNAME:EST
DTSTART:20271107T060000
END:STANDARD
END:VTIMEZONE
BEGIN:VEVENT
DTSTART;TZID=America/New_York:20260407T090000
DTEND;TZID=America/New_York:20260407T120000
DTSTAMP:20260422T014940
CREATED:20251109T234658Z
LAST-MODIFIED:20260108T233029Z
UID:61938-1775552400-1775563200@www.esplanadebytheislandslifestyle.com
SUMMARY:Fresh Farmers Market Tuesday
DESCRIPTION:Monthly Fresh Farmers Market \nEsplanade by the Islands will host a Fresh Produce Market every first Tuesday of the month during season from 9:00 AM to 12:00 PM. \nLocated at the Resort Amenity Campus parking area. \nStop by each week to shop locally sourced\, fresh picked produce right here in the community. \nWe look forward to seeing you!
URL:https://www.esplanadebytheislandslifestyle.com/event/fresh-farmers-market-tuesday-2025-12-02/2026-04-07/
CATEGORIES:Lifestyle Activities and Events
ATTACH;FMTTYPE=image/jpeg:https://www.esplanadebytheislandslifestyle.com/wp-content/uploads/sites/64/2025/11/Apples-1.jpg
END:VEVENT
BEGIN:VEVENT
DTSTART;TZID=America/New_York:20260203T090000
DTEND;TZID=America/New_York:20260203T120000
DTSTAMP:20260422T014940
CREATED:20251109T234658Z
LAST-MODIFIED:20260108T233020Z
UID:61929-1770109200-1770120000@www.esplanadebytheislandslifestyle.com
SUMMARY:Fresh Farmers Market Tuesday
DESCRIPTION:Monthly Fresh Farmers Market \nEsplanade by the Islands will host a Fresh Produce Market every first Tuesday of the month during season from 9:00 AM to 12:00 PM. \nLocated at the Resort Amenity Campus parking area. \nStop by each week to shop locally sourced\, fresh picked produce right here in the community. \nWe look forward to seeing you!
URL:https://www.esplanadebytheislandslifestyle.com/event/fresh-farmers-market-tuesday-2025-12-02/2026-02-03/
CATEGORIES:Lifestyle Activities and Events
ATTACH;FMTTYPE=image/jpeg:https://www.esplanadebytheislandslifestyle.com/wp-content/uploads/sites/64/2025/11/Apples-1.jpg
END:VEVENT
BEGIN:VEVENT
DTSTART;TZID=America/New_York:20260106T090000
DTEND;TZID=America/New_York:20260106T120000
DTSTAMP:20260422T014940
CREATED:20251109T234658Z
LAST-MODIFIED:20260108T233019Z
UID:61925-1767690000-1767700800@www.esplanadebytheislandslifestyle.com
SUMMARY:Fresh Farmers Market Tuesday
DESCRIPTION:Monthly Fresh Farmers Market \nEsplanade by the Islands will host a Fresh Produce Market every first Tuesday of the month during season from 9:00 AM to 12:00 PM. \nLocated at the Resort Amenity Campus parking area. \nStop by each week to shop locally sourced\, fresh picked produce right here in the community. \nWe look forward to seeing you!
URL:https://www.esplanadebytheislandslifestyle.com/event/fresh-farmers-market-tuesday-2025-12-02/2026-01-06/
CATEGORIES:Lifestyle Activities and Events
ATTACH;FMTTYPE=image/jpeg:https://www.esplanadebytheislandslifestyle.com/wp-content/uploads/sites/64/2025/11/Apples-1.jpg
END:VEVENT
BEGIN:VEVENT
DTSTART;TZID=America/New_York:20251230T090000
DTEND;TZID=America/New_York:20251230T120000
DTSTAMP:20260422T014940
CREATED:20251109T234658Z
LAST-MODIFIED:20260108T233019Z
UID:61924-1767085200-1767096000@www.esplanadebytheislandslifestyle.com
SUMMARY:Fresh Farmers Market Tuesday
DESCRIPTION:Monthly Fresh Farmers Market \nEsplanade by the Islands will host a Fresh Produce Market every first Tuesday of the month during season from 9:00 AM to 12:00 PM. \nLocated at the Resort Amenity Campus parking area. \nStop by each week to shop locally sourced\, fresh picked produce right here in the community. \nWe look forward to seeing you!
URL:https://www.esplanadebytheislandslifestyle.com/event/fresh-farmers-market-tuesday-2025-12-02/2025-12-30/
CATEGORIES:Lifestyle Activities and Events
ATTACH;FMTTYPE=image/jpeg:https://www.esplanadebytheislandslifestyle.com/wp-content/uploads/sites/64/2025/11/Apples-1.jpg
END:VEVENT
BEGIN:VEVENT
DTSTART;TZID=America/New_York:20251223T090000
DTEND;TZID=America/New_York:20251223T120000
DTSTAMP:20260422T014940
CREATED:20251109T234658Z
LAST-MODIFIED:20260108T233019Z
UID:61923-1766480400-1766491200@www.esplanadebytheislandslifestyle.com
SUMMARY:Fresh Farmers Market Tuesday
DESCRIPTION:Monthly Fresh Farmers Market \nEsplanade by the Islands will host a Fresh Produce Market every first Tuesday of the month during season from 9:00 AM to 12:00 PM. \nLocated at the Resort Amenity Campus parking area. \nStop by each week to shop locally sourced\, fresh picked produce right here in the community. \nWe look forward to seeing you!
URL:https://www.esplanadebytheislandslifestyle.com/event/fresh-farmers-market-tuesday-2025-12-02/2025-12-23/
CATEGORIES:Lifestyle Activities and Events
ATTACH;FMTTYPE=image/jpeg:https://www.esplanadebytheislandslifestyle.com/wp-content/uploads/sites/64/2025/11/Apples-1.jpg
END:VEVENT
BEGIN:VEVENT
DTSTART;TZID=America/New_York:20251216T090000
DTEND;TZID=America/New_York:20251216T120000
DTSTAMP:20260422T014940
CREATED:20251109T234658Z
LAST-MODIFIED:20260108T233019Z
UID:61922-1765875600-1765886400@www.esplanadebytheislandslifestyle.com
SUMMARY:Fresh Farmers Market Tuesday
DESCRIPTION:Monthly Fresh Farmers Market \nEsplanade by the Islands will host a Fresh Produce Market every first Tuesday of the month during season from 9:00 AM to 12:00 PM. \nLocated at the Resort Amenity Campus parking area. \nStop by each week to shop locally sourced\, fresh picked produce right here in the community. \nWe look forward to seeing you!
URL:https://www.esplanadebytheislandslifestyle.com/event/fresh-farmers-market-tuesday-2025-12-02/2025-12-16/
CATEGORIES:Lifestyle Activities and Events
ATTACH;FMTTYPE=image/jpeg:https://www.esplanadebytheislandslifestyle.com/wp-content/uploads/sites/64/2025/11/Apples-1.jpg
END:VEVENT
BEGIN:VEVENT
DTSTART;TZID=America/New_York:20251209T090000
DTEND;TZID=America/New_York:20251209T120000
DTSTAMP:20260422T014940
CREATED:20251109T234658Z
LAST-MODIFIED:20260108T233018Z
UID:61921-1765270800-1765281600@www.esplanadebytheislandslifestyle.com
SUMMARY:Fresh Farmers Market Tuesday
DESCRIPTION:Monthly Fresh Farmers Market \nEsplanade by the Islands will host a Fresh Produce Market every first Tuesday of the month during season from 9:00 AM to 12:00 PM. \nLocated at the Resort Amenity Campus parking area. \nStop by each week to shop locally sourced\, fresh picked produce right here in the community. \nWe look forward to seeing you!
URL:https://www.esplanadebytheislandslifestyle.com/event/fresh-farmers-market-tuesday-2025-12-02/2025-12-09/
CATEGORIES:Lifestyle Activities and Events
ATTACH;FMTTYPE=image/jpeg:https://www.esplanadebytheislandslifestyle.com/wp-content/uploads/sites/64/2025/11/Apples-1.jpg
END:VEVENT
BEGIN:VEVENT
DTSTART;TZID=America/New_York:20251202T090000
DTEND;TZID=America/New_York:20251202T120000
DTSTAMP:20260422T014940
CREATED:20251109T234658Z
LAST-MODIFIED:20260108T233018Z
UID:61920-1764666000-1764676800@www.esplanadebytheislandslifestyle.com
SUMMARY:Fresh Farmers Market Tuesday
DESCRIPTION:Monthly Fresh Farmers Market \nEsplanade by the Islands will host a Fresh Produce Market every first Tuesday of the month during season from 9:00 AM to 12:00 PM. \nLocated at the Resort Amenity Campus parking area. \nStop by each week to shop locally sourced\, fresh picked produce right here in the community. \nWe look forward to seeing you!
URL:https://www.esplanadebytheislandslifestyle.com/event/fresh-farmers-market-tuesday-2025-12-02/2025-12-02/
CATEGORIES:Lifestyle Activities and Events
ATTACH;FMTTYPE=image/jpeg:https://www.esplanadebytheislandslifestyle.com/wp-content/uploads/sites/64/2025/11/Apples-1.jpg
END:VEVENT
END:VCALENDAR