BEGIN:VCALENDAR
VERSION:2.0
PRODID:-//Esplanade by the Islands - ECPv6.15.15//NONSGML v1.0//EN
CALSCALE:GREGORIAN
METHOD:PUBLISH
X-WR-CALNAME:Esplanade by the Islands
X-ORIGINAL-URL:https://www.esplanadebytheislandslifestyle.com
X-WR-CALDESC:Events for Esplanade by the Islands
REFRESH-INTERVAL;VALUE=DURATION:PT1H
X-Robots-Tag:noindex
X-PUBLISHED-TTL:PT1H
BEGIN:VTIMEZONE
TZID:America/New_York
BEGIN:DAYLIGHT
TZOFFSETFROM:-0500
TZOFFSETTO:-0400
TZNAME:EDT
DTSTART:20240310T070000
END:DAYLIGHT
BEGIN:STANDARD
TZOFFSETFROM:-0400
TZOFFSETTO:-0500
TZNAME:EST
DTSTART:20241103T060000
END:STANDARD
BEGIN:DAYLIGHT
TZOFFSETFROM:-0500
TZOFFSETTO:-0400
TZNAME:EDT
DTSTART:20250309T070000
END:DAYLIGHT
BEGIN:STANDARD
TZOFFSETFROM:-0400
TZOFFSETTO:-0500
TZNAME:EST
DTSTART:20251102T060000
END:STANDARD
BEGIN:DAYLIGHT
TZOFFSETFROM:-0500
TZOFFSETTO:-0400
TZNAME:EDT
DTSTART:20260308T070000
END:DAYLIGHT
BEGIN:STANDARD
TZOFFSETFROM:-0400
TZOFFSETTO:-0500
TZNAME:EST
DTSTART:20261101T060000
END:STANDARD
END:VTIMEZONE
BEGIN:VEVENT
DTSTART;TZID=America/New_York:20250425T103000
DTEND;TZID=America/New_York:20250425T113000
DTSTAMP:20260422T222948
CREATED:20250415T163828Z
LAST-MODIFIED:20250418T152319Z
UID:52839-1745577000-1745580600@www.esplanadebytheislandslifestyle.com
SUMMARY:Functional Fitness: Instructor- Tatiana
DESCRIPTION:Whatever you like to do… walk\, run\, play tennis\, golf\, swim\, lift weights\, pickleball\, etc.\, Functional Fitness will help make these activities safer\, so you can play and do what you love for a long time. Combining easy-to-perform strength & and stretch exercises\, you will understand different body positions that avoid injury\, help you be more efficient\, and achieve lasting pain relief. By creating better movement patterns each day\, you will have the tools to move confidently.  \n 
URL:https://www.esplanadebytheislandslifestyle.com/event/functional-fitness-instructor-tatiana/2025-04-25/
LOCATION:Resort Amenity Center- Movement Studio
CATEGORIES:Fitness & Wellness
ATTACH;FMTTYPE=image/jpeg:https://www.esplanadebytheislandslifestyle.com/wp-content/uploads/sites/64/2023/09/Yoga2.jpg
END:VEVENT
BEGIN:VEVENT
DTSTART;TZID=America/New_York:20250419T103000
DTEND;TZID=America/New_York:20250419T113000
DTSTAMP:20260422T222948
CREATED:20250415T163828Z
LAST-MODIFIED:20250418T152319Z
UID:52808-1745058600-1745062200@www.esplanadebytheislandslifestyle.com
SUMMARY:Functional Fitness: Instructor- Tatiana
DESCRIPTION:Whatever you like to do… walk\, run\, play tennis\, golf\, swim\, lift weights\, pickleball\, etc.\, Functional Fitness will help make these activities safer\, so you can play and do what you love for a long time. Combining easy-to-perform strength & and stretch exercises\, you will understand different body positions that avoid injury\, help you be more efficient\, and achieve lasting pain relief. By creating better movement patterns each day\, you will have the tools to move confidently.  \n 
URL:https://www.esplanadebytheislandslifestyle.com/event/functional-fitness-instructor-tatiana/2025-04-19/
LOCATION:Resort Amenity Center- Movement Studio
CATEGORIES:Fitness & Wellness
ATTACH;FMTTYPE=image/jpeg:https://www.esplanadebytheislandslifestyle.com/wp-content/uploads/sites/64/2023/09/Yoga2.jpg
END:VEVENT
END:VCALENDAR