BEGIN:VCALENDAR
VERSION:2.0
PRODID:-//Esplanade by the Islands - ECPv6.15.15//NONSGML v1.0//EN
CALSCALE:GREGORIAN
METHOD:PUBLISH
X-WR-CALNAME:Esplanade by the Islands
X-ORIGINAL-URL:https://www.esplanadebytheislandslifestyle.com
X-WR-CALDESC:Events for Esplanade by the Islands
REFRESH-INTERVAL;VALUE=DURATION:PT1H
X-Robots-Tag:noindex
X-PUBLISHED-TTL:PT1H
BEGIN:VTIMEZONE
TZID:America/New_York
BEGIN:DAYLIGHT
TZOFFSETFROM:-0500
TZOFFSETTO:-0400
TZNAME:EDT
DTSTART:20240310T070000
END:DAYLIGHT
BEGIN:STANDARD
TZOFFSETFROM:-0400
TZOFFSETTO:-0500
TZNAME:EST
DTSTART:20241103T060000
END:STANDARD
BEGIN:DAYLIGHT
TZOFFSETFROM:-0500
TZOFFSETTO:-0400
TZNAME:EDT
DTSTART:20250309T070000
END:DAYLIGHT
BEGIN:STANDARD
TZOFFSETFROM:-0400
TZOFFSETTO:-0500
TZNAME:EST
DTSTART:20251102T060000
END:STANDARD
BEGIN:DAYLIGHT
TZOFFSETFROM:-0500
TZOFFSETTO:-0400
TZNAME:EDT
DTSTART:20260308T070000
END:DAYLIGHT
BEGIN:STANDARD
TZOFFSETFROM:-0400
TZOFFSETTO:-0500
TZNAME:EST
DTSTART:20261101T060000
END:STANDARD
END:VTIMEZONE
BEGIN:VEVENT
DTSTART;TZID=America/New_York:20250425T113000
DTEND;TZID=America/New_York:20250425T123000
DTSTAMP:20260423T001257
CREATED:20250415T172133Z
LAST-MODIFIED:20250418T151936Z
UID:52900-1745580600-1745584200@www.esplanadebytheislandslifestyle.com
SUMMARY:Glutes - Max: Instructor- Tatiana
DESCRIPTION:Get ready to tone\, lift\, and sculpt your backside in our Glutes-Max Workout Class! This high-intensity session is designed to specifically target and maximize the strength and shape of your glutes. Using a combination of resistance bands\, free weights\, and bodyweight exercises\, you’ll engage in a series of dynamic movements to activate and challenge your glute muscles from all angles. Our certified instructors will guide you through various exercises\, ensuring proper form and technique to optimize results and minimize the risk of injury. Expect a challenging and rewarding workout that will leave you feeling empowered and one step closer to achieving your booty goals. Suitable for all fitness levels\, modifications will be provided to accommodate beginners to advanced participants.  
URL:https://www.esplanadebytheislandslifestyle.com/event/glutes-max-instructor-tatiana-17/2025-04-25/
LOCATION:Resort Amenity Center- Movement Studio
CATEGORIES:Fitness & Wellness
ATTACH;FMTTYPE=image/png:https://www.esplanadebytheislandslifestyle.com/wp-content/uploads/sites/64/2025/01/AthleticGroup.png
END:VEVENT
BEGIN:VEVENT
DTSTART;TZID=America/New_York:20250418T113000
DTEND;TZID=America/New_York:20250418T123000
DTSTAMP:20260423T001257
CREATED:20250415T172133Z
LAST-MODIFIED:20250418T151936Z
UID:52895-1744975800-1744979400@www.esplanadebytheislandslifestyle.com
SUMMARY:Glutes - Max: Instructor- Tatiana
DESCRIPTION:Get ready to tone\, lift\, and sculpt your backside in our Glutes-Max Workout Class! This high-intensity session is designed to specifically target and maximize the strength and shape of your glutes. Using a combination of resistance bands\, free weights\, and bodyweight exercises\, you’ll engage in a series of dynamic movements to activate and challenge your glute muscles from all angles. Our certified instructors will guide you through various exercises\, ensuring proper form and technique to optimize results and minimize the risk of injury. Expect a challenging and rewarding workout that will leave you feeling empowered and one step closer to achieving your booty goals. Suitable for all fitness levels\, modifications will be provided to accommodate beginners to advanced participants.  
URL:https://www.esplanadebytheislandslifestyle.com/event/glutes-max-instructor-tatiana-17/2025-04-18/
LOCATION:Resort Amenity Center- Movement Studio
CATEGORIES:Fitness & Wellness
ATTACH;FMTTYPE=image/png:https://www.esplanadebytheislandslifestyle.com/wp-content/uploads/sites/64/2025/01/AthleticGroup.png
END:VEVENT
END:VCALENDAR