BEGIN:VCALENDAR
VERSION:2.0
PRODID:-//Esplanade by the Islands - ECPv6.15.15//NONSGML v1.0//EN
CALSCALE:GREGORIAN
METHOD:PUBLISH
X-ORIGINAL-URL:https://www.esplanadebytheislandslifestyle.com
X-WR-CALDESC:Events for Esplanade by the Islands
REFRESH-INTERVAL;VALUE=DURATION:PT1H
X-Robots-Tag:noindex
X-PUBLISHED-TTL:PT1H
BEGIN:VTIMEZONE
TZID:America/New_York
BEGIN:DAYLIGHT
TZOFFSETFROM:-0500
TZOFFSETTO:-0400
TZNAME:EDT
DTSTART:20240310T070000
END:DAYLIGHT
BEGIN:STANDARD
TZOFFSETFROM:-0400
TZOFFSETTO:-0500
TZNAME:EST
DTSTART:20241103T060000
END:STANDARD
BEGIN:DAYLIGHT
TZOFFSETFROM:-0500
TZOFFSETTO:-0400
TZNAME:EDT
DTSTART:20250309T070000
END:DAYLIGHT
BEGIN:STANDARD
TZOFFSETFROM:-0400
TZOFFSETTO:-0500
TZNAME:EST
DTSTART:20251102T060000
END:STANDARD
BEGIN:DAYLIGHT
TZOFFSETFROM:-0500
TZOFFSETTO:-0400
TZNAME:EDT
DTSTART:20260308T070000
END:DAYLIGHT
BEGIN:STANDARD
TZOFFSETFROM:-0400
TZOFFSETTO:-0500
TZNAME:EST
DTSTART:20261101T060000
END:STANDARD
END:VTIMEZONE
BEGIN:VEVENT
DTSTART;TZID=America/New_York:20250428T093000
DTEND;TZID=America/New_York:20250428T103000
DTSTAMP:20260422T122643
CREATED:20250303T155829Z
LAST-MODIFIED:20250417T202231Z
UID:48615-1745832600-1745836200@www.esplanadebytheislandslifestyle.com
SUMMARY:H.I.I.T. Instructor- Tatiana
DESCRIPTION:Higher Intensity Interval Training \nStrength and cardio all in one- enjoy varying intervals of intense cardio and strength exercises\, paired with active recovery and fun music.
URL:https://www.esplanadebytheislandslifestyle.com/event/h-i-i-t-instructor-tatiana-9/2025-04-28/
LOCATION:Resort Amenity Center- Movement Studio
CATEGORIES:Fitness & Wellness
ATTACH;FMTTYPE=image/jpeg:https://www.esplanadebytheislandslifestyle.com/wp-content/uploads/sites/64/2025/01/gym-pic.jpg
END:VEVENT
BEGIN:VEVENT
DTSTART;TZID=America/New_York:20250421T093000
DTEND;TZID=America/New_York:20250421T103000
DTSTAMP:20260422T122643
CREATED:20250303T155829Z
LAST-MODIFIED:20250417T202231Z
UID:48614-1745227800-1745231400@www.esplanadebytheislandslifestyle.com
SUMMARY:H.I.I.T. Instructor- Tatiana
DESCRIPTION:Higher Intensity Interval Training \nStrength and cardio all in one- enjoy varying intervals of intense cardio and strength exercises\, paired with active recovery and fun music.
URL:https://www.esplanadebytheislandslifestyle.com/event/h-i-i-t-instructor-tatiana-9/2025-04-21/
LOCATION:Resort Amenity Center- Movement Studio
CATEGORIES:Fitness & Wellness
ATTACH;FMTTYPE=image/jpeg:https://www.esplanadebytheislandslifestyle.com/wp-content/uploads/sites/64/2025/01/gym-pic.jpg
END:VEVENT
BEGIN:VEVENT
DTSTART;TZID=America/New_York:20250414T093000
DTEND;TZID=America/New_York:20250414T103000
DTSTAMP:20260422T122643
CREATED:20250303T155829Z
LAST-MODIFIED:20250417T202230Z
UID:48613-1744623000-1744626600@www.esplanadebytheislandslifestyle.com
SUMMARY:H.I.I.T. Instructor- Tatiana
DESCRIPTION:Higher Intensity Interval Training \nStrength and cardio all in one- enjoy varying intervals of intense cardio and strength exercises\, paired with active recovery and fun music.
URL:https://www.esplanadebytheislandslifestyle.com/event/h-i-i-t-instructor-tatiana-9/2025-04-14/
LOCATION:Resort Amenity Center- Movement Studio
CATEGORIES:Fitness & Wellness
ATTACH;FMTTYPE=image/jpeg:https://www.esplanadebytheislandslifestyle.com/wp-content/uploads/sites/64/2025/01/gym-pic.jpg
END:VEVENT
BEGIN:VEVENT
DTSTART;TZID=America/New_York:20250407T093000
DTEND;TZID=America/New_York:20250407T103000
DTSTAMP:20260422T122643
CREATED:20250303T155829Z
LAST-MODIFIED:20250417T202230Z
UID:48610-1744018200-1744021800@www.esplanadebytheislandslifestyle.com
SUMMARY:H.I.I.T. Instructor- Tatiana
DESCRIPTION:Higher Intensity Interval Training \nStrength and cardio all in one- enjoy varying intervals of intense cardio and strength exercises\, paired with active recovery and fun music.
URL:https://www.esplanadebytheislandslifestyle.com/event/h-i-i-t-instructor-tatiana-9/2025-04-07/
LOCATION:Resort Amenity Center- Movement Studio
CATEGORIES:Fitness & Wellness
ATTACH;FMTTYPE=image/jpeg:https://www.esplanadebytheislandslifestyle.com/wp-content/uploads/sites/64/2025/01/gym-pic.jpg
END:VEVENT
END:VCALENDAR