BEGIN:VCALENDAR
VERSION:2.0
PRODID:-//Esplanade by the Islands - ECPv6.15.15//NONSGML v1.0//EN
CALSCALE:GREGORIAN
METHOD:PUBLISH
X-ORIGINAL-URL:https://www.esplanadebytheislandslifestyle.com
X-WR-CALDESC:Events for Esplanade by the Islands
REFRESH-INTERVAL;VALUE=DURATION:PT1H
X-Robots-Tag:noindex
X-PUBLISHED-TTL:PT1H
BEGIN:VTIMEZONE
TZID:America/New_York
BEGIN:DAYLIGHT
TZOFFSETFROM:-0500
TZOFFSETTO:-0400
TZNAME:EDT
DTSTART:20240310T070000
END:DAYLIGHT
BEGIN:STANDARD
TZOFFSETFROM:-0400
TZOFFSETTO:-0500
TZNAME:EST
DTSTART:20241103T060000
END:STANDARD
BEGIN:DAYLIGHT
TZOFFSETFROM:-0500
TZOFFSETTO:-0400
TZNAME:EDT
DTSTART:20250309T070000
END:DAYLIGHT
BEGIN:STANDARD
TZOFFSETFROM:-0400
TZOFFSETTO:-0500
TZNAME:EST
DTSTART:20251102T060000
END:STANDARD
BEGIN:DAYLIGHT
TZOFFSETFROM:-0500
TZOFFSETTO:-0400
TZNAME:EDT
DTSTART:20260308T070000
END:DAYLIGHT
BEGIN:STANDARD
TZOFFSETFROM:-0400
TZOFFSETTO:-0500
TZNAME:EST
DTSTART:20261101T060000
END:STANDARD
END:VTIMEZONE
BEGIN:VEVENT
DTSTART;TZID=America/New_York:20251113T150000
DTEND;TZID=America/New_York:20251113T170000
DTSTAMP:20260422T201507
CREATED:20251108T034341Z
LAST-MODIFIED:20251110T000504Z
UID:61799-1763046000-1763053200@www.esplanadebytheislandslifestyle.com
SUMMARY:Happy Hour
DESCRIPTION:Welcome to Happy Hour\n3 PM | 5 PM Wednesday\, November 12\n3 PM | 5 PM Thursday\, November 13   \nKick back\, unwind\, and treat yourself. Enjoy $1.00 off all beers\, $2.00 off all mixed drinks and $2.00 off all wines paired with a tempting chef selected menu of light bites — perfect for sipping and snacking with friends. \nCome join the fun and be happy!
URL:https://www.esplanadebytheislandslifestyle.com/event/happy-hour-2/2025-11-13/
LOCATION:Bahama Bar\, 15450 Bella Tesoro Street\, Naples\, FL\, 34114\, United States
CATEGORIES:Lifestyle Activities and Events
ATTACH;FMTTYPE=image/jpeg:https://www.esplanadebytheislandslifestyle.com/wp-content/uploads/sites/64/2025/11/Margaritas-1-scaled.jpg
END:VEVENT
BEGIN:VEVENT
DTSTART;TZID=America/New_York:20251112T150000
DTEND;TZID=America/New_York:20251112T170000
DTSTAMP:20260422T201507
CREATED:20251108T034341Z
LAST-MODIFIED:20251110T000504Z
UID:61795-1762959600-1762966800@www.esplanadebytheislandslifestyle.com
SUMMARY:Happy Hour
DESCRIPTION:Welcome to Happy Hour\n3 PM | 5 PM Wednesday\, November 12\n3 PM | 5 PM Thursday\, November 13   \nKick back\, unwind\, and treat yourself. Enjoy $1.00 off all beers\, $2.00 off all mixed drinks and $2.00 off all wines paired with a tempting chef selected menu of light bites — perfect for sipping and snacking with friends. \nCome join the fun and be happy!
URL:https://www.esplanadebytheislandslifestyle.com/event/happy-hour-2/2025-11-12/
LOCATION:Bahama Bar\, 15450 Bella Tesoro Street\, Naples\, FL\, 34114\, United States
CATEGORIES:Lifestyle Activities and Events
ATTACH;FMTTYPE=image/jpeg:https://www.esplanadebytheislandslifestyle.com/wp-content/uploads/sites/64/2025/11/Margaritas-1-scaled.jpg
END:VEVENT
END:VCALENDAR