BEGIN:VCALENDAR
VERSION:2.0
PRODID:-//Esplanade by the Islands - ECPv6.15.15//NONSGML v1.0//EN
CALSCALE:GREGORIAN
METHOD:PUBLISH
X-WR-CALNAME:Esplanade by the Islands
X-ORIGINAL-URL:https://www.esplanadebytheislandslifestyle.com
X-WR-CALDESC:Events for Esplanade by the Islands
REFRESH-INTERVAL;VALUE=DURATION:PT1H
X-Robots-Tag:noindex
X-PUBLISHED-TTL:PT1H
BEGIN:VTIMEZONE
TZID:America/New_York
BEGIN:DAYLIGHT
TZOFFSETFROM:-0500
TZOFFSETTO:-0400
TZNAME:EDT
DTSTART:20250309T070000
END:DAYLIGHT
BEGIN:STANDARD
TZOFFSETFROM:-0400
TZOFFSETTO:-0500
TZNAME:EST
DTSTART:20251102T060000
END:STANDARD
BEGIN:DAYLIGHT
TZOFFSETFROM:-0500
TZOFFSETTO:-0400
TZNAME:EDT
DTSTART:20260308T070000
END:DAYLIGHT
BEGIN:STANDARD
TZOFFSETFROM:-0400
TZOFFSETTO:-0500
TZNAME:EST
DTSTART:20261101T060000
END:STANDARD
BEGIN:DAYLIGHT
TZOFFSETFROM:-0500
TZOFFSETTO:-0400
TZNAME:EDT
DTSTART:20270314T070000
END:DAYLIGHT
BEGIN:STANDARD
TZOFFSETFROM:-0400
TZOFFSETTO:-0500
TZNAME:EST
DTSTART:20271107T060000
END:STANDARD
END:VTIMEZONE
BEGIN:VEVENT
DTSTART;TZID=America/New_York:20260219T110000
DTEND;TZID=America/New_York:20260219T120000
DTSTAMP:20260422T020108
CREATED:20260203T032846Z
LAST-MODIFIED:20260212T155336Z
UID:65751-1771498800-1771502400@www.esplanadebytheislandslifestyle.com
SUMMARY:Let's Celebrate the Grand Opening of The Venue 4000!
DESCRIPTION:We’re thrilled to welcome you to a truly monumental moment — the grand opening of The Venue 4000! \nCome be part of the excitement as we officially open the doors with a ceremonial ribbon cutting\, a sparkling champagne toast\, vibrant live music\, raffles\, delicious breakfast bites\, an open house\, and more! \nThis milestone belongs to our entire community\, and we can’t wait to celebrate it with the Members who make Esplanade feel like home.
URL:https://www.esplanadebytheislandslifestyle.com/event/lets-celebrate-the-grand-opening-of-the-venue-4000/2026-02-19/
LOCATION:Resort Amenity Campus\, 15450 Bella Tesoro Street\, Naples\, 34114\, United States
CATEGORIES:Lifestyle Activities and Events
ATTACH;FMTTYPE=image/png:https://www.esplanadebytheislandslifestyle.com/wp-content/uploads/sites/64/2026/02/Venue-4000.png
END:VEVENT
END:VCALENDAR