BEGIN:VCALENDAR
VERSION:2.0
PRODID:-//Esplanade by the Islands - ECPv6.15.15//NONSGML v1.0//EN
CALSCALE:GREGORIAN
METHOD:PUBLISH
X-WR-CALNAME:Esplanade by the Islands
X-ORIGINAL-URL:https://www.esplanadebytheislandslifestyle.com
X-WR-CALDESC:Events for Esplanade by the Islands
REFRESH-INTERVAL;VALUE=DURATION:PT1H
X-Robots-Tag:noindex
X-PUBLISHED-TTL:PT1H
BEGIN:VTIMEZONE
TZID:America/New_York
BEGIN:DAYLIGHT
TZOFFSETFROM:-0500
TZOFFSETTO:-0400
TZNAME:EDT
DTSTART:20250309T070000
END:DAYLIGHT
BEGIN:STANDARD
TZOFFSETFROM:-0400
TZOFFSETTO:-0500
TZNAME:EST
DTSTART:20251102T060000
END:STANDARD
BEGIN:DAYLIGHT
TZOFFSETFROM:-0500
TZOFFSETTO:-0400
TZNAME:EDT
DTSTART:20260308T070000
END:DAYLIGHT
BEGIN:STANDARD
TZOFFSETFROM:-0400
TZOFFSETTO:-0500
TZNAME:EST
DTSTART:20261101T060000
END:STANDARD
BEGIN:DAYLIGHT
TZOFFSETFROM:-0500
TZOFFSETTO:-0400
TZNAME:EDT
DTSTART:20270314T070000
END:DAYLIGHT
BEGIN:STANDARD
TZOFFSETFROM:-0400
TZOFFSETTO:-0500
TZNAME:EST
DTSTART:20271107T060000
END:STANDARD
END:VTIMEZONE
BEGIN:VEVENT
DTSTART;TZID=America/New_York:20260424T070000
DTEND;TZID=America/New_York:20260424T080000
DTSTAMP:20260423T101932
CREATED:20260308T010557Z
LAST-MODIFIED:20260308T010557Z
UID:69074-1777014000-1777017600@www.esplanadebytheislandslifestyle.com
SUMMARY:Lower Body Strength with Weights - Franky
DESCRIPTION:Strengthen and tone your glutes\, quads\, hamstrings\, and calves using a variety of weighted exercises such as squats\, lunges\, and deadlifts. Modifications are provided\, making this class suitable for all fitness levels.
URL:https://www.esplanadebytheislandslifestyle.com/event/lower-body-strength-with-weights-franky/2026-04-24/
LOCATION:Movement Studio
CATEGORIES:Fitness & Wellness
ATTACH;FMTTYPE=image/jpeg:https://www.esplanadebytheislandslifestyle.com/wp-content/uploads/sites/64/2026/03/weights-2.jpg
END:VEVENT
BEGIN:VEVENT
DTSTART;TZID=America/New_York:20260501T070000
DTEND;TZID=America/New_York:20260501T080000
DTSTAMP:20260423T101932
CREATED:20260308T010557Z
LAST-MODIFIED:20260308T010557Z
UID:69075-1777618800-1777622400@www.esplanadebytheislandslifestyle.com
SUMMARY:Lower Body Strength with Weights - Franky
DESCRIPTION:Strengthen and tone your glutes\, quads\, hamstrings\, and calves using a variety of weighted exercises such as squats\, lunges\, and deadlifts. Modifications are provided\, making this class suitable for all fitness levels.
URL:https://www.esplanadebytheislandslifestyle.com/event/lower-body-strength-with-weights-franky/2026-05-01/
LOCATION:Movement Studio
CATEGORIES:Fitness & Wellness
ATTACH;FMTTYPE=image/jpeg:https://www.esplanadebytheislandslifestyle.com/wp-content/uploads/sites/64/2026/03/weights-2.jpg
END:VEVENT
BEGIN:VEVENT
DTSTART;TZID=America/New_York:20260508T070000
DTEND;TZID=America/New_York:20260508T080000
DTSTAMP:20260423T101932
CREATED:20260308T010557Z
LAST-MODIFIED:20260308T010557Z
UID:69076-1778223600-1778227200@www.esplanadebytheislandslifestyle.com
SUMMARY:Lower Body Strength with Weights - Franky
DESCRIPTION:Strengthen and tone your glutes\, quads\, hamstrings\, and calves using a variety of weighted exercises such as squats\, lunges\, and deadlifts. Modifications are provided\, making this class suitable for all fitness levels.
URL:https://www.esplanadebytheislandslifestyle.com/event/lower-body-strength-with-weights-franky/2026-05-08/
LOCATION:Movement Studio
CATEGORIES:Fitness & Wellness
ATTACH;FMTTYPE=image/jpeg:https://www.esplanadebytheislandslifestyle.com/wp-content/uploads/sites/64/2026/03/weights-2.jpg
END:VEVENT
BEGIN:VEVENT
DTSTART;TZID=America/New_York:20260515T070000
DTEND;TZID=America/New_York:20260515T080000
DTSTAMP:20260423T101932
CREATED:20260308T010557Z
LAST-MODIFIED:20260308T010557Z
UID:69077-1778828400-1778832000@www.esplanadebytheislandslifestyle.com
SUMMARY:Lower Body Strength with Weights - Franky
DESCRIPTION:Strengthen and tone your glutes\, quads\, hamstrings\, and calves using a variety of weighted exercises such as squats\, lunges\, and deadlifts. Modifications are provided\, making this class suitable for all fitness levels.
URL:https://www.esplanadebytheislandslifestyle.com/event/lower-body-strength-with-weights-franky/2026-05-15/
LOCATION:Movement Studio
CATEGORIES:Fitness & Wellness
ATTACH;FMTTYPE=image/jpeg:https://www.esplanadebytheislandslifestyle.com/wp-content/uploads/sites/64/2026/03/weights-2.jpg
END:VEVENT
BEGIN:VEVENT
DTSTART;TZID=America/New_York:20260522T070000
DTEND;TZID=America/New_York:20260522T080000
DTSTAMP:20260423T101932
CREATED:20260308T010557Z
LAST-MODIFIED:20260308T010557Z
UID:69078-1779433200-1779436800@www.esplanadebytheislandslifestyle.com
SUMMARY:Lower Body Strength with Weights - Franky
DESCRIPTION:Strengthen and tone your glutes\, quads\, hamstrings\, and calves using a variety of weighted exercises such as squats\, lunges\, and deadlifts. Modifications are provided\, making this class suitable for all fitness levels.
URL:https://www.esplanadebytheislandslifestyle.com/event/lower-body-strength-with-weights-franky/2026-05-22/
LOCATION:Movement Studio
CATEGORIES:Fitness & Wellness
ATTACH;FMTTYPE=image/jpeg:https://www.esplanadebytheislandslifestyle.com/wp-content/uploads/sites/64/2026/03/weights-2.jpg
END:VEVENT
BEGIN:VEVENT
DTSTART;TZID=America/New_York:20260529T070000
DTEND;TZID=America/New_York:20260529T080000
DTSTAMP:20260423T101932
CREATED:20260308T010557Z
LAST-MODIFIED:20260308T010557Z
UID:69079-1780038000-1780041600@www.esplanadebytheislandslifestyle.com
SUMMARY:Lower Body Strength with Weights - Franky
DESCRIPTION:Strengthen and tone your glutes\, quads\, hamstrings\, and calves using a variety of weighted exercises such as squats\, lunges\, and deadlifts. Modifications are provided\, making this class suitable for all fitness levels.
URL:https://www.esplanadebytheislandslifestyle.com/event/lower-body-strength-with-weights-franky/2026-05-29/
LOCATION:Movement Studio
CATEGORIES:Fitness & Wellness
ATTACH;FMTTYPE=image/jpeg:https://www.esplanadebytheislandslifestyle.com/wp-content/uploads/sites/64/2026/03/weights-2.jpg
END:VEVENT
END:VCALENDAR