BEGIN:VCALENDAR
VERSION:2.0
PRODID:-//Esplanade by the Islands - ECPv6.15.15//NONSGML v1.0//EN
CALSCALE:GREGORIAN
METHOD:PUBLISH
X-WR-CALNAME:Esplanade by the Islands
X-ORIGINAL-URL:https://www.esplanadebytheislandslifestyle.com
X-WR-CALDESC:Events for Esplanade by the Islands
REFRESH-INTERVAL;VALUE=DURATION:PT1H
X-Robots-Tag:noindex
X-PUBLISHED-TTL:PT1H
BEGIN:VTIMEZONE
TZID:America/New_York
BEGIN:DAYLIGHT
TZOFFSETFROM:-0500
TZOFFSETTO:-0400
TZNAME:EDT
DTSTART:20250309T070000
END:DAYLIGHT
BEGIN:STANDARD
TZOFFSETFROM:-0400
TZOFFSETTO:-0500
TZNAME:EST
DTSTART:20251102T060000
END:STANDARD
BEGIN:DAYLIGHT
TZOFFSETFROM:-0500
TZOFFSETTO:-0400
TZNAME:EDT
DTSTART:20260308T070000
END:DAYLIGHT
BEGIN:STANDARD
TZOFFSETFROM:-0400
TZOFFSETTO:-0500
TZNAME:EST
DTSTART:20261101T060000
END:STANDARD
BEGIN:DAYLIGHT
TZOFFSETFROM:-0500
TZOFFSETTO:-0400
TZNAME:EDT
DTSTART:20270314T070000
END:DAYLIGHT
BEGIN:STANDARD
TZOFFSETFROM:-0400
TZOFFSETTO:-0500
TZNAME:EST
DTSTART:20271107T060000
END:STANDARD
END:VTIMEZONE
BEGIN:VEVENT
DTSTART;TZID=America/New_York:20260429T093000
DTEND;TZID=America/New_York:20260429T103000
DTSTAMP:20260422T204045
CREATED:20251205T172629Z
LAST-MODIFIED:20251205T172629Z
UID:69806-1777455000-1777458600@www.esplanadebytheislandslifestyle.com
SUMMARY:Sculpt Yoga: Instructor - Silvia
DESCRIPTION:Sculpt Yoga is a dynamic fusion of yoga\, strength training\, and cardio designed to build endurance\, enhance mobility\, and leave you feeling strong and energized. Using light weights and mindful movement\, this class will challenge your muscles while improving balance and flexibility. \nAll fitness and yoga experience levels welcome!
URL:https://www.esplanadebytheislandslifestyle.com/event/sculpt-yoga-instructor-silvia-13/2026-04-29/
LOCATION:Movement Studio
CATEGORIES:Fitness & Wellness
ATTACH;FMTTYPE=image/jpeg:https://www.esplanadebytheislandslifestyle.com/wp-content/uploads/sites/64/2024/09/Pilates.jpg
END:VEVENT
BEGIN:VEVENT
DTSTART;TZID=America/New_York:20260506T093000
DTEND;TZID=America/New_York:20260506T103000
DTSTAMP:20260422T204045
CREATED:20251205T172629Z
LAST-MODIFIED:20251205T172629Z
UID:69807-1778059800-1778063400@www.esplanadebytheislandslifestyle.com
SUMMARY:Sculpt Yoga: Instructor - Silvia
DESCRIPTION:Sculpt Yoga is a dynamic fusion of yoga\, strength training\, and cardio designed to build endurance\, enhance mobility\, and leave you feeling strong and energized. Using light weights and mindful movement\, this class will challenge your muscles while improving balance and flexibility. \nAll fitness and yoga experience levels welcome!
URL:https://www.esplanadebytheislandslifestyle.com/event/sculpt-yoga-instructor-silvia-13/2026-05-06/
LOCATION:Movement Studio
CATEGORIES:Fitness & Wellness
ATTACH;FMTTYPE=image/jpeg:https://www.esplanadebytheislandslifestyle.com/wp-content/uploads/sites/64/2024/09/Pilates.jpg
END:VEVENT
BEGIN:VEVENT
DTSTART;TZID=America/New_York:20260513T093000
DTEND;TZID=America/New_York:20260513T103000
DTSTAMP:20260422T204045
CREATED:20251205T172629Z
LAST-MODIFIED:20251205T172629Z
UID:69808-1778664600-1778668200@www.esplanadebytheislandslifestyle.com
SUMMARY:Sculpt Yoga: Instructor - Silvia
DESCRIPTION:Sculpt Yoga is a dynamic fusion of yoga\, strength training\, and cardio designed to build endurance\, enhance mobility\, and leave you feeling strong and energized. Using light weights and mindful movement\, this class will challenge your muscles while improving balance and flexibility. \nAll fitness and yoga experience levels welcome!
URL:https://www.esplanadebytheislandslifestyle.com/event/sculpt-yoga-instructor-silvia-13/2026-05-13/
LOCATION:Movement Studio
CATEGORIES:Fitness & Wellness
ATTACH;FMTTYPE=image/jpeg:https://www.esplanadebytheislandslifestyle.com/wp-content/uploads/sites/64/2024/09/Pilates.jpg
END:VEVENT
BEGIN:VEVENT
DTSTART;TZID=America/New_York:20260520T093000
DTEND;TZID=America/New_York:20260520T103000
DTSTAMP:20260422T204045
CREATED:20251205T172629Z
LAST-MODIFIED:20251205T172629Z
UID:69809-1779269400-1779273000@www.esplanadebytheislandslifestyle.com
SUMMARY:Sculpt Yoga: Instructor - Silvia
DESCRIPTION:Sculpt Yoga is a dynamic fusion of yoga\, strength training\, and cardio designed to build endurance\, enhance mobility\, and leave you feeling strong and energized. Using light weights and mindful movement\, this class will challenge your muscles while improving balance and flexibility. \nAll fitness and yoga experience levels welcome!
URL:https://www.esplanadebytheislandslifestyle.com/event/sculpt-yoga-instructor-silvia-13/2026-05-20/
LOCATION:Movement Studio
CATEGORIES:Fitness & Wellness
ATTACH;FMTTYPE=image/jpeg:https://www.esplanadebytheislandslifestyle.com/wp-content/uploads/sites/64/2024/09/Pilates.jpg
END:VEVENT
END:VCALENDAR