BEGIN:VCALENDAR
VERSION:2.0
PRODID:-//Esplanade by the Islands - ECPv6.15.15//NONSGML v1.0//EN
CALSCALE:GREGORIAN
METHOD:PUBLISH
X-ORIGINAL-URL:https://www.esplanadebytheislandslifestyle.com
X-WR-CALDESC:Events for Esplanade by the Islands
REFRESH-INTERVAL;VALUE=DURATION:PT1H
X-Robots-Tag:noindex
X-PUBLISHED-TTL:PT1H
BEGIN:VTIMEZONE
TZID:America/New_York
BEGIN:DAYLIGHT
TZOFFSETFROM:-0500
TZOFFSETTO:-0400
TZNAME:EDT
DTSTART:20250309T070000
END:DAYLIGHT
BEGIN:STANDARD
TZOFFSETFROM:-0400
TZOFFSETTO:-0500
TZNAME:EST
DTSTART:20251102T060000
END:STANDARD
BEGIN:DAYLIGHT
TZOFFSETFROM:-0500
TZOFFSETTO:-0400
TZNAME:EDT
DTSTART:20260308T070000
END:DAYLIGHT
BEGIN:STANDARD
TZOFFSETFROM:-0400
TZOFFSETTO:-0500
TZNAME:EST
DTSTART:20261101T060000
END:STANDARD
BEGIN:DAYLIGHT
TZOFFSETFROM:-0500
TZOFFSETTO:-0400
TZNAME:EDT
DTSTART:20270314T070000
END:DAYLIGHT
BEGIN:STANDARD
TZOFFSETFROM:-0400
TZOFFSETTO:-0500
TZNAME:EST
DTSTART:20271107T060000
END:STANDARD
END:VTIMEZONE
BEGIN:VEVENT
DTSTART;TZID=America/New_York:20260424T073000
DTEND;TZID=America/New_York:20260424T093000
DTSTAMP:20260421T075330
CREATED:20260326T145107Z
LAST-MODIFIED:20260326T145107Z
UID:71988-1777015800-1777023000@www.esplanadebytheislandslifestyle.com
SUMMARY:Spring Sunrise Bike Ride
DESCRIPTION:Join us for a fun and relaxing member-led bike ride! This is a great opportunity to enjoy the outdoors\, meet neighbors\, and get some exercise in a friendly\, social setting. All ages and skill levels are welcome. Whether you’re a seasoned cyclist or just looking for a casual ride\, this event is about connection and fun. Join us at the Venue after the ride for snacks and light-hearted conversation with your neighbors and fellow cycling enthusiasts.
URL:https://www.esplanadebytheislandslifestyle.com/event/spring-sunrise-bike-ride/2026-04-24/
LOCATION:The Venue
CATEGORIES:Lifestyle Activities and Events
ATTACH;FMTTYPE=image/jpeg:https://www.esplanadebytheislandslifestyle.com/wp-content/uploads/sites/64/2024/07/CoupleOnBikes.jpg
END:VEVENT
END:VCALENDAR