BEGIN:VCALENDAR
VERSION:2.0
PRODID:-//Esplanade by the Islands - ECPv6.15.15//NONSGML v1.0//EN
CALSCALE:GREGORIAN
METHOD:PUBLISH
X-ORIGINAL-URL:https://www.esplanadebytheislandslifestyle.com
X-WR-CALDESC:Events for Esplanade by the Islands
REFRESH-INTERVAL;VALUE=DURATION:PT1H
X-Robots-Tag:noindex
X-PUBLISHED-TTL:PT1H
BEGIN:VTIMEZONE
TZID:America/New_York
BEGIN:DAYLIGHT
TZOFFSETFROM:-0500
TZOFFSETTO:-0400
TZNAME:EDT
DTSTART:20240310T070000
END:DAYLIGHT
BEGIN:STANDARD
TZOFFSETFROM:-0400
TZOFFSETTO:-0500
TZNAME:EST
DTSTART:20241103T060000
END:STANDARD
BEGIN:DAYLIGHT
TZOFFSETFROM:-0500
TZOFFSETTO:-0400
TZNAME:EDT
DTSTART:20250309T070000
END:DAYLIGHT
BEGIN:STANDARD
TZOFFSETFROM:-0400
TZOFFSETTO:-0500
TZNAME:EST
DTSTART:20251102T060000
END:STANDARD
BEGIN:DAYLIGHT
TZOFFSETFROM:-0500
TZOFFSETTO:-0400
TZNAME:EDT
DTSTART:20260308T070000
END:DAYLIGHT
BEGIN:STANDARD
TZOFFSETFROM:-0400
TZOFFSETTO:-0500
TZNAME:EST
DTSTART:20261101T060000
END:STANDARD
END:VTIMEZONE
BEGIN:VEVENT
DTSTART;TZID=America/New_York:20250425T090000
DTEND;TZID=America/New_York:20250425T100000
DTSTAMP:20260422T174735
CREATED:20250415T165002Z
LAST-MODIFIED:20250418T150411Z
UID:52851-1745571600-1745575200@www.esplanadebytheislandslifestyle.com
SUMMARY:Strength & Balance: Instructor- Tatiana
DESCRIPTION:Looking for stability? This class is for you. Get stronger with a variety of exercises that are always changing. Balance is a necessity no matter our age and this class has an abundance of it! All levels are welcome\, all exercises can be modified with chairs for assistance.
URL:https://www.esplanadebytheislandslifestyle.com/event/strength-balance-instructor-tatiana-14/2025-04-25/
LOCATION:Resort Amenity Center- Movement Studio
CATEGORIES:Fitness & Wellness
ATTACH;FMTTYPE=image/jpeg:https://www.esplanadebytheislandslifestyle.com/wp-content/uploads/sites/64/2023/09/Yoga2.jpg
END:VEVENT
BEGIN:VEVENT
DTSTART;TZID=America/New_York:20250418T090000
DTEND;TZID=America/New_York:20250418T100000
DTSTAMP:20260422T174735
CREATED:20250415T165002Z
LAST-MODIFIED:20250418T150411Z
UID:52840-1744966800-1744970400@www.esplanadebytheislandslifestyle.com
SUMMARY:Strength & Balance: Instructor- Tatiana
DESCRIPTION:Looking for stability? This class is for you. Get stronger with a variety of exercises that are always changing. Balance is a necessity no matter our age and this class has an abundance of it! All levels are welcome\, all exercises can be modified with chairs for assistance.
URL:https://www.esplanadebytheislandslifestyle.com/event/strength-balance-instructor-tatiana-14/2025-04-18/
LOCATION:Resort Amenity Center- Movement Studio
CATEGORIES:Fitness & Wellness
ATTACH;FMTTYPE=image/jpeg:https://www.esplanadebytheislandslifestyle.com/wp-content/uploads/sites/64/2023/09/Yoga2.jpg
END:VEVENT
END:VCALENDAR