BEGIN:VCALENDAR
VERSION:2.0
PRODID:-//Esplanade by the Islands - ECPv6.15.15//NONSGML v1.0//EN
CALSCALE:GREGORIAN
METHOD:PUBLISH
X-WR-CALNAME:Esplanade by the Islands
X-ORIGINAL-URL:https://www.esplanadebytheislandslifestyle.com
X-WR-CALDESC:Events for Esplanade by the Islands
REFRESH-INTERVAL;VALUE=DURATION:PT1H
X-Robots-Tag:noindex
X-PUBLISHED-TTL:PT1H
BEGIN:VTIMEZONE
TZID:America/New_York
BEGIN:DAYLIGHT
TZOFFSETFROM:-0500
TZOFFSETTO:-0400
TZNAME:EDT
DTSTART:20250309T070000
END:DAYLIGHT
BEGIN:STANDARD
TZOFFSETFROM:-0400
TZOFFSETTO:-0500
TZNAME:EST
DTSTART:20251102T060000
END:STANDARD
BEGIN:DAYLIGHT
TZOFFSETFROM:-0500
TZOFFSETTO:-0400
TZNAME:EDT
DTSTART:20260308T070000
END:DAYLIGHT
BEGIN:STANDARD
TZOFFSETFROM:-0400
TZOFFSETTO:-0500
TZNAME:EST
DTSTART:20261101T060000
END:STANDARD
BEGIN:DAYLIGHT
TZOFFSETFROM:-0500
TZOFFSETTO:-0400
TZNAME:EDT
DTSTART:20270314T070000
END:DAYLIGHT
BEGIN:STANDARD
TZOFFSETFROM:-0400
TZOFFSETTO:-0500
TZNAME:EST
DTSTART:20271107T060000
END:STANDARD
END:VTIMEZONE
BEGIN:VEVENT
DTSTART;TZID=America/New_York:20260423T070000
DTEND;TZID=America/New_York:20260423T080000
DTSTAMP:20260423T091133
CREATED:20260308T000957Z
LAST-MODIFIED:20260308T000957Z
UID:69028-1776927600-1776931200@www.esplanadebytheislandslifestyle.com
SUMMARY:Upper Body Strength with Weights
DESCRIPTION:Upper body strength with weights involves a variety of exercises that target different muscle groups in the upper body. These exercises are designed to build strength\, increase muscle mass\, and improve overall upper body performance.
URL:https://www.esplanadebytheislandslifestyle.com/event/upper-body-strength-with-weights/2026-04-23/
LOCATION:Movement Studio
CATEGORIES:Fitness & Wellness
ATTACH;FMTTYPE=image/jpeg:https://www.esplanadebytheislandslifestyle.com/wp-content/uploads/sites/64/2026/03/Weights.jpg
END:VEVENT
BEGIN:VEVENT
DTSTART;TZID=America/New_York:20260416T070000
DTEND;TZID=America/New_York:20260416T080000
DTSTAMP:20260423T091133
CREATED:20260308T000957Z
LAST-MODIFIED:20260308T000957Z
UID:69027-1776322800-1776326400@www.esplanadebytheislandslifestyle.com
SUMMARY:Upper Body Strength with Weights
DESCRIPTION:Upper body strength with weights involves a variety of exercises that target different muscle groups in the upper body. These exercises are designed to build strength\, increase muscle mass\, and improve overall upper body performance.
URL:https://www.esplanadebytheislandslifestyle.com/event/upper-body-strength-with-weights/2026-04-16/
LOCATION:Movement Studio
CATEGORIES:Fitness & Wellness
ATTACH;FMTTYPE=image/jpeg:https://www.esplanadebytheislandslifestyle.com/wp-content/uploads/sites/64/2026/03/Weights.jpg
END:VEVENT
BEGIN:VEVENT
DTSTART;TZID=America/New_York:20260409T070000
DTEND;TZID=America/New_York:20260409T080000
DTSTAMP:20260423T091133
CREATED:20260308T000957Z
LAST-MODIFIED:20260308T000957Z
UID:69026-1775718000-1775721600@www.esplanadebytheislandslifestyle.com
SUMMARY:Upper Body Strength with Weights
DESCRIPTION:Upper body strength with weights involves a variety of exercises that target different muscle groups in the upper body. These exercises are designed to build strength\, increase muscle mass\, and improve overall upper body performance.
URL:https://www.esplanadebytheislandslifestyle.com/event/upper-body-strength-with-weights/2026-04-09/
LOCATION:Movement Studio
CATEGORIES:Fitness & Wellness
ATTACH;FMTTYPE=image/jpeg:https://www.esplanadebytheislandslifestyle.com/wp-content/uploads/sites/64/2026/03/Weights.jpg
END:VEVENT
BEGIN:VEVENT
DTSTART;TZID=America/New_York:20260402T070000
DTEND;TZID=America/New_York:20260402T080000
DTSTAMP:20260423T091133
CREATED:20260308T000957Z
LAST-MODIFIED:20260308T000957Z
UID:69025-1775113200-1775116800@www.esplanadebytheislandslifestyle.com
SUMMARY:Upper Body Strength with Weights
DESCRIPTION:Upper body strength with weights involves a variety of exercises that target different muscle groups in the upper body. These exercises are designed to build strength\, increase muscle mass\, and improve overall upper body performance.
URL:https://www.esplanadebytheislandslifestyle.com/event/upper-body-strength-with-weights/2026-04-02/
LOCATION:Movement Studio
CATEGORIES:Fitness & Wellness
ATTACH;FMTTYPE=image/jpeg:https://www.esplanadebytheislandslifestyle.com/wp-content/uploads/sites/64/2026/03/Weights.jpg
END:VEVENT
BEGIN:VEVENT
DTSTART;TZID=America/New_York:20260326T070000
DTEND;TZID=America/New_York:20260326T080000
DTSTAMP:20260423T091133
CREATED:20260308T000957Z
LAST-MODIFIED:20260308T000957Z
UID:69024-1774508400-1774512000@www.esplanadebytheislandslifestyle.com
SUMMARY:Upper Body Strength with Weights
DESCRIPTION:Upper body strength with weights involves a variety of exercises that target different muscle groups in the upper body. These exercises are designed to build strength\, increase muscle mass\, and improve overall upper body performance.
URL:https://www.esplanadebytheislandslifestyle.com/event/upper-body-strength-with-weights/2026-03-26/
LOCATION:Movement Studio
CATEGORIES:Fitness & Wellness
ATTACH;FMTTYPE=image/jpeg:https://www.esplanadebytheislandslifestyle.com/wp-content/uploads/sites/64/2026/03/Weights.jpg
END:VEVENT
BEGIN:VEVENT
DTSTART;TZID=America/New_York:20260319T070000
DTEND;TZID=America/New_York:20260319T080000
DTSTAMP:20260423T091133
CREATED:20260308T000957Z
LAST-MODIFIED:20260308T000957Z
UID:69023-1773903600-1773907200@www.esplanadebytheislandslifestyle.com
SUMMARY:Upper Body Strength with Weights
DESCRIPTION:Upper body strength with weights involves a variety of exercises that target different muscle groups in the upper body. These exercises are designed to build strength\, increase muscle mass\, and improve overall upper body performance.
URL:https://www.esplanadebytheislandslifestyle.com/event/upper-body-strength-with-weights/2026-03-19/
LOCATION:Movement Studio
CATEGORIES:Fitness & Wellness
ATTACH;FMTTYPE=image/jpeg:https://www.esplanadebytheislandslifestyle.com/wp-content/uploads/sites/64/2026/03/Weights.jpg
END:VEVENT
BEGIN:VEVENT
DTSTART;TZID=America/New_York:20260312T070000
DTEND;TZID=America/New_York:20260312T080000
DTSTAMP:20260423T091133
CREATED:20260308T000957Z
LAST-MODIFIED:20260308T000957Z
UID:69016-1773298800-1773302400@www.esplanadebytheislandslifestyle.com
SUMMARY:Upper Body Strength with Weights
DESCRIPTION:Upper body strength with weights involves a variety of exercises that target different muscle groups in the upper body. These exercises are designed to build strength\, increase muscle mass\, and improve overall upper body performance.
URL:https://www.esplanadebytheislandslifestyle.com/event/upper-body-strength-with-weights/2026-03-12/
LOCATION:Movement Studio
CATEGORIES:Fitness & Wellness
ATTACH;FMTTYPE=image/jpeg:https://www.esplanadebytheislandslifestyle.com/wp-content/uploads/sites/64/2026/03/Weights.jpg
END:VEVENT
END:VCALENDAR