BEGIN:VCALENDAR
VERSION:2.0
PRODID:-//Esplanade by the Islands - ECPv6.15.15//NONSGML v1.0//EN
CALSCALE:GREGORIAN
METHOD:PUBLISH
X-WR-CALNAME:Esplanade by the Islands
X-ORIGINAL-URL:https://www.esplanadebytheislandslifestyle.com
X-WR-CALDESC:Events for Esplanade by the Islands
REFRESH-INTERVAL;VALUE=DURATION:PT1H
X-Robots-Tag:noindex
X-PUBLISHED-TTL:PT1H
BEGIN:VTIMEZONE
TZID:America/New_York
BEGIN:DAYLIGHT
TZOFFSETFROM:-0500
TZOFFSETTO:-0400
TZNAME:EDT
DTSTART:20250309T070000
END:DAYLIGHT
BEGIN:STANDARD
TZOFFSETFROM:-0400
TZOFFSETTO:-0500
TZNAME:EST
DTSTART:20251102T060000
END:STANDARD
BEGIN:DAYLIGHT
TZOFFSETFROM:-0500
TZOFFSETTO:-0400
TZNAME:EDT
DTSTART:20260308T070000
END:DAYLIGHT
BEGIN:STANDARD
TZOFFSETFROM:-0400
TZOFFSETTO:-0500
TZNAME:EST
DTSTART:20261101T060000
END:STANDARD
BEGIN:DAYLIGHT
TZOFFSETFROM:-0500
TZOFFSETTO:-0400
TZNAME:EDT
DTSTART:20270314T070000
END:DAYLIGHT
BEGIN:STANDARD
TZOFFSETFROM:-0400
TZOFFSETTO:-0500
TZNAME:EST
DTSTART:20271107T060000
END:STANDARD
END:VTIMEZONE
BEGIN:VEVENT
DTSTART;TZID=America/New_York:20260423T070000
DTEND;TZID=America/New_York:20260423T080000
DTSTAMP:20260423T010206
CREATED:20260308T000957Z
LAST-MODIFIED:20260308T000957Z
UID:69028-1776927600-1776931200@www.esplanadebytheislandslifestyle.com
SUMMARY:Upper Body Strength with Weights
DESCRIPTION:Upper body strength with weights involves a variety of exercises that target different muscle groups in the upper body. These exercises are designed to build strength\, increase muscle mass\, and improve overall upper body performance.
URL:https://www.esplanadebytheislandslifestyle.com/event/upper-body-strength-with-weights/2026-04-23/
LOCATION:Movement Studio
CATEGORIES:Fitness & Wellness
ATTACH;FMTTYPE=image/jpeg:https://www.esplanadebytheislandslifestyle.com/wp-content/uploads/sites/64/2026/03/Weights.jpg
END:VEVENT
BEGIN:VEVENT
DTSTART;TZID=America/New_York:20260430T070000
DTEND;TZID=America/New_York:20260430T080000
DTSTAMP:20260423T010206
CREATED:20260308T000957Z
LAST-MODIFIED:20260308T000957Z
UID:69029-1777532400-1777536000@www.esplanadebytheislandslifestyle.com
SUMMARY:Upper Body Strength with Weights
DESCRIPTION:Upper body strength with weights involves a variety of exercises that target different muscle groups in the upper body. These exercises are designed to build strength\, increase muscle mass\, and improve overall upper body performance.
URL:https://www.esplanadebytheislandslifestyle.com/event/upper-body-strength-with-weights/2026-04-30/
LOCATION:Movement Studio
CATEGORIES:Fitness & Wellness
ATTACH;FMTTYPE=image/jpeg:https://www.esplanadebytheislandslifestyle.com/wp-content/uploads/sites/64/2026/03/Weights.jpg
END:VEVENT
BEGIN:VEVENT
DTSTART;TZID=America/New_York:20260507T070000
DTEND;TZID=America/New_York:20260507T080000
DTSTAMP:20260423T010206
CREATED:20260308T000957Z
LAST-MODIFIED:20260308T000957Z
UID:69030-1778137200-1778140800@www.esplanadebytheislandslifestyle.com
SUMMARY:Upper Body Strength with Weights
DESCRIPTION:Upper body strength with weights involves a variety of exercises that target different muscle groups in the upper body. These exercises are designed to build strength\, increase muscle mass\, and improve overall upper body performance.
URL:https://www.esplanadebytheislandslifestyle.com/event/upper-body-strength-with-weights/2026-05-07/
LOCATION:Movement Studio
CATEGORIES:Fitness & Wellness
ATTACH;FMTTYPE=image/jpeg:https://www.esplanadebytheislandslifestyle.com/wp-content/uploads/sites/64/2026/03/Weights.jpg
END:VEVENT
BEGIN:VEVENT
DTSTART;TZID=America/New_York:20260514T070000
DTEND;TZID=America/New_York:20260514T080000
DTSTAMP:20260423T010206
CREATED:20260308T000957Z
LAST-MODIFIED:20260308T000957Z
UID:69031-1778742000-1778745600@www.esplanadebytheislandslifestyle.com
SUMMARY:Upper Body Strength with Weights
DESCRIPTION:Upper body strength with weights involves a variety of exercises that target different muscle groups in the upper body. These exercises are designed to build strength\, increase muscle mass\, and improve overall upper body performance.
URL:https://www.esplanadebytheislandslifestyle.com/event/upper-body-strength-with-weights/2026-05-14/
LOCATION:Movement Studio
CATEGORIES:Fitness & Wellness
ATTACH;FMTTYPE=image/jpeg:https://www.esplanadebytheislandslifestyle.com/wp-content/uploads/sites/64/2026/03/Weights.jpg
END:VEVENT
BEGIN:VEVENT
DTSTART;TZID=America/New_York:20260521T070000
DTEND;TZID=America/New_York:20260521T080000
DTSTAMP:20260423T010206
CREATED:20260308T000957Z
LAST-MODIFIED:20260308T000957Z
UID:69032-1779346800-1779350400@www.esplanadebytheislandslifestyle.com
SUMMARY:Upper Body Strength with Weights
DESCRIPTION:Upper body strength with weights involves a variety of exercises that target different muscle groups in the upper body. These exercises are designed to build strength\, increase muscle mass\, and improve overall upper body performance.
URL:https://www.esplanadebytheislandslifestyle.com/event/upper-body-strength-with-weights/2026-05-21/
LOCATION:Movement Studio
CATEGORIES:Fitness & Wellness
ATTACH;FMTTYPE=image/jpeg:https://www.esplanadebytheislandslifestyle.com/wp-content/uploads/sites/64/2026/03/Weights.jpg
END:VEVENT
BEGIN:VEVENT
DTSTART;TZID=America/New_York:20260528T070000
DTEND;TZID=America/New_York:20260528T080000
DTSTAMP:20260423T010206
CREATED:20260308T000957Z
LAST-MODIFIED:20260308T000957Z
UID:69033-1779951600-1779955200@www.esplanadebytheislandslifestyle.com
SUMMARY:Upper Body Strength with Weights
DESCRIPTION:Upper body strength with weights involves a variety of exercises that target different muscle groups in the upper body. These exercises are designed to build strength\, increase muscle mass\, and improve overall upper body performance.
URL:https://www.esplanadebytheislandslifestyle.com/event/upper-body-strength-with-weights/2026-05-28/
LOCATION:Movement Studio
CATEGORIES:Fitness & Wellness
ATTACH;FMTTYPE=image/jpeg:https://www.esplanadebytheislandslifestyle.com/wp-content/uploads/sites/64/2026/03/Weights.jpg
END:VEVENT
END:VCALENDAR