BEGIN:VCALENDAR
VERSION:2.0
PRODID:-//Esplanade by the Islands - ECPv6.15.15//NONSGML v1.0//EN
CALSCALE:GREGORIAN
METHOD:PUBLISH
X-WR-CALNAME:Esplanade by the Islands
X-ORIGINAL-URL:https://www.esplanadebytheislandslifestyle.com
X-WR-CALDESC:Events for Esplanade by the Islands
REFRESH-INTERVAL;VALUE=DURATION:PT1H
X-Robots-Tag:noindex
X-PUBLISHED-TTL:PT1H
BEGIN:VTIMEZONE
TZID:America/New_York
BEGIN:DAYLIGHT
TZOFFSETFROM:-0500
TZOFFSETTO:-0400
TZNAME:EDT
DTSTART:20250309T070000
END:DAYLIGHT
BEGIN:STANDARD
TZOFFSETFROM:-0400
TZOFFSETTO:-0500
TZNAME:EST
DTSTART:20251102T060000
END:STANDARD
BEGIN:DAYLIGHT
TZOFFSETFROM:-0500
TZOFFSETTO:-0400
TZNAME:EDT
DTSTART:20260308T070000
END:DAYLIGHT
BEGIN:STANDARD
TZOFFSETFROM:-0400
TZOFFSETTO:-0500
TZNAME:EST
DTSTART:20261101T060000
END:STANDARD
BEGIN:DAYLIGHT
TZOFFSETFROM:-0500
TZOFFSETTO:-0400
TZNAME:EDT
DTSTART:20270314T070000
END:DAYLIGHT
BEGIN:STANDARD
TZOFFSETFROM:-0400
TZOFFSETTO:-0500
TZNAME:EST
DTSTART:20271107T060000
END:STANDARD
END:VTIMEZONE
BEGIN:VEVENT
DTSTART;TZID=America/New_York:20260421T063000
DTEND;TZID=America/New_York:20260421T073000
DTSTAMP:20260422T184057
CREATED:20251205T170044Z
LAST-MODIFIED:20251205T170044Z
UID:68732-1776753000-1776756600@www.esplanadebytheislandslifestyle.com
SUMMARY:Yoga: Instructor- Katie
DESCRIPTION:Yoga is an excellent form of holistic fitness aligning both the mind and body.  In addition to learning and practicing poses to improve flexibility\, mobility\, and balance while building strength. Yoga also focuses on intentional breathing\, mirror meditation\, drawing the focus to the breath and clearing the mind of thoughts.  All levels are welcome. Mats are available for Members who may need one.
URL:https://www.esplanadebytheislandslifestyle.com/event/yoga-instructor-katie-17/2026-04-21/
LOCATION:Resort Amenity Center- Movement Studio
CATEGORIES:Fitness & Wellness
ATTACH;FMTTYPE=image/jpeg:https://www.esplanadebytheislandslifestyle.com/wp-content/uploads/sites/64/2024/04/yoga.jpg
END:VEVENT
BEGIN:VEVENT
DTSTART;TZID=America/New_York:20260414T063000
DTEND;TZID=America/New_York:20260414T073000
DTSTAMP:20260422T184057
CREATED:20251205T170044Z
LAST-MODIFIED:20251205T170044Z
UID:68731-1776148200-1776151800@www.esplanadebytheislandslifestyle.com
SUMMARY:Yoga: Instructor- Katie
DESCRIPTION:Yoga is an excellent form of holistic fitness aligning both the mind and body.  In addition to learning and practicing poses to improve flexibility\, mobility\, and balance while building strength. Yoga also focuses on intentional breathing\, mirror meditation\, drawing the focus to the breath and clearing the mind of thoughts.  All levels are welcome. Mats are available for Members who may need one.
URL:https://www.esplanadebytheislandslifestyle.com/event/yoga-instructor-katie-17/2026-04-14/
LOCATION:Resort Amenity Center- Movement Studio
CATEGORIES:Fitness & Wellness
ATTACH;FMTTYPE=image/jpeg:https://www.esplanadebytheislandslifestyle.com/wp-content/uploads/sites/64/2024/04/yoga.jpg
END:VEVENT
BEGIN:VEVENT
DTSTART;TZID=America/New_York:20260407T063000
DTEND;TZID=America/New_York:20260407T073000
DTSTAMP:20260422T184057
CREATED:20251205T170044Z
LAST-MODIFIED:20251205T170044Z
UID:68730-1775543400-1775547000@www.esplanadebytheislandslifestyle.com
SUMMARY:Yoga: Instructor- Katie
DESCRIPTION:Yoga is an excellent form of holistic fitness aligning both the mind and body.  In addition to learning and practicing poses to improve flexibility\, mobility\, and balance while building strength. Yoga also focuses on intentional breathing\, mirror meditation\, drawing the focus to the breath and clearing the mind of thoughts.  All levels are welcome. Mats are available for Members who may need one.
URL:https://www.esplanadebytheislandslifestyle.com/event/yoga-instructor-katie-17/2026-04-07/
LOCATION:Resort Amenity Center- Movement Studio
CATEGORIES:Fitness & Wellness
ATTACH;FMTTYPE=image/jpeg:https://www.esplanadebytheislandslifestyle.com/wp-content/uploads/sites/64/2024/04/yoga.jpg
END:VEVENT
BEGIN:VEVENT
DTSTART;TZID=America/New_York:20260331T063000
DTEND;TZID=America/New_York:20260331T073000
DTSTAMP:20260422T184057
CREATED:20251205T170044Z
LAST-MODIFIED:20251205T170044Z
UID:68729-1774938600-1774942200@www.esplanadebytheislandslifestyle.com
SUMMARY:Yoga: Instructor- Katie
DESCRIPTION:Yoga is an excellent form of holistic fitness aligning both the mind and body.  In addition to learning and practicing poses to improve flexibility\, mobility\, and balance while building strength. Yoga also focuses on intentional breathing\, mirror meditation\, drawing the focus to the breath and clearing the mind of thoughts.  All levels are welcome. Mats are available for Members who may need one.
URL:https://www.esplanadebytheislandslifestyle.com/event/yoga-instructor-katie-17/2026-03-31/
LOCATION:Resort Amenity Center- Movement Studio
CATEGORIES:Fitness & Wellness
ATTACH;FMTTYPE=image/jpeg:https://www.esplanadebytheislandslifestyle.com/wp-content/uploads/sites/64/2024/04/yoga.jpg
END:VEVENT
BEGIN:VEVENT
DTSTART;TZID=America/New_York:20260324T063000
DTEND;TZID=America/New_York:20260324T073000
DTSTAMP:20260422T184057
CREATED:20251205T170044Z
LAST-MODIFIED:20251205T170044Z
UID:68728-1774333800-1774337400@www.esplanadebytheislandslifestyle.com
SUMMARY:Yoga: Instructor- Katie
DESCRIPTION:Yoga is an excellent form of holistic fitness aligning both the mind and body.  In addition to learning and practicing poses to improve flexibility\, mobility\, and balance while building strength. Yoga also focuses on intentional breathing\, mirror meditation\, drawing the focus to the breath and clearing the mind of thoughts.  All levels are welcome. Mats are available for Members who may need one.
URL:https://www.esplanadebytheislandslifestyle.com/event/yoga-instructor-katie-17/2026-03-24/
LOCATION:Resort Amenity Center- Movement Studio
CATEGORIES:Fitness & Wellness
ATTACH;FMTTYPE=image/jpeg:https://www.esplanadebytheislandslifestyle.com/wp-content/uploads/sites/64/2024/04/yoga.jpg
END:VEVENT
BEGIN:VEVENT
DTSTART;TZID=America/New_York:20260317T063000
DTEND;TZID=America/New_York:20260317T073000
DTSTAMP:20260422T184057
CREATED:20251205T170044Z
LAST-MODIFIED:20251205T170044Z
UID:68727-1773729000-1773732600@www.esplanadebytheislandslifestyle.com
SUMMARY:Yoga: Instructor- Katie
DESCRIPTION:Yoga is an excellent form of holistic fitness aligning both the mind and body.  In addition to learning and practicing poses to improve flexibility\, mobility\, and balance while building strength. Yoga also focuses on intentional breathing\, mirror meditation\, drawing the focus to the breath and clearing the mind of thoughts.  All levels are welcome. Mats are available for Members who may need one.
URL:https://www.esplanadebytheislandslifestyle.com/event/yoga-instructor-katie-17/2026-03-17/
LOCATION:Resort Amenity Center- Movement Studio
CATEGORIES:Fitness & Wellness
ATTACH;FMTTYPE=image/jpeg:https://www.esplanadebytheislandslifestyle.com/wp-content/uploads/sites/64/2024/04/yoga.jpg
END:VEVENT
BEGIN:VEVENT
DTSTART;TZID=America/New_York:20260310T063000
DTEND;TZID=America/New_York:20260310T073000
DTSTAMP:20260422T184057
CREATED:20251205T170044Z
LAST-MODIFIED:20251205T170044Z
UID:68726-1773124200-1773127800@www.esplanadebytheislandslifestyle.com
SUMMARY:Yoga: Instructor- Katie
DESCRIPTION:Yoga is an excellent form of holistic fitness aligning both the mind and body.  In addition to learning and practicing poses to improve flexibility\, mobility\, and balance while building strength. Yoga also focuses on intentional breathing\, mirror meditation\, drawing the focus to the breath and clearing the mind of thoughts.  All levels are welcome. Mats are available for Members who may need one.
URL:https://www.esplanadebytheislandslifestyle.com/event/yoga-instructor-katie-17/2026-03-10/
LOCATION:Resort Amenity Center- Movement Studio
CATEGORIES:Fitness & Wellness
ATTACH;FMTTYPE=image/jpeg:https://www.esplanadebytheislandslifestyle.com/wp-content/uploads/sites/64/2024/04/yoga.jpg
END:VEVENT
BEGIN:VEVENT
DTSTART;TZID=America/New_York:20260303T063000
DTEND;TZID=America/New_York:20260303T073000
DTSTAMP:20260422T184057
CREATED:20251205T170044Z
LAST-MODIFIED:20251205T170044Z
UID:68725-1772519400-1772523000@www.esplanadebytheislandslifestyle.com
SUMMARY:Yoga: Instructor- Katie
DESCRIPTION:Yoga is an excellent form of holistic fitness aligning both the mind and body.  In addition to learning and practicing poses to improve flexibility\, mobility\, and balance while building strength. Yoga also focuses on intentional breathing\, mirror meditation\, drawing the focus to the breath and clearing the mind of thoughts.  All levels are welcome. Mats are available for Members who may need one.
URL:https://www.esplanadebytheislandslifestyle.com/event/yoga-instructor-katie-17/2026-03-03/
LOCATION:Resort Amenity Center- Movement Studio
CATEGORIES:Fitness & Wellness
ATTACH;FMTTYPE=image/jpeg:https://www.esplanadebytheislandslifestyle.com/wp-content/uploads/sites/64/2024/04/yoga.jpg
END:VEVENT
BEGIN:VEVENT
DTSTART;TZID=America/New_York:20260224T063000
DTEND;TZID=America/New_York:20260224T073000
DTSTAMP:20260422T184057
CREATED:20251205T170044Z
LAST-MODIFIED:20260307T203815Z
UID:63615-1771914600-1771918200@www.esplanadebytheislandslifestyle.com
SUMMARY:Yoga: Instructor- Katie
DESCRIPTION:Yoga is an excellent form of holistic fitness aligning both the mind and body.  In addition to learning and practicing poses to improve flexibility\, mobility\, and balance while building strength. Yoga also focuses on intentional breathing\, mirror meditation\, drawing the focus to the breath and clearing the mind of thoughts.  All levels are welcome. Mats are available for Members who may need one.
URL:https://www.esplanadebytheislandslifestyle.com/event/yoga-instructor-katie-17/2026-02-24/
LOCATION:Resort Amenity Center- Movement Studio
CATEGORIES:Fitness & Wellness
ATTACH;FMTTYPE=image/jpeg:https://www.esplanadebytheislandslifestyle.com/wp-content/uploads/sites/64/2024/04/yoga.jpg
END:VEVENT
END:VCALENDAR