BEGIN:VCALENDAR
VERSION:2.0
PRODID:-//Esplanade by the Islands - ECPv6.15.15//NONSGML v1.0//EN
CALSCALE:GREGORIAN
METHOD:PUBLISH
X-WR-CALNAME:Esplanade by the Islands
X-ORIGINAL-URL:https://www.esplanadebytheislandslifestyle.com
X-WR-CALDESC:Events for Esplanade by the Islands
REFRESH-INTERVAL;VALUE=DURATION:PT1H
X-Robots-Tag:noindex
X-PUBLISHED-TTL:PT1H
BEGIN:VTIMEZONE
TZID:America/New_York
BEGIN:DAYLIGHT
TZOFFSETFROM:-0500
TZOFFSETTO:-0400
TZNAME:EDT
DTSTART:20220313T070000
END:DAYLIGHT
BEGIN:STANDARD
TZOFFSETFROM:-0400
TZOFFSETTO:-0500
TZNAME:EST
DTSTART:20221106T060000
END:STANDARD
BEGIN:DAYLIGHT
TZOFFSETFROM:-0500
TZOFFSETTO:-0400
TZNAME:EDT
DTSTART:20230312T070000
END:DAYLIGHT
BEGIN:STANDARD
TZOFFSETFROM:-0400
TZOFFSETTO:-0500
TZNAME:EST
DTSTART:20231105T060000
END:STANDARD
BEGIN:DAYLIGHT
TZOFFSETFROM:-0500
TZOFFSETTO:-0400
TZNAME:EDT
DTSTART:20240310T070000
END:DAYLIGHT
BEGIN:STANDARD
TZOFFSETFROM:-0400
TZOFFSETTO:-0500
TZNAME:EST
DTSTART:20241103T060000
END:STANDARD
END:VTIMEZONE
BEGIN:VEVENT
DTSTART;TZID=America/New_York:20230422T180000
DTEND;TZID=America/New_York:20230422T210000
DTSTAMP:20260422T095357
CREATED:20230308T165323Z
LAST-MODIFIED:20230410T142148Z
UID:7455-1682186400-1682197200@www.esplanadebytheislandslifestyle.com
SUMMARY:Havana Nights Signature Event
DESCRIPTION:Join us at The Players Club at Lely Resort for our next Signature Event. Sip on a mojito while you dance to the rhythms of our band. Ernesto\, our onsite cigar roller\, will amaze you with his talents. Capture the memories of the evening in our themed photobooth. You do not want to miss this event! A shuttle will be available to transport all attendees to the event venue and back with departure from the Sales Gallery. \nPlease register by April 9. Guests will only be allowed if we have space the week before the event and at a higher cost. \n  \nDINNER BUFFERT –\n— Cuban Salad with Feta & Garlic Lime Vinaigrette\n— Cuban Bread & Butter\n— Mahi Mahi with Mango Salsa\n— Ropa Vieja (Shredded Beef)\n— Cuban Black Beans & Rice\n— Fried Plantain Chips\n— Yuca Con Mojo (Yuca with Garlic Sauce)\n— Cuban Themed Dessert\n— Includes Iced Tea\, Soda or Coffee \n*Vegetarian meal available upon request. \n  \n  \n 
URL:https://www.esplanadebytheislandslifestyle.com/event/havana-nights-signature-event/
LOCATION:The Players Club at Lely Resort\, 8060 Grand Lely Drive\, Naples\, FL\, 34113\, United States
ATTACH;FMTTYPE=image/jpeg:https://www.esplanadebytheislandslifestyle.com/wp-content/uploads/sites/64/2023/03/havana-nights_no-logo-scaled.jpg
ORGANIZER;CN="Carri Adam":MAILTO:Carri.Adam@teamesplanade.com
END:VEVENT
BEGIN:VEVENT
DTSTART;TZID=America/New_York:20230319T173000
DTEND;TZID=America/New_York:20230319T193000
DTSTAMP:20260422T095357
CREATED:20230125T182431Z
LAST-MODIFIED:20230313T145640Z
UID:6612-1679247000-1679254200@www.esplanadebytheislandslifestyle.com
SUMMARY:Concert on the Lawn Featuring The Real Deal Dueling Pianos
DESCRIPTION:The Real Deal Dueling Pianos combine high-intensity playing with audience interaction for an evening of amazing entertainment! This all request show is part comedy\, improv\, music\, karaoke and audience interaction so it’s never the same show twice! Bring your own favorite beverages and a chair/blanket and join us on the event lawn on Model Row. \nRegistration required by Friday\, March 17. \n  \n 
URL:https://www.esplanadebytheislandslifestyle.com/event/concert-on-the-lawn-featuring-the-real-deal-dueling-pianos/
LOCATION:Sales Gallery
CATEGORIES:Esplanade Connect and Charitable Efforts,Lifestyle Activities and Events
ATTACH;FMTTYPE=image/jpeg:https://www.esplanadebytheislandslifestyle.com/wp-content/uploads/sites/64/2023/01/Instruments.jpg
ORGANIZER;CN="Carri Adam":MAILTO:Carri.Adam@teamesplanade.com
END:VEVENT
BEGIN:VEVENT
DTSTART;TZID=America/New_York:20230228T110000
DTEND;TZID=America/New_York:20230228T120000
DTSTAMP:20260422T095357
CREATED:20221128T181936Z
LAST-MODIFIED:20221128T181936Z
UID:5811-1677582000-1677585600@www.esplanadebytheislandslifestyle.com
SUMMARY:Coffee and Conversation
DESCRIPTION:Virtually meet with your Lifestyle Manager in a relaxed and social atmosphere to discuss Lifestyle news and share ideas. \nThis is a virtual meeting via Zoom.
URL:https://www.esplanadebytheislandslifestyle.com/event/coffee-and-conversation-2/
LOCATION:Sales Gallery
ATTACH;FMTTYPE=image/jpeg:https://www.esplanadebytheislandslifestyle.com/wp-content/uploads/sites/64/2021/04/Depositphotos_114022396_l-2015.jpg
ORGANIZER;CN="Carri Adam":MAILTO:Carri.Adam@teamesplanade.com
END:VEVENT
BEGIN:VEVENT
DTSTART;TZID=America/New_York:20230205T150000
DTEND;TZID=America/New_York:20230205T180000
DTSTAMP:20260422T095357
CREATED:20221128T173721Z
LAST-MODIFIED:20230124T190417Z
UID:5779-1675609200-1675620000@www.esplanadebytheislandslifestyle.com
SUMMARY:Seaside Social Signature Experience
DESCRIPTION:For our next Signature Experience\, we are going to shake things up a bit and create more of a festival vibe for our members. We will be using the Zeno Pool Parking Lot & Pool area as our event space. Entertaining us on the main stage will be the Caribbean Chillers from North Florida\, the ultimate Jimmy Buffet Tribute. Pryceless Island Grill Food Truck will be supplying unique tropical food\, Rita’s On the Go will be supplying dessert and you can bring your own favorite beverages! We will have cornhole and Ax Throwing so you can play some fun games while listening to the band. You do not want to miss this event! \nPlease register by January 22 or before sell out. Guests will only be allowed if we have space the week before the event and at a higher cost. \n  \nHere are the meal choices (one per ticket) which need to be pre-ordered with pickup times assigned on a first come\, first service basis: \nTropical Mahi Mahi Fish Sandwich: Grilled Mahi Mahi\, Tropical Slaw and Tomato \nCaribbean Beef Burger: Jerk Spice Beef Pattie\, Glazed Pineapple\, Pepper Jack Cheese\, Pineapple Mango Salsa\, Lettuce & Tomato \nAuthentic Jamaican Jerk Chicken Sandwich:  Authentic Jamaican Jerk Chicken\, Lettuce\, Tomato & Calypso Sauce \nTropical Quesadilla: Choice of Vegetarian\, Chicken\, Shrimp or Steak\, Flour Tortilla\, Cheese & Pineapple with Mango Salsa. \n**Above meals come with your choice of 1 side: French Fries\, Sweet Plantains\, Tostones/Green Plantains or Sweet Potato Fries. \n  \n 
URL:https://www.esplanadebytheislandslifestyle.com/event/seaside-social-signature-experience/
LOCATION:Satellite Cabana Pool
ATTACH;FMTTYPE=image/jpeg:https://www.esplanadebytheislandslifestyle.com/wp-content/uploads/sites/64/2022/11/seaside-social-1.jpg
ORGANIZER;CN="Carri Adam":MAILTO:Carri.Adam@teamesplanade.com
END:VEVENT
BEGIN:VEVENT
DTSTART;TZID=America/New_York:20230131T110000
DTEND;TZID=America/New_York:20230131T120000
DTSTAMP:20260422T095357
CREATED:20221128T181550Z
LAST-MODIFIED:20221128T181707Z
UID:5793-1675162800-1675166400@www.esplanadebytheislandslifestyle.com
SUMMARY:Coffee and Conversation
DESCRIPTION:Virtually meet with your Lifestyle Manager in a relaxed and social atmosphere to discuss Lifestyle news and share ideas. \nThis is a virtual meeting via Zoom.
URL:https://www.esplanadebytheislandslifestyle.com/event/coffee-and-conversation/
LOCATION:Sales Gallery
ATTACH;FMTTYPE=image/jpeg:https://www.esplanadebytheislandslifestyle.com/wp-content/uploads/sites/64/2021/04/Depositphotos_114022396_l-2015.jpg
ORGANIZER;CN="Carri Adam":MAILTO:Carri.Adam@teamesplanade.com
END:VEVENT
END:VCALENDAR