BEGIN:VCALENDAR
VERSION:2.0
PRODID:-//Esplanade by the Islands - ECPv6.15.15//NONSGML v1.0//EN
CALSCALE:GREGORIAN
METHOD:PUBLISH
X-WR-CALNAME:Esplanade by the Islands
X-ORIGINAL-URL:https://www.esplanadebytheislandslifestyle.com
X-WR-CALDESC:Events for Esplanade by the Islands
REFRESH-INTERVAL;VALUE=DURATION:PT1H
X-Robots-Tag:noindex
X-PUBLISHED-TTL:PT1H
BEGIN:VTIMEZONE
TZID:America/New_York
BEGIN:DAYLIGHT
TZOFFSETFROM:-0500
TZOFFSETTO:-0400
TZNAME:EDT
DTSTART:20220313T070000
END:DAYLIGHT
BEGIN:STANDARD
TZOFFSETFROM:-0400
TZOFFSETTO:-0500
TZNAME:EST
DTSTART:20221106T060000
END:STANDARD
BEGIN:DAYLIGHT
TZOFFSETFROM:-0500
TZOFFSETTO:-0400
TZNAME:EDT
DTSTART:20230312T070000
END:DAYLIGHT
BEGIN:STANDARD
TZOFFSETFROM:-0400
TZOFFSETTO:-0500
TZNAME:EST
DTSTART:20231105T060000
END:STANDARD
BEGIN:DAYLIGHT
TZOFFSETFROM:-0500
TZOFFSETTO:-0400
TZNAME:EDT
DTSTART:20240310T070000
END:DAYLIGHT
BEGIN:STANDARD
TZOFFSETFROM:-0400
TZOFFSETTO:-0500
TZNAME:EST
DTSTART:20241103T060000
END:STANDARD
BEGIN:DAYLIGHT
TZOFFSETFROM:-0500
TZOFFSETTO:-0400
TZNAME:EDT
DTSTART:20250309T070000
END:DAYLIGHT
BEGIN:STANDARD
TZOFFSETFROM:-0400
TZOFFSETTO:-0500
TZNAME:EST
DTSTART:20251102T060000
END:STANDARD
END:VTIMEZONE
BEGIN:VEVENT
DTSTART;TZID=America/New_York:20240102T160000
DTEND;TZID=America/New_York:20240102T180000
DTSTAMP:20260423T091121
CREATED:20231113T202341Z
LAST-MODIFIED:20231113T202341Z
UID:32130-1704211200-1704218400@www.esplanadebytheislandslifestyle.com
SUMMARY:New Year Bloody Mary Mixer
DESCRIPTION:It is time to relax after all the holiday festivities! Come join your neighbors at the Satellite Pool for a Bloody Mary Mixer. Bring your favorite mix and your Lifestyle Team will have a complete Bloody Mary Buffet for you to dress your beverage with.  
URL:https://www.esplanadebytheislandslifestyle.com/event/new-year-bloody-mary-mixer/
LOCATION:Resort Amenity Center- Movement Studio
CATEGORIES:Lifestyle Activities and Events
ATTACH;FMTTYPE=image/jpeg:https://www.esplanadebytheislandslifestyle.com/wp-content/uploads/sites/64/2023/01/bloody-mary.jpg
ORGANIZER;CN="Jennifer Jaehrling":MAILTO:Jennifer.Jaehrling@teamesplanade.com
END:VEVENT
BEGIN:VEVENT
DTSTART;TZID=America/New_York:20231104T080000
DTEND;TZID=America/New_York:20231104T120000
DTSTAMP:20260423T091121
CREATED:20230928T162744Z
LAST-MODIFIED:20230929T163200Z
UID:31346-1699084800-1699099200@www.esplanadebytheislandslifestyle.com
SUMMARY:Collier County Public Schools Walk / Run 2023
DESCRIPTION:Get ready to hit the ground running at the CCPS 5K Walk-Run 2023 Event! \nThis annual event is a fun family or solo event.  All ages are invited to enter!  Please visit the site below for detailed information and to register for this community event. \nhttps://runsignup.com/CCPS5k \n 
URL:https://www.esplanadebytheislandslifestyle.com/event/collier-county-public-schools-walk-run-2023/
LOCATION:Dr. Martin Luther King\, Jr. Administrative Center\, 5775 Osceola Trail\, Naples\, FL\, 34109\, United States
CATEGORIES:Holidays,Lifestyle Activities and Events
ATTACH;FMTTYPE=image/png:https://www.esplanadebytheislandslifestyle.com/wp-content/uploads/sites/64/2023/09/Collier-Schools-Walk-run.png
ORGANIZER;CN="Jennifer Jaehrling":MAILTO:Jennifer.Jaehrling@teamesplanade.com
END:VEVENT
BEGIN:VEVENT
DTSTART;TZID=America/New_York:20231017T190000
DTEND;TZID=America/New_York:20231017T203000
DTSTAMP:20260423T091121
CREATED:20230905T173445Z
LAST-MODIFIED:20231017T150521Z
UID:31127-1697569200-1697574600@www.esplanadebytheislandslifestyle.com
SUMMARY:Movies On The Lawn
DESCRIPTION:  \nThis event has been canceled due to lack of participation. \n  \nThis is a community event hosted by Mercado.  They will be presenting the movie “The Nightmare Before Christmas” on the large entertainment lawn.  Bring comfy seating and a cooler with essentials.  We will meet at the Sales Gallery at 5:45 for those who would like to carpool due to the limited parking at Mercado.  Please register by Sunday\, October 15.
URL:https://www.esplanadebytheislandslifestyle.com/event/movies-on-the-lawn/
LOCATION:Mercado Entertainment Lawn\, 9110 Strada Pl\, Naples\, FL\, 34108\, United States
CATEGORIES:Lifestyle Activities and Events
ATTACH;FMTTYPE=image/jpeg:https://www.esplanadebytheislandslifestyle.com/wp-content/uploads/sites/64/2023/09/movies.jpg
ORGANIZER;CN="Jennifer Jaehrling":MAILTO:Jennifer.Jaehrling@teamesplanade.com
END:VEVENT
BEGIN:VEVENT
DTSTART;TZID=America/New_York:20230907T173000
DTEND;TZID=America/New_York:20230907T190000
DTSTAMP:20260423T091121
CREATED:20230710T172532Z
LAST-MODIFIED:20230905T155824Z
UID:30476-1694107800-1694113200@www.esplanadebytheislandslifestyle.com
SUMMARY:Cooking and Cocktail Series Presents – The Perfect Pasta
DESCRIPTION:Your National Director of Food\, Beverage & Culinary Experience\, Patrick Scully\, along with your local Lifestyle team invite you to join us for our next installment of the Cooking and Cocktail Series: The Perfect Pasta.\n\nThis tasting experience will last approximately 1.5 hours and will include an engaging demonstration on how to prepare a homemade fettuccine with two accompanying sauce recipes. You will also learn tips and tricks on the culinary art of creating and rolling homemade dough into pasta-noodle perfection and alternative ways to make pasta if you prefer a simpler approach! During the demonstration\, you will enjoy samples of the featured items and volunteers may be requested. Take your newly acquired skills and try them at home for the perfect dinnertime (or breakfast\, or lunch\, we don’t judge!) delicacy. Please visit the event calendar on your community website to register. All attendees are welcome to bring their own beverages to enjoy.
URL:https://www.esplanadebytheislandslifestyle.com/event/cooking-and-cocktail-series-presents-the-perfect-pasta/
LOCATION:Sales Gallery
CATEGORIES:Dining & Happy Hour,Lifestyle Activities and Events
ATTACH;FMTTYPE=image/jpeg:https://www.esplanadebytheislandslifestyle.com/wp-content/uploads/sites/64/2023/07/Pasta.jpg
ORGANIZER;CN="Jennifer Jaehrling":MAILTO:Jennifer.Jaehrling@teamesplanade.com
END:VEVENT
BEGIN:VEVENT
DTSTART;TZID=America/New_York:20230620T100000
DTEND;TZID=America/New_York:20230620T140000
DTSTAMP:20260423T091121
CREATED:20230605T204246Z
LAST-MODIFIED:20230605T204246Z
UID:29890-1687255200-1687269600@www.esplanadebytheislandslifestyle.com
SUMMARY:Better than a Bistro On Site
DESCRIPTION:https://betterthanabistro.com/ \n\n\n\n\n\n\n\n\n\n\n\n\n\n\n\nBetter Than A Bistro will deliver to the community everything from Signature Black Label Steaks to Wagyu to Kobe to Prime Steaks. Their seafood is Sashimi Grade from locations throughout the world. Their poultry is Antibiotic\, Hormone and Steroid-free. They have Veal Chops and Veal Cutlets\, Lamb Chops to Lollipop Lamb chops to Rack of Lamb and even Leg of lamb as well. Their desserts come from New York\, France and Italy. \nFor those who take entertaining seriously\, they will be offering a complete line of exceptional Hors d’oeuvres and Appetizers. For those who desire something they do not usually offer\, please let us know. They will reach out to their purveyors and do their very best to get it for you. \nAt Better Than A Bistro\, they strive to only purchase the highest grades in beef\, poultry and seafood. They know that once you try any of their products\, you\, your family and your guest will enjoy every meal at your dinner table.
URL:https://www.esplanadebytheislandslifestyle.com/event/better-than-a-bistro-on-site-17/
LOCATION:Sales Gallery Parking Lot and Lawn\, 15286 Arpino Court\, Naples\, FL\, 34114\, United States
CATEGORIES:Dining & Happy Hour,Lifestyle Activities and Events
ATTACH;FMTTYPE=image/jpeg:https://www.esplanadebytheislandslifestyle.com/wp-content/uploads/sites/64/2022/10/Steak.jpg
ORGANIZER;CN="Jennifer Jaehrling":MAILTO:Jennifer.Jaehrling@teamesplanade.com
END:VEVENT
BEGIN:VEVENT
DTSTART;TZID=America/New_York:20230606T100000
DTEND;TZID=America/New_York:20230606T140000
DTSTAMP:20260423T091121
CREATED:20230511T155550Z
LAST-MODIFIED:20230511T155550Z
UID:29601-1686045600-1686060000@www.esplanadebytheislandslifestyle.com
SUMMARY:Better than a Bistro On Site
DESCRIPTION:https://betterthanabistro.com/ \n\n\n\n\n\n\n\n\n\n\n\n\n\n\n\nBetter Than A Bistro will deliver to the community everything from Signature Black Label Steaks to Wagyu to Kobe to Prime Steaks. Their seafood is Sashimi Grade from locations throughout the world. Their poultry is Antibiotic\, Hormone and Steroid-free. They have Veal Chops and Veal Cutlets\, Lamb Chops to Lollipop Lamb chops to Rack of Lamb and even Leg of lamb as well. Their desserts come from New York\, France and Italy. \nFor those who take entertaining seriously\, they will be offering a complete line of exceptional Hors d’oeuvres and Appetizers. For those who desire something they do not usually offer\, please let us know. They will reach out to their purveyors and do their very best to get it for you. \nAt Better Than A Bistro\, they strive to only purchase the highest grades in beef\, poultry and seafood. They know that once you try any of their products\, you\, your family and your guest will enjoy every meal at your dinner table.
URL:https://www.esplanadebytheislandslifestyle.com/event/better-than-a-bistro-on-site-15/
LOCATION:Sales Gallery Parking Lot and Lawn\, 15286 Arpino Court\, Naples\, FL\, 34114\, United States
CATEGORIES:Dining & Happy Hour,Lifestyle Activities and Events
ATTACH;FMTTYPE=image/jpeg:https://www.esplanadebytheislandslifestyle.com/wp-content/uploads/sites/64/2022/10/Steak.jpg
ORGANIZER;CN="Jennifer Jaehrling":MAILTO:Jennifer.Jaehrling@teamesplanade.com
END:VEVENT
BEGIN:VEVENT
DTSTART;TZID=America/New_York:20230523T100000
DTEND;TZID=America/New_York:20230523T140000
DTSTAMP:20260423T091121
CREATED:20230425T180252Z
LAST-MODIFIED:20230425T180342Z
UID:29312-1684836000-1684850400@www.esplanadebytheislandslifestyle.com
SUMMARY:Better than a Bistro On Site
DESCRIPTION:https://betterthanabistro.com/ \n\n\n\n\n\n\n\n\n\n\n\n\n\n\n\nBetter Than A Bistro will deliver to the community everything from Signature Black Label Steaks to Wagyu to Kobe to Prime Steaks. Their seafood is Sashimi Grade from locations throughout the world. Their poultry is Antibiotic\, Hormone and Steroid-free. They have Veal Chops and Veal Cutlets\, Lamb Chops to Lollipop Lamb chops to Rack of Lamb and even Leg of lamb as well. Their desserts come from New York\, France and Italy. \nFor those who take entertaining seriously\, they will be offering a complete line of exceptional Hors d’oeuvres and Appetizers. For those who desire something they do not usually offer\, please let us know. They will reach out to their purveyors and do their very best to get it for you. \nAt Better Than A Bistro\, they strive to only purchase the highest grades in beef\, poultry and seafood. They know that once you try any of their products\, you\, your family and your guest will enjoy every meal at your dinner table.
URL:https://www.esplanadebytheislandslifestyle.com/event/better-than-a-bistro-on-site-14/
LOCATION:Sales Gallery Parking Lot and Lawn\, 15286 Arpino Court\, Naples\, FL\, 34114\, United States
CATEGORIES:Dining & Happy Hour,Lifestyle Activities and Events
ATTACH;FMTTYPE=image/jpeg:https://www.esplanadebytheislandslifestyle.com/wp-content/uploads/sites/64/2022/10/Steak.jpg
ORGANIZER;CN="Jennifer Jaehrling":MAILTO:Jennifer.Jaehrling@teamesplanade.com
END:VEVENT
BEGIN:VEVENT
DTSTART;TZID=America/New_York:20230516T100000
DTEND;TZID=America/New_York:20230516T140000
DTSTAMP:20260423T091121
CREATED:20230425T171316Z
LAST-MODIFIED:20230425T171316Z
UID:29304-1684231200-1684245600@www.esplanadebytheislandslifestyle.com
SUMMARY:Better than a Bistro On Site
DESCRIPTION:https://betterthanabistro.com/ \n\n\n\n\n\n\n\n\n\n\n\n\n\n\n\nBetter Than A Bistro will deliver to the community everything from Signature Black Label Steaks to Wagyu to Kobe to Prime Steaks. Their seafood is Sashimi Grade from locations throughout the world. Their poultry is Antibiotic\, Hormone and Steroid-free. They have Veal Chops and Veal Cutlets\, Lamb Chops to Lollipop Lamb chops to Rack of Lamb and even Leg of lamb as well. Their desserts come from New York\, France and Italy. \nFor those who take entertaining seriously\, they will be offering a complete line of exceptional Hors d’oeuvres and Appetizers. For those who desire something they do not usually offer\, please let us know. They will reach out to their purveyors and do their very best to get it for you. \nAt Better Than A Bistro\, they strive to only purchase the highest grades in beef\, poultry and seafood. They know that once you try any of their products\, you\, your family and your guest will enjoy every meal at your dinner table.
URL:https://www.esplanadebytheislandslifestyle.com/event/better-than-a-bistro-on-site-13/
LOCATION:Sales Gallery Parking Lot and Lawn\, 15286 Arpino Court\, Naples\, FL\, 34114\, United States
CATEGORIES:Dining & Happy Hour,Lifestyle Activities and Events
ATTACH;FMTTYPE=image/jpeg:https://www.esplanadebytheislandslifestyle.com/wp-content/uploads/sites/64/2022/10/Steak.jpg
ORGANIZER;CN="Jennifer Jaehrling":MAILTO:Jennifer.Jaehrling@teamesplanade.com
END:VEVENT
BEGIN:VEVENT
DTSTART;TZID=America/New_York:20230509T100000
DTEND;TZID=America/New_York:20230509T140000
DTSTAMP:20260423T091121
CREATED:20230425T154904Z
LAST-MODIFIED:20230425T154904Z
UID:29284-1683626400-1683640800@www.esplanadebytheislandslifestyle.com
SUMMARY:Better than a Bistro On Site
DESCRIPTION:https://betterthanabistro.com/ \n\n\n\n\n\n\n\n\n\n\n\n\n\n\n\nBetter Than A Bistro will deliver to the community everything from Signature Black Label Steaks to Wagyu to Kobe to Prime Steaks. Their seafood is Sashimi Grade from locations throughout the world. Their poultry is Antibiotic\, Hormone and Steroid-free. They have Veal Chops and Veal Cutlets\, Lamb Chops to Lollipop Lamb chops to Rack of Lamb and even Leg of lamb as well. Their desserts come from New York\, France and Italy. \nFor those who take entertaining seriously\, they will be offering a complete line of exceptional Hors d’oeuvres and Appetizers. For those who desire something they do not usually offer\, please let us know. They will reach out to their purveyors and do their very best to get it for you. \nAt Better Than A Bistro\, they strive to only purchase the highest grades in beef\, poultry and seafood. They know that once you try any of their products\, you\, your family and your guest will enjoy every meal at your dinner table.
URL:https://www.esplanadebytheislandslifestyle.com/event/better-than-a-bistro-on-site-11/
LOCATION:Sales Gallery Parking Lot and Lawn\, 15286 Arpino Court\, Naples\, FL\, 34114\, United States
CATEGORIES:Dining & Happy Hour,Lifestyle Activities and Events
ATTACH;FMTTYPE=image/jpeg:https://www.esplanadebytheislandslifestyle.com/wp-content/uploads/sites/64/2022/10/Steak.jpg
ORGANIZER;CN="Jennifer Jaehrling":MAILTO:Jennifer.Jaehrling@teamesplanade.com
END:VEVENT
BEGIN:VEVENT
DTSTART;TZID=America/New_York:20230502T100000
DTEND;TZID=America/New_York:20230502T140000
DTSTAMP:20260423T091121
CREATED:20230425T155121Z
LAST-MODIFIED:20230425T155121Z
UID:29291-1683021600-1683036000@www.esplanadebytheislandslifestyle.com
SUMMARY:Better than a Bistro On Site
DESCRIPTION:https://betterthanabistro.com/ \n\n\n\n\n\n\n\n\n\n\n\n\n\n\n\nBetter Than A Bistro will deliver to the community everything from Signature Black Label Steaks to Wagyu to Kobe to Prime Steaks. Their seafood is Sashimi Grade from locations throughout the world. Their poultry is Antibiotic\, Hormone and Steroid-free. They have Veal Chops and Veal Cutlets\, Lamb Chops to Lollipop Lamb chops to Rack of Lamb and even Leg of lamb as well. Their desserts come from New York\, France and Italy. \nFor those who take entertaining seriously\, they will be offering a complete line of exceptional Hors d’oeuvres and Appetizers. For those who desire something they do not usually offer\, please let us know. They will reach out to their purveyors and do their very best to get it for you. \nAt Better Than A Bistro\, they strive to only purchase the highest grades in beef\, poultry and seafood. They know that once you try any of their products\, you\, your family and your guest will enjoy every meal at your dinner table.
URL:https://www.esplanadebytheislandslifestyle.com/event/better-than-a-bistro-on-site-12/
LOCATION:Sales Gallery Parking Lot and Lawn\, 15286 Arpino Court\, Naples\, FL\, 34114\, United States
CATEGORIES:Dining & Happy Hour,Lifestyle Activities and Events
ATTACH;FMTTYPE=image/jpeg:https://www.esplanadebytheislandslifestyle.com/wp-content/uploads/sites/64/2022/10/Steak.jpg
ORGANIZER;CN="Jennifer Jaehrling":MAILTO:Jennifer.Jaehrling@teamesplanade.com
END:VEVENT
BEGIN:VEVENT
DTSTART;TZID=America/New_York:20230418T173000
DTEND;TZID=America/New_York:20230418T190000
DTSTAMP:20260423T091121
CREATED:20230404T143610Z
LAST-MODIFIED:20230404T143728Z
UID:7913-1681839000-1681844400@www.esplanadebytheislandslifestyle.com
SUMMARY:Meet and Greet with Jennifer Jaehrling
DESCRIPTION:Please join us for a happy hour Meet and Greet at the Sales Gallery with your new Lifestyle Manager Jennifer Jaehrling! Feel free to bring your own favorite beverage and your Lifestyle team will take care of the rest.
URL:https://www.esplanadebytheislandslifestyle.com/event/meet-and-greet-with-jennifer-jaehrling/
CATEGORIES:Dining & Happy Hour,Lifestyle Activities and Events
ORGANIZER;CN="Jennifer Jaehrling":MAILTO:Jennifer.Jaehrling@teamesplanade.com
END:VEVENT
END:VCALENDAR