BEGIN:VCALENDAR
VERSION:2.0
PRODID:-//Esplanade by the Islands - ECPv6.15.15//NONSGML v1.0//EN
CALSCALE:GREGORIAN
METHOD:PUBLISH
X-WR-CALNAME:Esplanade by the Islands
X-ORIGINAL-URL:https://www.esplanadebytheislandslifestyle.com
X-WR-CALDESC:Events for Esplanade by the Islands
REFRESH-INTERVAL;VALUE=DURATION:PT1H
X-Robots-Tag:noindex
X-PUBLISHED-TTL:PT1H
BEGIN:VTIMEZONE
TZID:America/New_York
BEGIN:DAYLIGHT
TZOFFSETFROM:-0500
TZOFFSETTO:-0400
TZNAME:EDT
DTSTART:20240310T070000
END:DAYLIGHT
BEGIN:STANDARD
TZOFFSETFROM:-0400
TZOFFSETTO:-0500
TZNAME:EST
DTSTART:20241103T060000
END:STANDARD
BEGIN:DAYLIGHT
TZOFFSETFROM:-0500
TZOFFSETTO:-0400
TZNAME:EDT
DTSTART:20250309T070000
END:DAYLIGHT
BEGIN:STANDARD
TZOFFSETFROM:-0400
TZOFFSETTO:-0500
TZNAME:EST
DTSTART:20251102T060000
END:STANDARD
BEGIN:DAYLIGHT
TZOFFSETFROM:-0500
TZOFFSETTO:-0400
TZNAME:EDT
DTSTART:20260308T070000
END:DAYLIGHT
BEGIN:STANDARD
TZOFFSETFROM:-0400
TZOFFSETTO:-0500
TZNAME:EST
DTSTART:20261101T060000
END:STANDARD
END:VTIMEZONE
BEGIN:VEVENT
DTSTART;TZID=America/New_York:20251206T180000
DTEND;TZID=America/New_York:20251206T210000
DTSTAMP:20260422T103655
CREATED:20251108T011714Z
LAST-MODIFIED:20251124T145729Z
UID:61783-1765044000-1765054800@www.esplanadebytheislandslifestyle.com
SUMMARY:It's A Wonderful Lifestyle Signature Event
DESCRIPTION:It’s A Wonderful Lifestyle Signature Event \nSaturday\, December 6 | 6 – 9 p.m.  | $75 Per Member \nToast to the wonderful lifestyle at Esplanade by the Islands as we bring 2025\nto a spectacular close! \nJoin your friends and neighbors for an evening filled with holiday spirit\, laughter\, and unforgettable memories at our FINAL Signature Event of the year. Celebrate the season while indulging in delicious culinary fare\, decadent desserts\, music\, and cheerful holiday fun. \nFestive holiday attire is encouraged but not required — just bring your sparkle and good cheer! \nMusic provided by DJ Gil Blake. \nDinner Buffet Menu \nCarved Roasted New York Strip LoinRolls\, Mayonnaise\, Horseradish \nSeared Sea Scallops and Risotto Station \nGrilled Vegetable PlatterZucchini\, Asparagus\, Bell Peppers\, Red Onion\, Portobello MushroomsBalsamic Glaze\, Fresh Basil \nAntipasto TableImported and Domestic Cheeses\, Sliced Meats\, Marinated Peppers\, OlivesBerries\, Breads and Crackers \nHot Food StationTeriyaki Beef BrochettesBarbecue Bacon-Wrapped ShrimpManchego and Apricot Wrapped in Phyllo Dough \nDessert \nNon-alcoholic beverages are included in the event ticket price.\nAlcohol drink ticket sales will be announced at a future date. \nWe look forward to seeing you there and sharing in the excitement\, celebration\, and moments that make this season unforgettable. \nCancellation Policy: Cancellations must be received no less than forty-eight (48) hours prior to the scheduled start of the event\, or the resident will be charged the per person expense for the event and will be counted as if they attended.
URL:https://www.esplanadebytheislandslifestyle.com/event/its-a-wonderful-lifestyle-signature-event-4/
LOCATION:Bahama Bar\, 15450 Bella Tesoro Street\, Naples\, FL\, 34114\, United States
CATEGORIES:Lifestyle Activities and Events
ATTACH;FMTTYPE=image/jpeg:https://www.esplanadebytheislandslifestyle.com/wp-content/uploads/sites/64/2025/11/its-a-wonderful-lifestyle_islands.jpg
ORGANIZER;CN="Karan Ilowite":MAILTO:karan.ilowite@gmail.com
END:VEVENT
BEGIN:VEVENT
DTSTART;TZID=America/New_York:20251112T113000
DTEND;TZID=America/New_York:20251112T200000
DTSTAMP:20260422T103655
CREATED:20251108T032250Z
LAST-MODIFIED:20251108T032250Z
UID:61790-1762947000-1762977600@www.esplanadebytheislandslifestyle.com
SUMMARY:Celebrating Veterans Day at the Bahama Bar Wednesday\, November 12
DESCRIPTION:Celebrating Veterans Day at the Bahama Bar\nWednesday\, November 12 \nIn appreciation of your dedication and service to our country\, Veterans will receive 50% off all food items at the Bahama Bar on Wednesday\, November 12. \nThank you for your service.
URL:https://www.esplanadebytheislandslifestyle.com/event/celebrating-veterans-day-at-the-bahama-bar-wednesday-november-12/
LOCATION:Bahama Bar\, 15450 Bella Tesoro Street\, Naples\, FL\, 34114\, United States
CATEGORIES:Lifestyle Activities and Events
ATTACH;FMTTYPE=image/png:https://www.esplanadebytheislandslifestyle.com/wp-content/uploads/sites/64/2025/11/Veterans-Day-1.png
ORGANIZER;CN="Karan Ilowite":MAILTO:karan.ilowite@gmail.com
END:VEVENT
END:VCALENDAR