BEGIN:VCALENDAR
VERSION:2.0
PRODID:-//Esplanade by the Islands - ECPv6.15.15//NONSGML v1.0//EN
CALSCALE:GREGORIAN
METHOD:PUBLISH
X-WR-CALNAME:Esplanade by the Islands
X-ORIGINAL-URL:https://www.esplanadebytheislandslifestyle.com
X-WR-CALDESC:Events for Esplanade by the Islands
REFRESH-INTERVAL;VALUE=DURATION:PT1H
X-Robots-Tag:noindex
X-PUBLISHED-TTL:PT1H
BEGIN:VTIMEZONE
TZID:America/New_York
BEGIN:DAYLIGHT
TZOFFSETFROM:-0500
TZOFFSETTO:-0400
TZNAME:EDT
DTSTART:20230312T070000
END:DAYLIGHT
BEGIN:STANDARD
TZOFFSETFROM:-0400
TZOFFSETTO:-0500
TZNAME:EST
DTSTART:20231105T060000
END:STANDARD
BEGIN:DAYLIGHT
TZOFFSETFROM:-0500
TZOFFSETTO:-0400
TZNAME:EDT
DTSTART:20240310T070000
END:DAYLIGHT
BEGIN:STANDARD
TZOFFSETFROM:-0400
TZOFFSETTO:-0500
TZNAME:EST
DTSTART:20241103T060000
END:STANDARD
BEGIN:DAYLIGHT
TZOFFSETFROM:-0500
TZOFFSETTO:-0400
TZNAME:EDT
DTSTART:20250309T070000
END:DAYLIGHT
BEGIN:STANDARD
TZOFFSETFROM:-0400
TZOFFSETTO:-0500
TZNAME:EST
DTSTART:20251102T060000
END:STANDARD
END:VTIMEZONE
BEGIN:VEVENT
DTSTART;VALUE=DATE:20241218
DTEND;VALUE=DATE:20241219
DTSTAMP:20260423T131345
CREATED:20241014T182947Z
LAST-MODIFIED:20241014T182947Z
UID:39805-1734480000-1734566399@www.esplanadebytheislandslifestyle.com
SUMMARY:Kayaking Club Outing
DESCRIPTION:Our Kayaking Club will be exploring new locations monthly. David Amadori will be the direct contact for coordinating amongst club Members. Please reach out to him at davidamadori@aol.com for details. \nIf you are not an owner of a kayak\, you are able to rent and have one delivered through the following outfitters. \nhttps://www.risingtidefl.com/ \nhttps://www.paddlemarco.com/ \n 
URL:https://www.esplanadebytheislandslifestyle.com/event/kayaking-club-outing-5/
CATEGORIES:Clubs
ATTACH;FMTTYPE=image/jpeg:https://www.esplanadebytheislandslifestyle.com/wp-content/uploads/sites/64/2022/01/iStock-868818880-1024x684-square.jpg
END:VEVENT
BEGIN:VEVENT
DTSTART;TZID=America/New_York:20241217T103000
DTEND;TZID=America/New_York:20241217T143000
DTSTAMP:20260423T131345
CREATED:20241118T141925Z
LAST-MODIFIED:20241205T202342Z
UID:41485-1734431400-1734445800@www.esplanadebytheislandslifestyle.com
SUMMARY:Better Than a Bistro Food Truck
DESCRIPTION:We’re excited to announce that a high-quality meat and seafood distributor\, Better Than a Bistro\, will be visiting our community on December 17th! This is a fantastic opportunity for you to stock up on fresh\, premium meats and seafood at great prices just in time for the holidays. \nWhether you’re looking for a delicious cut of beef\, fresh fish\, or other specialty products\, they will have a wide selection available for purchase. It’s the perfect opportunity to grab high-quality food while supporting a local business. \nFeel free to browse their website here: Better Than a Bistro: Quality\, Convenience\, Affordability to Your Home
URL:https://www.esplanadebytheislandslifestyle.com/event/better-than-a-bistro-food-truck-3/
LOCATION:Resort Amenity Campus Parking Area
CATEGORIES:Dining & Happy Hour,Lifestyle Activities and Events
ATTACH;FMTTYPE=image/jpeg:https://www.esplanadebytheislandslifestyle.com/wp-content/uploads/sites/64/2024/11/PackagedBeef-scaled.jpg
END:VEVENT
BEGIN:VEVENT
DTSTART;TZID=America/New_York:20241217T090000
DTEND;TZID=America/New_York:20241217T100000
DTSTAMP:20260423T131345
CREATED:20240923T141957Z
LAST-MODIFIED:20241024T125943Z
UID:38074-1734426000-1734429600@www.esplanadebytheislandslifestyle.com
SUMMARY:Esplanade 101
DESCRIPTION:New Members can meet with the CAM and Lifestyle Manager to briefly discuss HOA and Lifestyle topics outlined in your Resident Handbook. Normally held on a Tuesday during the month\, all closed residents are welcome attend.
URL:https://www.esplanadebytheislandslifestyle.com/event/esplanade-101-2/
LOCATION:Wellness Center
CATEGORIES:Community Meetings
ATTACH;FMTTYPE=image/png:https://www.esplanadebytheislandslifestyle.com/wp-content/uploads/sites/64/2024/09/Esplanade101.png
END:VEVENT
BEGIN:VEVENT
DTSTART;TZID=America/New_York:20241216T180000
DTEND;TZID=America/New_York:20241216T200000
DTSTAMP:20260423T131345
CREATED:20241111T165858Z
LAST-MODIFIED:20241211T162655Z
UID:38071-1734372000-1734379200@www.esplanadebytheislandslifestyle.com
SUMMARY:Ugly Holiday Sweater Gift Exchange
DESCRIPTION:Come to this event dressed in your most outrageous holiday sweater\, and bring a wrapped gift ($20-$30) for our gift exchange. There will be plenty of snacks and festive cheer. Feel free to bring your favorite beverage to enjoy. Let’s make some unforgettable memories and celebrate the season in style (the ugly kind)! \nParticipating in the gift exchange is not required.
URL:https://www.esplanadebytheislandslifestyle.com/event/ugly-holiday-sweater-gift-exchange/
LOCATION:Sales Gallery
CATEGORIES:Courts,Lifestyle Activities and Events
ATTACH;FMTTYPE=image/jpeg:https://www.esplanadebytheislandslifestyle.com/wp-content/uploads/sites/64/2024/09/FamilyHolidayGathering.jpg
END:VEVENT
BEGIN:VEVENT
DTSTART;TZID=America/New_York:20241216T100000
DTEND;TZID=America/New_York:20241216T140000
DTSTAMP:20260423T131345
CREATED:20241111T170326Z
LAST-MODIFIED:20241119T172513Z
UID:40950-1734343200-1734357600@www.esplanadebytheislandslifestyle.com
SUMMARY:Holiday Bread Pickup
DESCRIPTION:Stop by the Toasted Cafe from 10 a.m. – 2 p.m. on December 16th to pick up your delicious\, homemade holiday bread\, made by our very own\, Chef Kevin. \nPlease purchase your bread by Monday\, December 9th. \nThese breads are only available via prepaid order placed by December 9th. \nThe choices are either banana nut or pumpkin bread. Please make sure you choose the bread you want when adding the items to your cart. \n 
URL:https://www.esplanadebytheislandslifestyle.com/event/holiday-bread-pickup/
LOCATION:Toasted Cafe\, 15450 Bella Tesoro Street\, Naples\, FL\, 34114\, United States
CATEGORIES:Courts,Dining & Happy Hour,Lifestyle Activities and Events
ATTACH;FMTTYPE=image/jpeg:https://www.esplanadebytheislandslifestyle.com/wp-content/uploads/sites/64/2024/11/BreadPastries.jpg
END:VEVENT
BEGIN:VEVENT
DTSTART;TZID=America/New_York:20241214T090000
DTEND;TZID=America/New_York:20241214T110000
DTSTAMP:20260423T131345
CREATED:20241111T164221Z
LAST-MODIFIED:20241121T195651Z
UID:38068-1734166800-1734174000@www.esplanadebytheislandslifestyle.com
SUMMARY:Cookies and Cocoa - Santa Photoshoot
DESCRIPTION:Get ready for a holiday experience filled with joy and cheer! We’re thrilled to invite you to our Santa photoshoot\, where your children\, grandchildren\, and pets can capture magical moments with Santa Claus. While the photoshoot is for the little ones and furry friends\, we welcome adults to join the event and enjoy the festive atmosphere\, hot cocoa\, and holiday cookies. \nPlease note that pets are usually not permitted at the Resort Amenity Campus\, however\, there will be an exception for this event. We ask Members that bring their pets keep them on a leash or in a stroller and only access the Veranda area. Please do not walk your pet through the inside of the building or near the Bahama Bar/pool area. We appreciate your cooperation!
URL:https://www.esplanadebytheislandslifestyle.com/event/cookies-and-cocoa-santa-photoshoot/
LOCATION:Resort Amenity Campus Veranda
CATEGORIES:Courts,Lifestyle Activities and Events
ATTACH;FMTTYPE=image/jpeg:https://www.esplanadebytheislandslifestyle.com/wp-content/uploads/sites/64/2024/11/HolidayCookies-1550099051-scaled.jpg
END:VEVENT
BEGIN:VEVENT
DTSTART;TZID=America/New_York:20241211T173000
DTEND;TZID=America/New_York:20241211T183000
DTSTAMP:20260423T131345
CREATED:20241210T200049Z
LAST-MODIFIED:20241210T200049Z
UID:42862-1733938200-1733941800@www.esplanadebytheislandslifestyle.com
SUMMARY:SIP Wine Informational Zoom Meeting
DESCRIPTION:Esplanade Resort Experiences and Patrick Scully\, National Manager of Food\, Beverage and Culinary Experience invite you to attend a webinar to discuss the exciting details of the SIP Wine Club and answer your questions live! \nCreated to empower wine lovers of all levels to discover\, purchase and enjoy wine\, SIP Wine Club gives Members access to a diverse selection of wine with opportunities to enjoy wine tastings\, unique private label selections and member only discounts. With expert guidance and unmatched convenience\, everyone from those just starting to explore the world of wine to a seasoned sommelier can easily find their go-to wines or discover new flavor profiles. \n\nJoin Zoom Meeting\nhttps://us02web.zoom.us/j/85446547580?pwd=4NFlrK6neAxeWNUtaaLCp5FjbIlpyB.1\n\nMeeting ID: 854 4654 7580\nPasscode: SIPwineBTI
URL:https://www.esplanadebytheislandslifestyle.com/event/sip-wine-informational-zoom-meeting/
LOCATION:Zoom Meeting
CATEGORIES:Dining & Happy Hour,Lifestyle Activities and Events
ATTACH;FMTTYPE=image/png:https://www.esplanadebytheislandslifestyle.com/wp-content/uploads/sites/64/2024/12/e6375fb4-928b-1a4e-258f-14df62ccdb17.png
END:VEVENT
BEGIN:VEVENT
DTSTART;TZID=America/New_York:20241210T090000
DTEND;TZID=America/New_York:20241210T100000
DTSTAMP:20260423T131345
CREATED:20240923T141352Z
LAST-MODIFIED:20241017T191432Z
UID:38065-1733821200-1733824800@www.esplanadebytheislandslifestyle.com
SUMMARY:Coffee and Conversation / Neighborhood News
DESCRIPTION:Meet with your Lifestyle Manager and Community Association Manager in a relaxed and social atmosphere to discuss Lifestyle and Community news and share ideas.
URL:https://www.esplanadebytheislandslifestyle.com/event/coffee-and-conversation-neighborhood-news-16/
LOCATION:Resort Amenity Campus Veranda
CATEGORIES:Community Meetings
ATTACH;FMTTYPE=image/jpeg:https://www.esplanadebytheislandslifestyle.com/wp-content/uploads/sites/64/2024/09/CoffeeCheers-1.jpg
END:VEVENT
BEGIN:VEVENT
DTSTART;TZID=America/New_York:20241209T140000
DTEND;TZID=America/New_York:20241209T150000
DTSTAMP:20260423T131345
CREATED:20241104T151106Z
LAST-MODIFIED:20241209T153057Z
UID:40832-1733752800-1733756400@www.esplanadebytheislandslifestyle.com
SUMMARY:Gingerbread Decorating
DESCRIPTION:Get into the holiday spirit at our Gingerbread Decorating Event! Join us for a fun-filled afternoon of creativity and cheer as we provide everything you need to decorate your very own gingerbread masterpiece.
URL:https://www.esplanadebytheislandslifestyle.com/event/gingerbread-decorating/
LOCATION:Bahama Bar\, 15450 Bella Tesoro Street\, Naples\, FL\, 34114\, United States
CATEGORIES:Courts,Dining & Happy Hour,Lifestyle Activities and Events
ATTACH;FMTTYPE=image/jpeg:https://www.esplanadebytheislandslifestyle.com/wp-content/uploads/sites/64/2024/11/GingerbreadHouse-3-scaled.jpg
END:VEVENT
BEGIN:VEVENT
DTSTART;TZID=America/New_York:20241207T180000
DTEND;TZID=America/New_York:20241207T210000
DTSTAMP:20260423T131345
CREATED:20241025T191728Z
LAST-MODIFIED:20241206T215002Z
UID:38062-1733594400-1733605200@www.esplanadebytheislandslifestyle.com
SUMMARY:It's a Wonderful Lifestyle - Signature Event
DESCRIPTION:Toast to the wonderful life at Esplanade. Come celebrate the season with friends and neighbors while enjoying heavy appetizers\, desserts\, music and fun! \nPlease note that the Bahama Bar will be closed for this private event on Saturday\, December 7th. Members who do not purchase a ticket for the event will not be permitted to access the Bahama Bar and the surrounding area. \n  \nMenu \nCarving Station \n\nRoasted New York Strip\nHorseradish Mayo and Whole Grain Mustard\nRolls\n\nMain Dishes \n\nAntipasta – Cheeses\, Meats\, Olives\, Peppers\, Shrimp Ceviche Martini\, Sliced Bread\, and Crackers\nGrilled Vegetable Platter – Zucchini\, Asparagus\, and Red and Green Onions\nVegetable Paella – Peas\, Roasted Red Pepper\, Artichokes\, Garbanzo Beans\, and Fresh Basil\nThai Chicken Meatballs\nTeriyaki Glazed Beef Brochettes\nTomato and Caramelized Onion Blue Cheese Tarts\n\nDesserts \n\nChocolate Creme Brulee\nLemon Roulade
URL:https://www.esplanadebytheislandslifestyle.com/event/its-a-wonderful-lifestyle-signature-event-3/
LOCATION:Resort Amenity Campus
CATEGORIES:Courts,Lifestyle Activities and Events
ATTACH;FMTTYPE=image/jpeg:https://www.esplanadebytheislandslifestyle.com/wp-content/uploads/sites/64/2024/10/its-a-wonderful-lifestyle_islands.jpg
END:VEVENT
BEGIN:VEVENT
DTSTART;TZID=America/New_York:20241205T100000
DTEND;TZID=America/New_York:20241205T160000
DTSTAMP:20260423T131345
CREATED:20241118T141821Z
LAST-MODIFIED:20241118T141821Z
UID:41483-1733392800-1733414400@www.esplanadebytheislandslifestyle.com
SUMMARY:Better Than a Bistro Food Truck
DESCRIPTION:We’re excited to announce that a high-quality meat and seafood distributor\, Better Than a Bistro\, will be visiting our community on December 5th! This is a fantastic opportunity for you to stock up on fresh\, premium meats and seafood at great prices just in time for the holidays. \nWhether you’re looking for a delicious cut of beef\, fresh fish\, or other specialty products\, they will have a wide selection available for purchase. It’s the perfect opportunity to grab high-quality food while supporting a local business. \nFeel free to browse their website here: Better Than a Bistro: Quality\, Convenience\, Affordability to Your Home
URL:https://www.esplanadebytheislandslifestyle.com/event/better-than-a-bistro-food-truck-2/
LOCATION:Resort Amenity Campus Parking Area
CATEGORIES:Dining & Happy Hour,Lifestyle Activities and Events
ATTACH;FMTTYPE=image/jpeg:https://www.esplanadebytheislandslifestyle.com/wp-content/uploads/sites/64/2024/11/PackagedBeef-scaled.jpg
END:VEVENT
BEGIN:VEVENT
DTSTART;VALUE=DATE:20241204
DTEND;VALUE=DATE:20241205
DTSTAMP:20260423T131345
CREATED:20241014T181002Z
LAST-MODIFIED:20241014T181002Z
UID:39799-1733270400-1733356799@www.esplanadebytheislandslifestyle.com
SUMMARY:Fishing Club Outing
DESCRIPTION:Every month there will be a new fishing excursion for club Members. Please reach out to David Amadori for details at davidamadori@aol.com. \nTo reserve your spot for the multi-person vessel\, contact a representative through the link below and ask for the half day\, 4.5 hour morning trip. \nhttps://www.naplesfishingboat.com/ \n 
URL:https://www.esplanadebytheislandslifestyle.com/event/fishing-club-outing-4/
LOCATION:Naples Fishing Boat
CATEGORIES:Clubs
ATTACH;FMTTYPE=image/jpeg:https://www.esplanadebytheislandslifestyle.com/wp-content/uploads/sites/64/2023/06/mathieu-le-roux-6_HqvY1E7NI-unsplash-scaled.jpg
END:VEVENT
BEGIN:VEVENT
DTSTART;TZID=America/New_York:20241203T183000
DTEND;TZID=America/New_York:20241203T193000
DTSTAMP:20260423T131345
CREATED:20241028T150116Z
LAST-MODIFIED:20241202T162020Z
UID:38059-1733250600-1733254200@www.esplanadebytheislandslifestyle.com
SUMMARY:Ornament Decorating
DESCRIPTION:Unleash your festive spirit and join us for an ornament decorating event. Whether you’re a crafting pro or a holiday enthusiast\, this is the perfect opportunity to create a beautiful\, personalized ornament that will add a special touch to your holiday decor. Make your holiday season extra bright with your own handmade creation!
URL:https://www.esplanadebytheislandslifestyle.com/event/ornament-decorating/
LOCATION:Sales Gallery
CATEGORIES:Arts & Crafts,Courts,Lifestyle Activities and Events
ATTACH;FMTTYPE=image/jpeg:https://www.esplanadebytheislandslifestyle.com/wp-content/uploads/sites/64/2024/09/TreeTrimming-scaled.jpg
END:VEVENT
BEGIN:VEVENT
DTSTART;VALUE=DATE:20241202
DTEND;VALUE=DATE:20241216
DTSTAMP:20260423T131345
CREATED:20241022T165248Z
LAST-MODIFIED:20241119T172043Z
UID:38057-1733097600-1734307199@www.esplanadebytheislandslifestyle.com
SUMMARY:Toys for Tots Toy Drive
DESCRIPTION:This holiday season\, help us make a child’s dream come true! Bring a new\, unwrapped toy to the Sales Gallery during business hours between December 2-15 to get on “The Nice List”! Together\, we can fill this season with magic and create lasting memories for children in need.   \nThe mission of the Marine Toys for Tots Program is to collect new unwrapped toys and distribute those toys to less fortunate children at Christmas. The Marine Toys for Tots Foundation\, is an IRS recognized 501(c)(3) not-for-profit public charity which was created at the behest of the U.S. Marine Corps in 1991.
URL:https://www.esplanadebytheislandslifestyle.com/event/toys-for-tots-toy-drive/
LOCATION:Sales Gallery
CATEGORIES:Courts,Lifestyle Activities and Events
ATTACH;FMTTYPE=image/jpeg:https://www.esplanadebytheislandslifestyle.com/wp-content/uploads/sites/64/2024/10/toy-drive-1.jpg
END:VEVENT
BEGIN:VEVENT
DTSTART;TZID=America/New_York:20241125T180000
DTEND;TZID=America/New_York:20241125T200000
DTSTAMP:20260423T131345
CREATED:20241018T142730Z
LAST-MODIFIED:20241018T142730Z
UID:38054-1732557600-1732564800@www.esplanadebytheislandslifestyle.com
SUMMARY:Member Mingler
DESCRIPTION:Join us for a fun and relaxed evening of connection and conversation at our Member Mingler. Whether you’re new to our community or a long-time Member\, this event is all about fostering a sense of community and making new connections. There will be icebreakers and games to spark conversation and fun! Feel free to bring your favorite beverage to enjoy.
URL:https://www.esplanadebytheislandslifestyle.com/event/member-mingler/
LOCATION:Sales Gallery
CATEGORIES:Lifestyle Activities and Events
ATTACH;FMTTYPE=image/jpeg:https://www.esplanadebytheislandslifestyle.com/wp-content/uploads/sites/64/2024/09/GroupPlayingGames.jpg
END:VEVENT
BEGIN:VEVENT
DTSTART;VALUE=DATE:20241120
DTEND;VALUE=DATE:20241121
DTSTAMP:20260423T131345
CREATED:20241014T181308Z
LAST-MODIFIED:20241014T181603Z
UID:39801-1732060800-1732147199@www.esplanadebytheislandslifestyle.com
SUMMARY:Kayaking Club Outing
DESCRIPTION:Our Kayaking Club will be exploring new locations monthly. David Amadori will be the direct contact for coordinating amongst club Members. Please reach out to him at davidamadori@aol.com for details. \nIf you are not an owner of a kayak\, you are able to rent and have one delivered through the following outfitters. \nhttps://www.risingtidefl.com/ \nhttps://www.paddlemarco.com/ \n 
URL:https://www.esplanadebytheislandslifestyle.com/event/kayaking-club-outing-4/
CATEGORIES:Clubs
ATTACH;FMTTYPE=image/jpeg:https://www.esplanadebytheislandslifestyle.com/wp-content/uploads/sites/64/2022/01/iStock-868818880-1024x684-square.jpg
END:VEVENT
BEGIN:VEVENT
DTSTART;TZID=America/New_York:20241119T090000
DTEND;TZID=America/New_York:20241119T100000
DTSTAMP:20260423T131345
CREATED:20240923T140036Z
LAST-MODIFIED:20241118T225252Z
UID:38048-1732006800-1732010400@www.esplanadebytheislandslifestyle.com
SUMMARY:Esplanade 101 - Canceled
DESCRIPTION:New Members can meet with the CAM and Lifestyle Manager to briefly discuss HOA and Lifestyle topics outlined in your Resident Handbook. Normally held on a Tuesday during the month\, all closed residents are welcome attend.
URL:https://www.esplanadebytheislandslifestyle.com/event/esplanade-101/
LOCATION:Wellness Center
CATEGORIES:Community Meetings
ATTACH;FMTTYPE=image/png:https://www.esplanadebytheislandslifestyle.com/wp-content/uploads/sites/64/2024/09/Esplanade101.png
END:VEVENT
BEGIN:VEVENT
DTSTART;TZID=America/New_York:20241114T100000
DTEND;TZID=America/New_York:20241114T160000
DTSTAMP:20260423T131345
CREATED:20241106T173729Z
LAST-MODIFIED:20241106T173729Z
UID:40909-1731578400-1731600000@www.esplanadebytheislandslifestyle.com
SUMMARY:Better Than a Bistro Food Truck
DESCRIPTION:We’re excited to announce that a high-quality meat and seafood distributor\, Better Than a Bistro\, will be visiting our community on November 14th! This is a fantastic opportunity for you to stock up on fresh\, premium meats and seafood at great prices just in time for the holidays. \nWhether you’re looking for a delicious cut of beef\, fresh fish\, or other specialty products\, they will have a wide selection available for purchase. It’s the perfect opportunity to grab high-quality food while supporting a local business. \nFeel free to browse their website here: Better Than a Bistro: Quality\, Convenience\, Affordability to Your Home
URL:https://www.esplanadebytheislandslifestyle.com/event/better-than-a-bistro-food-truck/
LOCATION:Resort Amenity Campus Parking Area
CATEGORIES:Dining & Happy Hour,Lifestyle Activities and Events
ATTACH;FMTTYPE=image/jpeg:https://www.esplanadebytheislandslifestyle.com/wp-content/uploads/sites/64/2024/11/PackagedBeef-scaled.jpg
END:VEVENT
BEGIN:VEVENT
DTSTART;TZID=America/New_York:20241112T160000
DTEND;TZID=America/New_York:20241112T170000
DTSTAMP:20260423T131345
CREATED:20241003T162210Z
LAST-MODIFIED:20241111T180242Z
UID:39391-1731427200-1731430800@www.esplanadebytheislandslifestyle.com
SUMMARY:Cupcake Decorating
DESCRIPTION:This fun-filled occasion is perfect for cupcake enthusiasts of all ages\, offering a chance to showcase your creativity and enjoy delicious treats! Don’t miss out on this sweet celebration!
URL:https://www.esplanadebytheislandslifestyle.com/event/cupcake-decorating-2/
LOCATION:Bahama Bar\, 15450 Bella Tesoro Street\, Naples\, FL\, 34114\, United States
CATEGORIES:Dining & Happy Hour,Lifestyle Activities and Events
ATTACH;FMTTYPE=image/jpeg:https://www.esplanadebytheislandslifestyle.com/wp-content/uploads/sites/64/2024/08/spiced-apple-cider-cranberry-cupcakes-1411166085.jpg
END:VEVENT
BEGIN:VEVENT
DTSTART;TZID=America/New_York:20241111T183000
DTEND;TZID=America/New_York:20241111T193000
DTSTAMP:20260423T131345
CREATED:20241007T201724Z
LAST-MODIFIED:20241028T150142Z
UID:38042-1731349800-1731353400@www.esplanadebytheislandslifestyle.com
SUMMARY:DIY Fall Candle Votive Decorating Class
DESCRIPTION:As the crisp autumn air settles in\, what better way to embrace the season than by creating your very own fall-themed candle votive? The candle votive will make for a cozy addition to your fall decor. \n 
URL:https://www.esplanadebytheislandslifestyle.com/event/diy-fall-candle-votive-decorating-class/
LOCATION:Sales Gallery
CATEGORIES:Arts & Crafts,Lifestyle Activities and Events
ATTACH;FMTTYPE=image/jpeg:https://www.esplanadebytheislandslifestyle.com/wp-content/uploads/sites/64/2024/10/Candle-Making-2.jpg
END:VEVENT
BEGIN:VEVENT
DTSTART;TZID=America/New_York:20241107T080000
DTEND;TZID=America/New_York:20241107T090000
DTSTAMP:20260423T131345
CREATED:20241007T201532Z
LAST-MODIFIED:20241106T152930Z
UID:38038-1730966400-1730970000@www.esplanadebytheislandslifestyle.com
SUMMARY:Waggin' Tails on Esplanade Trails - POSTPONED due to rain
DESCRIPTION:Come enjoy a leisurely stroll through our community with your neighbors and their furry friends. Walking your dog(s) as a group can allow you to get to know your neighbors better and may even spark some friendships for your four-legged companions as well.
URL:https://www.esplanadebytheislandslifestyle.com/event/waggin-tails-on-esplanade-trails/
LOCATION:Sales Gallery
CATEGORIES:Lifestyle Activities and Events
ATTACH;FMTTYPE=image/jpeg:https://www.esplanadebytheislandslifestyle.com/wp-content/uploads/sites/64/2024/10/Pets.jpg
END:VEVENT
BEGIN:VEVENT
DTSTART;TZID=America/New_York:20241105T090000
DTEND;TZID=America/New_York:20241105T100000
DTSTAMP:20260423T131345
CREATED:20240912T133231Z
LAST-MODIFIED:20241017T191356Z
UID:37707-1730797200-1730800800@www.esplanadebytheislandslifestyle.com
SUMMARY:Coffee and Conversation / Neighborhood News
DESCRIPTION:Meet with your Lifestyle Manager and Community Association Manager in a relaxed and social atmosphere to discuss Lifestyle and Community news and share ideas.
URL:https://www.esplanadebytheislandslifestyle.com/event/coffee-and-conversation-neighborhood-news-15/
LOCATION:Resort Amenity Campus Veranda
CATEGORIES:Community Meetings
ATTACH;FMTTYPE=image/jpeg:https://www.esplanadebytheislandslifestyle.com/wp-content/uploads/sites/64/2024/09/CoffeeCheers.jpg
END:VEVENT
BEGIN:VEVENT
DTSTART;TZID=America/New_York:20241104T120000
DTEND;TZID=America/New_York:20241104T170000
DTSTAMP:20260423T131345
CREATED:20241022T154938Z
LAST-MODIFIED:20241022T154938Z
UID:40004-1730721600-1730739600@www.esplanadebytheislandslifestyle.com
SUMMARY:Blood Drive
DESCRIPTION:We are excited to invite you to a blood drive with Oneblood. Your donation can make a lifesaving difference for those in need. All donors will receive a few fun gifts\, in addition to a quick wellness checkup. \nAppointments are encouraged\, walk-ins are welcome. \nA form of identification is required to donate. \nPlease access this link to schedule an appointment: Scheduler | Donate Blood or Platelets (oneblood.org)
URL:https://www.esplanadebytheislandslifestyle.com/event/blood-drive-3/
LOCATION:Resort Amenity Campus Parking Area
CATEGORIES:Fitness & Wellness
ATTACH;FMTTYPE=image/jpeg:https://www.esplanadebytheislandslifestyle.com/wp-content/uploads/sites/64/2024/10/BloodDrive.jpg
END:VEVENT
BEGIN:VEVENT
DTSTART;VALUE=DATE:20241101
DTEND;VALUE=DATE:20241122
DTSTAMP:20260423T131345
CREATED:20241007T201159Z
LAST-MODIFIED:20241119T171244Z
UID:38036-1730419200-1732233599@www.esplanadebytheislandslifestyle.com
SUMMARY:Thanksgiving Canned Food Drive
DESCRIPTION:As we approach this season of gratitude\, let’s come together to support those in need. We’re excited to launch our Thanksgiving Canned Food Drive\, and we need your help to make this holiday season special for everyone! Your generosity can help ensure that every table has something to be thankful for this holiday season. Together\, we can make a meaningful impact and bring joy to those who need it most. Please drop off your canned goods during the Sales Gallery’s business hours. Thank you for your support and generosity!
URL:https://www.esplanadebytheislandslifestyle.com/event/thanksgiving-canned-food-drive/
LOCATION:Sales Gallery
CATEGORIES:Courts,Lifestyle Activities and Events
ATTACH;FMTTYPE=image/jpeg:https://www.esplanadebytheislandslifestyle.com/wp-content/uploads/sites/64/2024/10/FoodDrive.jpg
END:VEVENT
BEGIN:VEVENT
DTSTART;TZID=America/New_York:20240919T174500
DTEND;TZID=America/New_York:20240919T194500
DTSTAMP:20260423T131345
CREATED:20240911T081509Z
LAST-MODIFIED:20240919T144739Z
UID:37694-1726767900-1726775100@www.esplanadebytheislandslifestyle.com
SUMMARY:Wellness Center Ribbon Cutting
DESCRIPTION:The wait is over! The latest resort-style amenities are now opening at Esplanade by the Islands! \nAs a Member of this signature Esplanade community\, you will be among the first to experience the newly completed Wellness Center\, Resort-Style Pool\, Bahama Bar\, The Spa at Esplanade and opening soon\, Toasted Café. We invite you to enjoy an unparalleled lifestyle through the vibrant spaces and inspired experiences offered only at Esplanade. \nTo celebrate this exciting milestone within our community\, we invite you to join us for a ribbon cutting ceremony and champagne toast at 5:45 pm on Thursday\, September 19 in front of the Wellness Center!
URL:https://www.esplanadebytheislandslifestyle.com/event/wellness-center-ribbon-cutting/
CATEGORIES:Lifestyle Activities and Events
END:VEVENT
END:VCALENDAR