BEGIN:VCALENDAR
VERSION:2.0
PRODID:-//Esplanade by the Islands - ECPv6.15.15//NONSGML v1.0//EN
CALSCALE:GREGORIAN
METHOD:PUBLISH
X-ORIGINAL-URL:https://www.esplanadebytheislandslifestyle.com
X-WR-CALDESC:Events for Esplanade by the Islands
REFRESH-INTERVAL;VALUE=DURATION:PT1H
X-Robots-Tag:noindex
X-PUBLISHED-TTL:PT1H
BEGIN:VTIMEZONE
TZID:America/New_York
BEGIN:DAYLIGHT
TZOFFSETFROM:-0500
TZOFFSETTO:-0400
TZNAME:EDT
DTSTART:20250309T070000
END:DAYLIGHT
BEGIN:STANDARD
TZOFFSETFROM:-0400
TZOFFSETTO:-0500
TZNAME:EST
DTSTART:20251102T060000
END:STANDARD
BEGIN:DAYLIGHT
TZOFFSETFROM:-0500
TZOFFSETTO:-0400
TZNAME:EDT
DTSTART:20260308T070000
END:DAYLIGHT
BEGIN:STANDARD
TZOFFSETFROM:-0400
TZOFFSETTO:-0500
TZNAME:EST
DTSTART:20261101T060000
END:STANDARD
BEGIN:DAYLIGHT
TZOFFSETFROM:-0500
TZOFFSETTO:-0400
TZNAME:EDT
DTSTART:20270314T070000
END:DAYLIGHT
BEGIN:STANDARD
TZOFFSETFROM:-0400
TZOFFSETTO:-0500
TZNAME:EST
DTSTART:20271107T060000
END:STANDARD
END:VTIMEZONE
BEGIN:VEVENT
DTSTART;TZID=America/New_York:20260416T080000
DTEND;TZID=America/New_York:20260421T170000
DTSTAMP:20260421T080052
CREATED:20260415T201917Z
LAST-MODIFIED:20260418T131047Z
UID:71989-1776326400-1776790800@www.esplanadebytheislandslifestyle.com
SUMMARY:Earth Day Nature Photo Contest
DESCRIPTION:Celebrate Earth Day by sharing the beauty of nature through your own lens! Members are invited to submit one of their own photos\, capturing the landscapes\, plants\, wildlife or other nature moments celebrating our planet. All submitted photos will be displayed at the Venue\, where fellow members can stop by\, enjoy the gallery\, and vote for their favorites. It’s a fun\, interactive way to showcase local beauty and celebrate our planet together. See below for rules and details. \n\nPhoto Submission Rules: \n\nOne photo per person\nPhotos must be taken by the person submitting them\nEmail photos to Kyla.Burkitt@TeamEsplanade.com\nUse the subject line: “Earth Day Photo Contest”\nPhotos must be submitted by 12:00 pm (noon) on Sunday\, April 19\n\nVoting Details: \n\nVoting must take place in person at the Venue\nOne vote per person\nVoting is open from April 20 through April 21\n\nThe winner will be announced on April 22 (Earth Day!)
URL:https://www.esplanadebytheislandslifestyle.com/event/earth-day-nature-photo-contest/
LOCATION:The Venue
CATEGORIES:Lifestyle Activities and Events
ATTACH;FMTTYPE=image/jpeg:https://www.esplanadebytheislandslifestyle.com/wp-content/uploads/sites/64/2026/04/camera.jpg
END:VEVENT
BEGIN:VEVENT
DTSTART;VALUE=DATE:20260422
DTEND;VALUE=DATE:20260423
DTSTAMP:20260421T080052
CREATED:20260330T145322Z
LAST-MODIFIED:20260402T143050Z
UID:71471-1776816000-1776902399@www.esplanadebytheislandslifestyle.com
SUMMARY:Private Board Meeting
DESCRIPTION:The Venue is reserved for a board meeting
URL:https://www.esplanadebytheislandslifestyle.com/event/private-event-5/
LOCATION:The Venue
CATEGORIES:Lifestyle Activities and Events
END:VEVENT
BEGIN:VEVENT
DTSTART;TZID=America/New_York:20260422T080000
DTEND;TZID=America/New_York:20260422T083000
DTSTAMP:20260421T080052
CREATED:20260415T165405Z
LAST-MODIFIED:20260415T165405Z
UID:71982-1776844800-1776846600@www.esplanadebytheislandslifestyle.com
SUMMARY:Morning Nature Walk
DESCRIPTION:Meet us outside of the Venue to kick off Earth Day with an energizing morning nature walk that invites you to slow down\, look around\, and fully take in the beauty that surrounds us. Breathe in the fresh air\, notice the colors\, sounds\, and textures of nature\, and reconnect with the world right outside your door. This uplifting walk is all about appreciation\, awareness\, and celebrating the incredible environment we’re lucky to enjoy every day. (Approximately 1 mile)
URL:https://www.esplanadebytheislandslifestyle.com/event/morning-nature-walk/
LOCATION:The Venue
CATEGORIES:Lifestyle Activities and Events
ATTACH;FMTTYPE=image/png:https://www.esplanadebytheislandslifestyle.com/wp-content/uploads/sites/64/2023/12/WalkingNatureTrails.png
END:VEVENT
BEGIN:VEVENT
DTSTART;TZID=America/New_York:20260423T100000
DTEND;TZID=America/New_York:20260423T140000
DTSTAMP:20260421T080052
CREATED:20260306T144311Z
LAST-MODIFIED:20260306T144311Z
UID:68426-1776938400-1776952800@www.esplanadebytheislandslifestyle.com
SUMMARY:Better Than a Bistro On Site
DESCRIPTION:Better Than A Bistro will deliver to the community everything from Signature Black Label Steaks to Wagyu to Kobe to Prime Steaks. Their seafood is Sashimi Grade from locations throughout the world. Their poultry is Antibiotic\, Hormone and Steroid-free. They have Veal Chops and Veal Cutlets\, Lamb Chops to Lollipop Lamb chops to Rack of Lamb and even Leg of lamb as well. Their desserts come from New York\, France and Italy. \nFor those who take entertaining seriously\, they will be offering a complete line of exceptional Hors d’oeuvres and Appetizers. For those who desire something they do not usually offer\, please let us know. They will reach out to their purveyors and do their very best to get it for you. \nAt Better Than A Bistro\, they strive to only purchase the highest grades in beef\, poultry and seafood. They know that once you try any of their products\, you\, your family and your guest will enjoy every meal at your dinner table. \nFeel free to browse their website here: Better Than a Bistro: Quality\, Convenience\, Affordability to Your Home
URL:https://www.esplanadebytheislandslifestyle.com/event/better-than-a-bistro-on-site-16/2026-04-23/
LOCATION:Resort Amenity Campus Parking Area
CATEGORIES:Lifestyle Activities and Events
ATTACH;FMTTYPE=image/jpeg:https://www.esplanadebytheislandslifestyle.com/wp-content/uploads/sites/64/2024/11/PackagedBeef-scaled.jpg
END:VEVENT
BEGIN:VEVENT
DTSTART;TZID=America/New_York:20260430T100000
DTEND;TZID=America/New_York:20260430T140000
DTSTAMP:20260421T080052
CREATED:20260306T144311Z
LAST-MODIFIED:20260306T144311Z
UID:68427-1777543200-1777557600@www.esplanadebytheislandslifestyle.com
SUMMARY:Better Than a Bistro On Site
DESCRIPTION:Better Than A Bistro will deliver to the community everything from Signature Black Label Steaks to Wagyu to Kobe to Prime Steaks. Their seafood is Sashimi Grade from locations throughout the world. Their poultry is Antibiotic\, Hormone and Steroid-free. They have Veal Chops and Veal Cutlets\, Lamb Chops to Lollipop Lamb chops to Rack of Lamb and even Leg of lamb as well. Their desserts come from New York\, France and Italy. \nFor those who take entertaining seriously\, they will be offering a complete line of exceptional Hors d’oeuvres and Appetizers. For those who desire something they do not usually offer\, please let us know. They will reach out to their purveyors and do their very best to get it for you. \nAt Better Than A Bistro\, they strive to only purchase the highest grades in beef\, poultry and seafood. They know that once you try any of their products\, you\, your family and your guest will enjoy every meal at your dinner table. \nFeel free to browse their website here: Better Than a Bistro: Quality\, Convenience\, Affordability to Your Home
URL:https://www.esplanadebytheislandslifestyle.com/event/better-than-a-bistro-on-site-16/2026-04-30/
LOCATION:Resort Amenity Campus Parking Area
CATEGORIES:Lifestyle Activities and Events
ATTACH;FMTTYPE=image/jpeg:https://www.esplanadebytheislandslifestyle.com/wp-content/uploads/sites/64/2024/11/PackagedBeef-scaled.jpg
END:VEVENT
BEGIN:VEVENT
DTSTART;TZID=America/New_York:20260430T163000
DTEND;TZID=America/New_York:20260430T183000
DTSTAMP:20260421T080052
CREATED:20260313T161255Z
LAST-MODIFIED:20260409T200120Z
UID:69420-1777566600-1777573800@www.esplanadebytheislandslifestyle.com
SUMMARY:National Tie-Dye Day
DESCRIPTION:Join us at the Venue Lawn from 4:30 to 6:30 pm as we celebrate National Tie Dye Day! Bring the shirt you want to dye\, and we’ll take care of the rest! (Friendly tip: solid white works best\, but other light colors will work in a pinch!) \n1 item per person.
URL:https://www.esplanadebytheislandslifestyle.com/event/national-tie-dye-day/
LOCATION:The Venue Lawn
CATEGORIES:Lifestyle Activities and Events
ATTACH;FMTTYPE=image/jpeg:https://www.esplanadebytheislandslifestyle.com/wp-content/uploads/sites/64/2025/04/ArtsCrafts-1.jpg
END:VEVENT
BEGIN:VEVENT
DTSTART;TZID=America/New_York:20260502T130000
DTEND;TZID=America/New_York:20260502T150000
DTSTAMP:20260421T080052
CREATED:20260313T153711Z
LAST-MODIFIED:20260313T154016Z
UID:69413-1777726800-1777734000@www.esplanadebytheislandslifestyle.com
SUMMARY:National Herb Day
DESCRIPTION:Join us at the Venue Lawn from 1 to 3 pm on May 2nd as we celebrate National Herb Day! We’ll provide everything you need to plant an assortment of your very own potted herbs to take home.
URL:https://www.esplanadebytheislandslifestyle.com/event/national-herb-day/
LOCATION:The Venue Lawn
CATEGORIES:Lifestyle Activities and Events
ATTACH;FMTTYPE=image/jpeg:https://www.esplanadebytheislandslifestyle.com/wp-content/uploads/sites/64/2026/03/potted-plant.jpg
END:VEVENT
BEGIN:VEVENT
DTSTART;TZID=America/New_York:20260506T163000
DTEND;TZID=America/New_York:20260506T183000
DTSTAMP:20260421T080052
CREATED:20260409T155017Z
LAST-MODIFIED:20260409T155017Z
UID:71798-1778085000-1778092200@www.esplanadebytheislandslifestyle.com
SUMMARY:May Flowers Paw-trait Painting
DESCRIPTION:Bring on the blooms—and the boops! Join us for May Flowers Paw‑trait Painting\, where your dog’s paws become the paintbrush. We’ll help you turn those adorable paw prints into a cheerful bouquet of spring flowers. All supplies are provided\, and every pup is welcome to make their mark.
URL:https://www.esplanadebytheislandslifestyle.com/event/may-flowers-paw-trait-painting/
LOCATION:The Venue Lawn
CATEGORIES:Lifestyle Activities and Events
ATTACH;FMTTYPE=image/jpeg:https://www.esplanadebytheislandslifestyle.com/wp-content/uploads/sites/64/2026/01/DOGS.jpg
END:VEVENT
BEGIN:VEVENT
DTSTART;TZID=America/New_York:20260507T100000
DTEND;TZID=America/New_York:20260507T140000
DTSTAMP:20260421T080052
CREATED:20260306T144311Z
LAST-MODIFIED:20260306T144311Z
UID:68428-1778148000-1778162400@www.esplanadebytheislandslifestyle.com
SUMMARY:Better Than a Bistro On Site
DESCRIPTION:Better Than A Bistro will deliver to the community everything from Signature Black Label Steaks to Wagyu to Kobe to Prime Steaks. Their seafood is Sashimi Grade from locations throughout the world. Their poultry is Antibiotic\, Hormone and Steroid-free. They have Veal Chops and Veal Cutlets\, Lamb Chops to Lollipop Lamb chops to Rack of Lamb and even Leg of lamb as well. Their desserts come from New York\, France and Italy. \nFor those who take entertaining seriously\, they will be offering a complete line of exceptional Hors d’oeuvres and Appetizers. For those who desire something they do not usually offer\, please let us know. They will reach out to their purveyors and do their very best to get it for you. \nAt Better Than A Bistro\, they strive to only purchase the highest grades in beef\, poultry and seafood. They know that once you try any of their products\, you\, your family and your guest will enjoy every meal at your dinner table. \nFeel free to browse their website here: Better Than a Bistro: Quality\, Convenience\, Affordability to Your Home
URL:https://www.esplanadebytheislandslifestyle.com/event/better-than-a-bistro-on-site-16/2026-05-07/
LOCATION:Resort Amenity Campus Parking Area
CATEGORIES:Lifestyle Activities and Events
ATTACH;FMTTYPE=image/jpeg:https://www.esplanadebytheislandslifestyle.com/wp-content/uploads/sites/64/2024/11/PackagedBeef-scaled.jpg
END:VEVENT
BEGIN:VEVENT
DTSTART;TZID=America/New_York:20260514T100000
DTEND;TZID=America/New_York:20260514T140000
DTSTAMP:20260421T080052
CREATED:20260306T144312Z
LAST-MODIFIED:20260306T144312Z
UID:68429-1778752800-1778767200@www.esplanadebytheislandslifestyle.com
SUMMARY:Better Than a Bistro On Site
DESCRIPTION:Better Than A Bistro will deliver to the community everything from Signature Black Label Steaks to Wagyu to Kobe to Prime Steaks. Their seafood is Sashimi Grade from locations throughout the world. Their poultry is Antibiotic\, Hormone and Steroid-free. They have Veal Chops and Veal Cutlets\, Lamb Chops to Lollipop Lamb chops to Rack of Lamb and even Leg of lamb as well. Their desserts come from New York\, France and Italy. \nFor those who take entertaining seriously\, they will be offering a complete line of exceptional Hors d’oeuvres and Appetizers. For those who desire something they do not usually offer\, please let us know. They will reach out to their purveyors and do their very best to get it for you. \nAt Better Than A Bistro\, they strive to only purchase the highest grades in beef\, poultry and seafood. They know that once you try any of their products\, you\, your family and your guest will enjoy every meal at your dinner table. \nFeel free to browse their website here: Better Than a Bistro: Quality\, Convenience\, Affordability to Your Home
URL:https://www.esplanadebytheislandslifestyle.com/event/better-than-a-bistro-on-site-16/2026-05-14/
LOCATION:Resort Amenity Campus Parking Area
CATEGORIES:Lifestyle Activities and Events
ATTACH;FMTTYPE=image/jpeg:https://www.esplanadebytheislandslifestyle.com/wp-content/uploads/sites/64/2024/11/PackagedBeef-scaled.jpg
END:VEVENT
BEGIN:VEVENT
DTSTART;TZID=America/New_York:20260521T100000
DTEND;TZID=America/New_York:20260521T140000
DTSTAMP:20260421T080052
CREATED:20260306T144312Z
LAST-MODIFIED:20260306T144312Z
UID:68430-1779357600-1779372000@www.esplanadebytheislandslifestyle.com
SUMMARY:Better Than a Bistro On Site
DESCRIPTION:Better Than A Bistro will deliver to the community everything from Signature Black Label Steaks to Wagyu to Kobe to Prime Steaks. Their seafood is Sashimi Grade from locations throughout the world. Their poultry is Antibiotic\, Hormone and Steroid-free. They have Veal Chops and Veal Cutlets\, Lamb Chops to Lollipop Lamb chops to Rack of Lamb and even Leg of lamb as well. Their desserts come from New York\, France and Italy. \nFor those who take entertaining seriously\, they will be offering a complete line of exceptional Hors d’oeuvres and Appetizers. For those who desire something they do not usually offer\, please let us know. They will reach out to their purveyors and do their very best to get it for you. \nAt Better Than A Bistro\, they strive to only purchase the highest grades in beef\, poultry and seafood. They know that once you try any of their products\, you\, your family and your guest will enjoy every meal at your dinner table. \nFeel free to browse their website here: Better Than a Bistro: Quality\, Convenience\, Affordability to Your Home
URL:https://www.esplanadebytheislandslifestyle.com/event/better-than-a-bistro-on-site-16/2026-05-21/
LOCATION:Resort Amenity Campus Parking Area
CATEGORIES:Lifestyle Activities and Events
ATTACH;FMTTYPE=image/jpeg:https://www.esplanadebytheislandslifestyle.com/wp-content/uploads/sites/64/2024/11/PackagedBeef-scaled.jpg
END:VEVENT
BEGIN:VEVENT
DTSTART;TZID=America/New_York:20260521T180000
DTEND;TZID=America/New_York:20260521T200000
DTSTAMP:20260421T080052
CREATED:20260310T141522Z
LAST-MODIFIED:20260310T141522Z
UID:69347-1779386400-1779393600@www.esplanadebytheislandslifestyle.com
SUMMARY:Trivia Night
DESCRIPTION:Think you know it all? Put your brain to the test and join us for a fun-filled evening of challenging questions\, friendly competition\, and great drinks. Bring your friends\, form a team\, and see if you have what it takes to claim the trivia crown!
URL:https://www.esplanadebytheislandslifestyle.com/event/trivia-night-3/
LOCATION:Resort Amenity Campus Veranda
ATTACH;FMTTYPE=image/png:https://www.esplanadebytheislandslifestyle.com/wp-content/uploads/sites/64/2025/05/Trivia-1.png
END:VEVENT
BEGIN:VEVENT
DTSTART;TZID=America/New_York:20260528T100000
DTEND;TZID=America/New_York:20260528T140000
DTSTAMP:20260421T080052
CREATED:20260306T144312Z
LAST-MODIFIED:20260306T144312Z
UID:68432-1779962400-1779976800@www.esplanadebytheislandslifestyle.com
SUMMARY:Better Than a Bistro On Site
DESCRIPTION:Better Than A Bistro will deliver to the community everything from Signature Black Label Steaks to Wagyu to Kobe to Prime Steaks. Their seafood is Sashimi Grade from locations throughout the world. Their poultry is Antibiotic\, Hormone and Steroid-free. They have Veal Chops and Veal Cutlets\, Lamb Chops to Lollipop Lamb chops to Rack of Lamb and even Leg of lamb as well. Their desserts come from New York\, France and Italy. \nFor those who take entertaining seriously\, they will be offering a complete line of exceptional Hors d’oeuvres and Appetizers. For those who desire something they do not usually offer\, please let us know. They will reach out to their purveyors and do their very best to get it for you. \nAt Better Than A Bistro\, they strive to only purchase the highest grades in beef\, poultry and seafood. They know that once you try any of their products\, you\, your family and your guest will enjoy every meal at your dinner table. \nFeel free to browse their website here: Better Than a Bistro: Quality\, Convenience\, Affordability to Your Home
URL:https://www.esplanadebytheislandslifestyle.com/event/better-than-a-bistro-on-site-16/2026-05-28/
LOCATION:Resort Amenity Campus Parking Area
CATEGORIES:Lifestyle Activities and Events
ATTACH;FMTTYPE=image/jpeg:https://www.esplanadebytheislandslifestyle.com/wp-content/uploads/sites/64/2024/11/PackagedBeef-scaled.jpg
END:VEVENT
BEGIN:VEVENT
DTSTART;TZID=America/New_York:20260604T100000
DTEND;TZID=America/New_York:20260604T140000
DTSTAMP:20260421T080052
CREATED:20260306T144312Z
LAST-MODIFIED:20260306T144312Z
UID:68433-1780567200-1780581600@www.esplanadebytheislandslifestyle.com
SUMMARY:Better Than a Bistro On Site
DESCRIPTION:Better Than A Bistro will deliver to the community everything from Signature Black Label Steaks to Wagyu to Kobe to Prime Steaks. Their seafood is Sashimi Grade from locations throughout the world. Their poultry is Antibiotic\, Hormone and Steroid-free. They have Veal Chops and Veal Cutlets\, Lamb Chops to Lollipop Lamb chops to Rack of Lamb and even Leg of lamb as well. Their desserts come from New York\, France and Italy. \nFor those who take entertaining seriously\, they will be offering a complete line of exceptional Hors d’oeuvres and Appetizers. For those who desire something they do not usually offer\, please let us know. They will reach out to their purveyors and do their very best to get it for you. \nAt Better Than A Bistro\, they strive to only purchase the highest grades in beef\, poultry and seafood. They know that once you try any of their products\, you\, your family and your guest will enjoy every meal at your dinner table. \nFeel free to browse their website here: Better Than a Bistro: Quality\, Convenience\, Affordability to Your Home
URL:https://www.esplanadebytheislandslifestyle.com/event/better-than-a-bistro-on-site-16/2026-06-04/
LOCATION:Resort Amenity Campus Parking Area
CATEGORIES:Lifestyle Activities and Events
ATTACH;FMTTYPE=image/jpeg:https://www.esplanadebytheislandslifestyle.com/wp-content/uploads/sites/64/2024/11/PackagedBeef-scaled.jpg
END:VEVENT
BEGIN:VEVENT
DTSTART;TZID=America/New_York:20260611T100000
DTEND;TZID=America/New_York:20260611T140000
DTSTAMP:20260421T080052
CREATED:20260306T144314Z
LAST-MODIFIED:20260306T144314Z
UID:68434-1781172000-1781186400@www.esplanadebytheislandslifestyle.com
SUMMARY:Better Than a Bistro On Site
DESCRIPTION:Better Than A Bistro will deliver to the community everything from Signature Black Label Steaks to Wagyu to Kobe to Prime Steaks. Their seafood is Sashimi Grade from locations throughout the world. Their poultry is Antibiotic\, Hormone and Steroid-free. They have Veal Chops and Veal Cutlets\, Lamb Chops to Lollipop Lamb chops to Rack of Lamb and even Leg of lamb as well. Their desserts come from New York\, France and Italy. \nFor those who take entertaining seriously\, they will be offering a complete line of exceptional Hors d’oeuvres and Appetizers. For those who desire something they do not usually offer\, please let us know. They will reach out to their purveyors and do their very best to get it for you. \nAt Better Than A Bistro\, they strive to only purchase the highest grades in beef\, poultry and seafood. They know that once you try any of their products\, you\, your family and your guest will enjoy every meal at your dinner table. \nFeel free to browse their website here: Better Than a Bistro: Quality\, Convenience\, Affordability to Your Home
URL:https://www.esplanadebytheislandslifestyle.com/event/better-than-a-bistro-on-site-16/2026-06-11/
LOCATION:Resort Amenity Campus Parking Area
CATEGORIES:Lifestyle Activities and Events
ATTACH;FMTTYPE=image/jpeg:https://www.esplanadebytheislandslifestyle.com/wp-content/uploads/sites/64/2024/11/PackagedBeef-scaled.jpg
END:VEVENT
BEGIN:VEVENT
DTSTART;TZID=America/New_York:20260618T100000
DTEND;TZID=America/New_York:20260618T140000
DTSTAMP:20260421T080052
CREATED:20260306T144315Z
LAST-MODIFIED:20260306T144315Z
UID:68435-1781776800-1781791200@www.esplanadebytheislandslifestyle.com
SUMMARY:Better Than a Bistro On Site
DESCRIPTION:Better Than A Bistro will deliver to the community everything from Signature Black Label Steaks to Wagyu to Kobe to Prime Steaks. Their seafood is Sashimi Grade from locations throughout the world. Their poultry is Antibiotic\, Hormone and Steroid-free. They have Veal Chops and Veal Cutlets\, Lamb Chops to Lollipop Lamb chops to Rack of Lamb and even Leg of lamb as well. Their desserts come from New York\, France and Italy. \nFor those who take entertaining seriously\, they will be offering a complete line of exceptional Hors d’oeuvres and Appetizers. For those who desire something they do not usually offer\, please let us know. They will reach out to their purveyors and do their very best to get it for you. \nAt Better Than A Bistro\, they strive to only purchase the highest grades in beef\, poultry and seafood. They know that once you try any of their products\, you\, your family and your guest will enjoy every meal at your dinner table. \nFeel free to browse their website here: Better Than a Bistro: Quality\, Convenience\, Affordability to Your Home
URL:https://www.esplanadebytheislandslifestyle.com/event/better-than-a-bistro-on-site-16/2026-06-18/
LOCATION:Resort Amenity Campus Parking Area
CATEGORIES:Lifestyle Activities and Events
ATTACH;FMTTYPE=image/jpeg:https://www.esplanadebytheislandslifestyle.com/wp-content/uploads/sites/64/2024/11/PackagedBeef-scaled.jpg
END:VEVENT
BEGIN:VEVENT
DTSTART;TZID=America/New_York:20260625T100000
DTEND;TZID=America/New_York:20260625T140000
DTSTAMP:20260421T080052
CREATED:20260306T144315Z
LAST-MODIFIED:20260306T144315Z
UID:68436-1782381600-1782396000@www.esplanadebytheislandslifestyle.com
SUMMARY:Better Than a Bistro On Site
DESCRIPTION:Better Than A Bistro will deliver to the community everything from Signature Black Label Steaks to Wagyu to Kobe to Prime Steaks. Their seafood is Sashimi Grade from locations throughout the world. Their poultry is Antibiotic\, Hormone and Steroid-free. They have Veal Chops and Veal Cutlets\, Lamb Chops to Lollipop Lamb chops to Rack of Lamb and even Leg of lamb as well. Their desserts come from New York\, France and Italy. \nFor those who take entertaining seriously\, they will be offering a complete line of exceptional Hors d’oeuvres and Appetizers. For those who desire something they do not usually offer\, please let us know. They will reach out to their purveyors and do their very best to get it for you. \nAt Better Than A Bistro\, they strive to only purchase the highest grades in beef\, poultry and seafood. They know that once you try any of their products\, you\, your family and your guest will enjoy every meal at your dinner table. \nFeel free to browse their website here: Better Than a Bistro: Quality\, Convenience\, Affordability to Your Home
URL:https://www.esplanadebytheislandslifestyle.com/event/better-than-a-bistro-on-site-16/2026-06-25/
LOCATION:Resort Amenity Campus Parking Area
CATEGORIES:Lifestyle Activities and Events
ATTACH;FMTTYPE=image/jpeg:https://www.esplanadebytheislandslifestyle.com/wp-content/uploads/sites/64/2024/11/PackagedBeef-scaled.jpg
END:VEVENT
END:VCALENDAR