BEGIN:VCALENDAR
VERSION:2.0
PRODID:-//Esplanade by the Islands - ECPv6.15.15//NONSGML v1.0//EN
CALSCALE:GREGORIAN
METHOD:PUBLISH
X-ORIGINAL-URL:https://www.esplanadebytheislandslifestyle.com
X-WR-CALDESC:Events for Esplanade by the Islands
REFRESH-INTERVAL;VALUE=DURATION:PT1H
X-Robots-Tag:noindex
X-PUBLISHED-TTL:PT1H
BEGIN:VTIMEZONE
TZID:America/New_York
BEGIN:DAYLIGHT
TZOFFSETFROM:-0500
TZOFFSETTO:-0400
TZNAME:EDT
DTSTART:20230312T070000
END:DAYLIGHT
BEGIN:STANDARD
TZOFFSETFROM:-0400
TZOFFSETTO:-0500
TZNAME:EST
DTSTART:20231105T060000
END:STANDARD
BEGIN:DAYLIGHT
TZOFFSETFROM:-0500
TZOFFSETTO:-0400
TZNAME:EDT
DTSTART:20240310T070000
END:DAYLIGHT
BEGIN:STANDARD
TZOFFSETFROM:-0400
TZOFFSETTO:-0500
TZNAME:EST
DTSTART:20241103T060000
END:STANDARD
BEGIN:DAYLIGHT
TZOFFSETFROM:-0500
TZOFFSETTO:-0400
TZNAME:EDT
DTSTART:20250309T070000
END:DAYLIGHT
BEGIN:STANDARD
TZOFFSETFROM:-0400
TZOFFSETTO:-0500
TZNAME:EST
DTSTART:20251102T060000
END:STANDARD
BEGIN:DAYLIGHT
TZOFFSETFROM:-0500
TZOFFSETTO:-0400
TZNAME:EDT
DTSTART:20260308T070000
END:DAYLIGHT
BEGIN:STANDARD
TZOFFSETFROM:-0400
TZOFFSETTO:-0500
TZNAME:EST
DTSTART:20261101T060000
END:STANDARD
BEGIN:DAYLIGHT
TZOFFSETFROM:-0500
TZOFFSETTO:-0400
TZNAME:EDT
DTSTART:20270314T070000
END:DAYLIGHT
BEGIN:STANDARD
TZOFFSETFROM:-0400
TZOFFSETTO:-0500
TZNAME:EST
DTSTART:20271107T060000
END:STANDARD
END:VTIMEZONE
BEGIN:VEVENT
DTSTART;TZID=America/New_York:20260110T170000
DTEND;TZID=America/New_York:20260110T200000
DTSTAMP:20260422T063648
CREATED:20260106T195622Z
LAST-MODIFIED:20260106T195622Z
UID:64715-1768064400-1768075200@www.esplanadebytheislandslifestyle.com
SUMMARY:Live Entertainment at the Bahama Bar
DESCRIPTION:🎶 Live Music at the Bahama Bar! 🎶 \nCome and Enjoy the Sounds of Wendy Renee\nSaturday\, January 10\, 5 PM | 8 PM\nGet ready for a fantastic time as Wendy Renee takes the stage outside the Bahama Bar on the veranda! Whether you’re in the mood to hit the dance floor or relax with a drink and soak in her incredible vocals\, Wendy always delivers an unforgettable performance. \nCome join the fun\, feel the rhythm\, and let the good vibes make you happy!
URL:https://www.esplanadebytheislandslifestyle.com/event/live-entertainment-at-the-bahama-bar/
LOCATION:Bahama Bar\, 15450 Bella Tesoro Street\, Naples\, FL\, 34114\, United States
CATEGORIES:Dining & Happy Hour,Lifestyle Activities and Events
ATTACH;FMTTYPE=image/jpeg:https://www.esplanadebytheislandslifestyle.com/wp-content/uploads/sites/64/2026/01/Wendy-Renee.jpg
END:VEVENT
BEGIN:VEVENT
DTSTART;TZID=America/New_York:20251109T113000
DTEND;TZID=America/New_York:20251109T200000
DTSTAMP:20260422T063648
CREATED:20251002T161418Z
LAST-MODIFIED:20251002T161418Z
UID:59774-1762687800-1762718400@www.esplanadebytheislandslifestyle.com
SUMMARY:National Fried Chicken Sandwich Day
DESCRIPTION:Get ready to crunch\, munch\, and celebrate National Fried Chicken Sandwich Day at the Bahama Bar. Enjoy a limited-time fried chicken sandwich that’s crispy\, juicy\, and packed with flavor. Chef’s special creation will combine golden fried chicken and delicious toppings on a perfectly toasted bun.  
URL:https://www.esplanadebytheislandslifestyle.com/event/national-fried-chicken-sandwich-day/
LOCATION:Bahama Bar\, 15450 Bella Tesoro Street\, Naples\, FL\, 34114\, United States
CATEGORIES:Dining & Happy Hour,Lifestyle Activities and Events
ATTACH;FMTTYPE=image/jpeg:https://www.esplanadebytheislandslifestyle.com/wp-content/uploads/sites/64/2025/09/Fried-Chicken-Sandwhich-2.jpg
END:VEVENT
BEGIN:VEVENT
DTSTART;TZID=America/New_York:20251102T113000
DTEND;TZID=America/New_York:20251102T200000
DTSTAMP:20260422T063648
CREATED:20250929T164950Z
LAST-MODIFIED:20250929T164950Z
UID:59772-1762083000-1762113600@www.esplanadebytheislandslifestyle.com
SUMMARY:National Deviled Eggs Day
DESCRIPTION:Get egg-cited! The Bahama Bar is celebrating with a delicious one-day-only special. We’ll be featuring deviled eggs as a featured dish. This is the perfect time to indulge in the classic appetizer with a Bahama Bar twist. Pair it with one of our tropical cocktails or local brews for the ultimate flavor combo. 
URL:https://www.esplanadebytheislandslifestyle.com/event/national-deviled-eggs-day/
LOCATION:Bahama Bar\, 15450 Bella Tesoro Street\, Naples\, FL\, 34114\, United States
CATEGORIES:Dining & Happy Hour,Lifestyle Activities and Events
ATTACH;FMTTYPE=image/jpeg:https://www.esplanadebytheislandslifestyle.com/wp-content/uploads/sites/64/2025/09/Deviled-eggs-scaled.jpg
END:VEVENT
BEGIN:VEVENT
DTSTART;TZID=America/New_York:20251018T113000
DTEND;TZID=America/New_York:20251018T200000
DTSTAMP:20260422T063648
CREATED:20250908T150652Z
LAST-MODIFIED:20250908T150652Z
UID:58152-1760787000-1760817600@www.esplanadebytheislandslifestyle.com
SUMMARY:National Meatloaf Appreciation Day
DESCRIPTION:Comfort food fans\, this one’s for you! In honor of National Meatloaf Appreciation Day\, the Bahama Bar will be featuring a special meatloaf dish crafted just for the occasion. This hearty\, homestyle favorite will bring back all the nostalgic flavor you know and love. Whether you’re a longtime meatloaf enthusiast or just discovering its charm\, come enjoy a warm\, satisfying meal in celebration of this beloved dish! 
URL:https://www.esplanadebytheislandslifestyle.com/event/national-meatloaf-appreciation-day/
LOCATION:Bahama Bar\, 15450 Bella Tesoro Street\, Naples\, FL\, 34114\, United States
CATEGORIES:Dining & Happy Hour,Lifestyle Activities and Events
ATTACH;FMTTYPE=image/jpeg:https://www.esplanadebytheislandslifestyle.com/wp-content/uploads/sites/64/2025/09/Meatloaf-scaled.jpg
END:VEVENT
BEGIN:VEVENT
DTSTART;TZID=America/New_York:20251004T113000
DTEND;TZID=America/New_York:20251004T200000
DTSTAMP:20260422T063648
CREATED:20250902T193812Z
LAST-MODIFIED:20250902T193812Z
UID:58150-1759577400-1759608000@www.esplanadebytheislandslifestyle.com
SUMMARY:National Vodka Day
DESCRIPTION:Get ready to stir up some fun and savor smooth sips on National Vodka Day! We’re celebrating with all-day drink specials on your favorite vodka cocktails. From crisp martinis and refreshing Moscow mules to creative\, flavor-packed mixes\, our bartenders will be shaking and stirring the perfect pours to help you kick off the evening in style.
URL:https://www.esplanadebytheislandslifestyle.com/event/national-vodka-day/
LOCATION:Bahama Bar\, 15450 Bella Tesoro Street\, Naples\, FL\, 34114\, United States
CATEGORIES:Dining & Happy Hour,Lifestyle Activities and Events
ATTACH;FMTTYPE=image/jpeg:https://www.esplanadebytheislandslifestyle.com/wp-content/uploads/sites/64/2025/07/CocktailBeverage.jpg
END:VEVENT
BEGIN:VEVENT
DTSTART;TZID=America/New_York:20250918T113000
DTEND;TZID=America/New_York:20250918T200000
DTSTAMP:20260422T063648
CREATED:20250811T163216Z
LAST-MODIFIED:20250811T163216Z
UID:58148-1758195000-1758225600@www.esplanadebytheislandslifestyle.com
SUMMARY:National Cheeseburger Day
DESCRIPTION:Get ready to celebrate National Cheeseburger Day in the most delicious way possible! We will be featuring cheeseburger dishes all day long. Come enjoy juicy burgers stacked high with all your favorite toppings\, served hot and fresh just for you. Bring your appetite and your friends and make it a burger-filled day to remember! 
URL:https://www.esplanadebytheislandslifestyle.com/event/national-cheeseburger-day/
LOCATION:Bahama Bar\, 15450 Bella Tesoro Street\, Naples\, FL\, 34114\, United States
CATEGORIES:Dining & Happy Hour,Lifestyle Activities and Events
ATTACH;FMTTYPE=image/jpeg:https://www.esplanadebytheislandslifestyle.com/wp-content/uploads/sites/64/2025/07/Cheeseburger.jpg
END:VEVENT
BEGIN:VEVENT
DTSTART;TZID=America/New_York:20250907T113000
DTEND;TZID=America/New_York:20250907T200000
DTSTAMP:20260422T063648
CREATED:20250804T173144Z
LAST-MODIFIED:20250804T173144Z
UID:58146-1757244600-1757275200@www.esplanadebytheislandslifestyle.com
SUMMARY:National Beer Lover's Day
DESCRIPTION:Raise a glass and join us for National Beer Lover’s Day at the Bahama Bar! We’re serving up beer specials featuring a variety of local brews\, classic favorites\, and refreshing seasonal picks. Whether you’re a craft beer connoisseur or just love a cold pint with friends\, there’s something on tap for everyone. Come enjoy great drinks\, good company\, and a festive atmosphere. Cheers to beer lovers everywhere! 
URL:https://www.esplanadebytheislandslifestyle.com/event/national-beer-lovers-day/
LOCATION:Bahama Bar\, 15450 Bella Tesoro Street\, Naples\, FL\, 34114\, United States
CATEGORIES:Dining & Happy Hour,Lifestyle Activities and Events
ATTACH;FMTTYPE=image/jpeg:https://www.esplanadebytheislandslifestyle.com/wp-content/uploads/sites/64/2025/07/Beer-scaled.jpg
END:VEVENT
BEGIN:VEVENT
DTSTART;TZID=America/New_York:20250816T113000
DTEND;TZID=America/New_York:20250816T210000
DTSTAMP:20260422T063648
CREATED:20250522T190652Z
LAST-MODIFIED:20250522T190652Z
UID:55596-1755343800-1755378000@www.esplanadebytheislandslifestyle.com
SUMMARY:National Rum Day
DESCRIPTION:Get ready to toast to tropical vibes and bold flavors on National Rum Day. We’re celebrating with all-day drink specials on your favorite rum cocktails! From classic mojitos and daiquiris to island-inspired creations\, our bartenders will be mixing up the perfect pours to help you sip your way into the weekend.  
URL:https://www.esplanadebytheislandslifestyle.com/event/national-rum-day/
LOCATION:Bahama Bar\, 15450 Bella Tesoro Street\, Naples\, FL\, 34114\, United States
CATEGORIES:Dining & Happy Hour,Lifestyle Activities and Events
ATTACH;FMTTYPE=image/jpeg:https://www.esplanadebytheislandslifestyle.com/wp-content/uploads/sites/64/2025/05/CocktailBeverage.jpg
END:VEVENT
BEGIN:VEVENT
DTSTART;TZID=America/New_York:20250731T113000
DTEND;TZID=America/New_York:20250731T140000
DTSTAMP:20260422T063648
CREATED:20250522T190558Z
LAST-MODIFIED:20250609T153047Z
UID:55591-1753961400-1753970400@www.esplanadebytheislandslifestyle.com
SUMMARY:National Chili Dog Day
DESCRIPTION:Get your appetite ready – we’re celebrating National Chili Dog Day with a featured lunch special you won’t want to miss! Sink your teeth into our mouthwatering chili cheese dog\, piled high with hearty chili\, melty cheese\, and all your favorite fixings. It’s the ultimate comfort food and the star of our menu for one day only. 
URL:https://www.esplanadebytheislandslifestyle.com/event/national-chili-dog-day/
LOCATION:Bahama Bar\, 15450 Bella Tesoro Street\, Naples\, FL\, 34114\, United States
CATEGORIES:Dining & Happy Hour,Lifestyle Activities and Events
ATTACH;FMTTYPE=image/jpeg:https://www.esplanadebytheislandslifestyle.com/wp-content/uploads/sites/64/2025/05/Chili-dog-1-scaled.jpg
END:VEVENT
BEGIN:VEVENT
DTSTART;TZID=America/New_York:20250710T113000
DTEND;TZID=America/New_York:20250710T200000
DTSTAMP:20260422T063648
CREATED:20250522T190038Z
LAST-MODIFIED:20250522T190038Z
UID:55589-1752147000-1752177600@www.esplanadebytheislandslifestyle.com
SUMMARY:National Pina Colada Day
DESCRIPTION:Creamy coconut\, fresh pineapple\, and a splash of rum—it’s the ultimate summertime cocktail\, and it pairs perfectly with sunshine and poolside vibes. To celebrate National Pina Colada Day\, the Bahama Bar will be offering exclusive deals on this delectable drink. Whether you’re cooling off after a long day or just soaking in the summer\, our piña coladas will make you feel like you’re on vacation. 
URL:https://www.esplanadebytheislandslifestyle.com/event/national-pina-colada-day/
LOCATION:Bahama Bar\, 15450 Bella Tesoro Street\, Naples\, FL\, 34114\, United States
CATEGORIES:Dining & Happy Hour,Lifestyle Activities and Events
ATTACH;FMTTYPE=image/png:https://www.esplanadebytheislandslifestyle.com/wp-content/uploads/sites/64/2025/05/Screenshot-121.png
END:VEVENT
BEGIN:VEVENT
DTSTART;TZID=America/New_York:20250706T113000
DTEND;TZID=America/New_York:20250706T200000
DTSTAMP:20260422T063648
CREATED:20250522T190234Z
LAST-MODIFIED:20250522T190234Z
UID:55554-1751801400-1751832000@www.esplanadebytheislandslifestyle.com
SUMMARY:National Fried Chicken Day
DESCRIPTION:Get ready to celebrate one of the tastiest holidays of the year! Join us at the Bahama Bar where Chef Kevin will be serving up a special fried chicken featured dish made specifically for chicken lovers. Come hungry and leave happy! 
URL:https://www.esplanadebytheislandslifestyle.com/event/national-fried-chicken-day/
LOCATION:Bahama Bar\, 15450 Bella Tesoro Street\, Naples\, FL\, 34114\, United States
CATEGORIES:Dining & Happy Hour,Lifestyle Activities and Events
ATTACH;FMTTYPE=image/jpeg:https://www.esplanadebytheislandslifestyle.com/wp-content/uploads/sites/64/2025/05/Fried-Chicken.jpg
END:VEVENT
BEGIN:VEVENT
DTSTART;TZID=America/New_York:20250504T113000
DTEND;TZID=America/New_York:20250504T200000
DTSTAMP:20260422T063648
CREATED:20250406T145105Z
LAST-MODIFIED:20250406T145105Z
UID:51955-1746358200-1746388800@www.esplanadebytheislandslifestyle.com
SUMMARY:Cinco De Mayo Features
DESCRIPTION:Celebrate Cinco de Mayo with us as we spice things up with a day of special menu features at the Bahama Bar! Join us for a festive feast filled with vibrant flavors and classic Mexican dishes\, crafted to make your Cinco de Mayo celebration extra delicious. From tacos and guacamole to spicy enchiladas and margaritas\, we’ll be offering an array of mouthwatering specials throughout the day.   \nThe featured dishes will be available for purchase from 11:30am – 8:00pm.
URL:https://www.esplanadebytheislandslifestyle.com/event/cinco-de-mayo-features/
LOCATION:Bahama Bar\, 15450 Bella Tesoro Street\, Naples\, FL\, 34114\, United States
CATEGORIES:Dining & Happy Hour,Lifestyle Activities and Events
ATTACH;FMTTYPE=image/jpeg:https://www.esplanadebytheislandslifestyle.com/wp-content/uploads/sites/64/2025/04/CincoDeMayo-1.jpg
END:VEVENT
BEGIN:VEVENT
DTSTART;TZID=America/New_York:20250412T113000
DTEND;TZID=America/New_York:20250412T210000
DTSTAMP:20260422T063648
CREATED:20250312T142438Z
LAST-MODIFIED:20250312T142438Z
UID:45092-1744457400-1744491600@www.esplanadebytheislandslifestyle.com
SUMMARY:National Grilled Cheese Sandwich Day
DESCRIPTION:Come celebrate National Grilled Cheese Sandwich Day by indulging in a comfort food classic! The Bahama Bar will feature a delicious grilled cheese sandwich with tomato soup.   \nThis menu feature will be available for purchase from 11:30 a.m. – 9:00 p.m. 
URL:https://www.esplanadebytheislandslifestyle.com/event/national-grilled-cheese-sandwich-day/
LOCATION:Bahama Bar\, 15450 Bella Tesoro Street\, Naples\, FL\, 34114\, United States
CATEGORIES:Dining & Happy Hour,Lifestyle Activities and Events
ATTACH;FMTTYPE=image/jpeg:https://www.esplanadebytheislandslifestyle.com/wp-content/uploads/sites/64/2025/03/GrilledCheese-2.jpg
END:VEVENT
BEGIN:VEVENT
DTSTART;TZID=America/New_York:20250409T113000
DTEND;TZID=America/New_York:20250409T200000
DTSTAMP:20260422T063648
CREATED:20250310T190957Z
LAST-MODIFIED:20250310T190957Z
UID:45090-1744198200-1744228800@www.esplanadebytheislandslifestyle.com
SUMMARY:National Gin and Tonic Day
DESCRIPTION:Raise a glass and celebrate National Gin and Tonic Day! Enjoy refreshing gin and tonics at the Bahama Bar\, where we’ll be offering a special drink promotion to mark the occasion. It’s the perfect opportunity to unwind with friends\, sip on a crisp beverage\, and toast to one of the most beloved cocktails around.  
URL:https://www.esplanadebytheislandslifestyle.com/event/national-gin-and-tonic-day/
LOCATION:Bahama Bar\, 15450 Bella Tesoro Street\, Naples\, FL\, 34114\, United States
CATEGORIES:Dining & Happy Hour,Lifestyle Activities and Events
ATTACH;FMTTYPE=image/jpeg:https://www.esplanadebytheislandslifestyle.com/wp-content/uploads/sites/64/2025/01/CocktailBeverage.jpg
END:VEVENT
BEGIN:VEVENT
DTSTART;TZID=America/New_York:20250316T113000
DTEND;TZID=America/New_York:20250316T200000
DTSTAMP:20260422T063648
CREATED:20250210T182830Z
LAST-MODIFIED:20250210T182830Z
UID:45084-1742124600-1742155200@www.esplanadebytheislandslifestyle.com
SUMMARY:Saint Patrick's Day Feature
DESCRIPTION:In honor of Saint Patrick’s Day\, Chef Kevin will be featuring a Corned Beef and Cabbage dish at the Bahama Bar.   \nThe feature will be available for purchase from 11:30 a.m. – 8:00 p.m.  
URL:https://www.esplanadebytheislandslifestyle.com/event/saint-patricks-day-feature/
LOCATION:Bahama Bar\, 15450 Bella Tesoro Street\, Naples\, FL\, 34114\, United States
CATEGORIES:Dining & Happy Hour,Holidays,Lifestyle Activities and Events
ATTACH;FMTTYPE=image/jpeg:https://www.esplanadebytheislandslifestyle.com/wp-content/uploads/sites/64/2025/01/StPatricksDay-5.jpg
END:VEVENT
BEGIN:VEVENT
DTSTART;TZID=America/New_York:20250309T113000
DTEND;TZID=America/New_York:20250309T200000
DTSTAMP:20260422T063648
CREATED:20250210T173446Z
LAST-MODIFIED:20250210T173446Z
UID:45082-1741519800-1741550400@www.esplanadebytheislandslifestyle.com
SUMMARY:National Meatball Day
DESCRIPTION:Celebrate National Meatball Day with a Spaghetti and Meatballs feature from Chef Kevin!   \nThe featured dish will be available for purchase from 11:30 a.m. to 8:00 p.m.  
URL:https://www.esplanadebytheislandslifestyle.com/event/national-meatball-day/
LOCATION:Bahama Bar\, 15450 Bella Tesoro Street\, Naples\, FL\, 34114\, United States
CATEGORIES:Dining & Happy Hour,Lifestyle Activities and Events
ATTACH;FMTTYPE=image/jpeg:https://www.esplanadebytheislandslifestyle.com/wp-content/uploads/sites/64/2025/01/Spaghetti_ItalianDinner-scaled.jpg
END:VEVENT
BEGIN:VEVENT
DTSTART;TZID=America/New_York:20250222T113000
DTEND;TZID=America/New_York:20250222T210000
DTSTAMP:20260422T063648
CREATED:20250120T193556Z
LAST-MODIFIED:20250120T193556Z
UID:41491-1740223800-1740258000@www.esplanadebytheislandslifestyle.com
SUMMARY:National Margarita Day
DESCRIPTION:Get ready to sip\, savor\, and celebrate – National Margarita Day is here! Whether you love it classic\, fruity\, or frozen\, we’ve got the perfect margarita waiting for you. The Bahama Bar will be running margarita specials from 11:30am-9:00pm. Grab your friends\, bring your margarita-loving spirit\, and let’s toast to the best day of the year for tequila lovers! 
URL:https://www.esplanadebytheislandslifestyle.com/event/national-margarita-day/
LOCATION:Bahama Bar\, 15450 Bella Tesoro Street\, Naples\, FL\, 34114\, United States
CATEGORIES:Dining & Happy Hour,Lifestyle Activities and Events
ATTACH;FMTTYPE=image/jpeg:https://www.esplanadebytheislandslifestyle.com/wp-content/uploads/sites/64/2024/11/Margaritas-2-scaled.jpg
END:VEVENT
BEGIN:VEVENT
DTSTART;TZID=America/New_York:20250115T113000
DTEND;TZID=America/New_York:20250115T200000
DTSTAMP:20260422T063648
CREATED:20241216T174727Z
LAST-MODIFIED:20241216T174727Z
UID:41303-1736940600-1736971200@www.esplanadebytheislandslifestyle.com
SUMMARY:National Bagel Day
DESCRIPTION:Celebrate National Bagel Day with a special bagel feature from Chef Kevin! \nThe bagel feature will be available for purchase from 11:30 a.m. – 8:00 p.m.
URL:https://www.esplanadebytheislandslifestyle.com/event/national-bagel-day/
LOCATION:Bahama Bar\, 15450 Bella Tesoro Street\, Naples\, FL\, 34114\, United States
CATEGORIES:Dining & Happy Hour,Lifestyle Activities and Events
ATTACH;FMTTYPE=image/jpeg:https://www.esplanadebytheislandslifestyle.com/wp-content/uploads/sites/64/2024/11/Bagels-4.jpg
END:VEVENT
BEGIN:VEVENT
DTSTART;TZID=America/New_York:20241220T170000
DTEND;TZID=America/New_York:20241220T190000
DTSTAMP:20260422T063648
CREATED:20241022T170853Z
LAST-MODIFIED:20241022T170853Z
UID:40016-1734714000-1734721200@www.esplanadebytheislandslifestyle.com
SUMMARY:National Sangria Day
DESCRIPTION:Stop by the Bahama Bar between 5:00 and 7:00 p.m. for a festive celebration of all things sangria! To honor this delicious day\, we’re offering discounted prices on all our sangria varieties! Gather your friends and toast to the good times! 
URL:https://www.esplanadebytheislandslifestyle.com/event/national-sangria-day/
LOCATION:Bahama Bar\, 15450 Bella Tesoro Street\, Naples\, FL\, 34114\, United States
CATEGORIES:Dining & Happy Hour,Lifestyle Activities and Events
ATTACH;FMTTYPE=image/png:https://www.esplanadebytheislandslifestyle.com/wp-content/uploads/sites/64/2024/10/High-Res-boat-drink.png
END:VEVENT
BEGIN:VEVENT
DTSTART;TZID=America/New_York:20241129T170000
DTEND;TZID=America/New_York:20241129T210000
DTSTAMP:20260422T063648
CREATED:20241022T164954Z
LAST-MODIFIED:20241119T172012Z
UID:39399-1732899600-1732914000@www.esplanadebytheislandslifestyle.com
SUMMARY:Chef's Features - Thanksgiving Leftovers
DESCRIPTION:Join us at the Bahama Bar for a special event where our talented chef transforms Thanksgiving leftovers into fun\, creative dishes! Experience a unique menu featuring innovative twists on your holiday favorites. \nChef’s delicious\, Thanksgiving creations will be available for purchase from 5:00-9:00pm.
URL:https://www.esplanadebytheislandslifestyle.com/event/chefs-features-thanksgiving-leftovers/
LOCATION:Bahama Bar\, 15450 Bella Tesoro Street\, Naples\, FL\, 34114\, United States
CATEGORIES:Courts,Dining & Happy Hour,Lifestyle Activities and Events
ATTACH;FMTTYPE=image/jpeg:https://www.esplanadebytheislandslifestyle.com/wp-content/uploads/sites/64/2024/10/FallThanksgivingMeal-2.jpg
END:VEVENT
BEGIN:VEVENT
DTSTART;TZID=America/New_York:20241108T113000
DTEND;TZID=America/New_York:20241108T210000
DTSTAMP:20260422T063648
CREATED:20241014T173621Z
LAST-MODIFIED:20241015T142858Z
UID:39397-1731065400-1731099600@www.esplanadebytheislandslifestyle.com
SUMMARY:Honoring Our Veterans
DESCRIPTION:To honor our heroes\, the Bahama Bar is offering 50% off all food for veterans. We thank you for your service! 
URL:https://www.esplanadebytheislandslifestyle.com/event/honoring-our-veterans/
LOCATION:Bahama Bar\, 15450 Bella Tesoro Street\, Naples\, FL\, 34114\, United States
CATEGORIES:Dining & Happy Hour,Lifestyle Activities and Events
ATTACH;FMTTYPE=image/jpeg:https://www.esplanadebytheislandslifestyle.com/wp-content/uploads/sites/64/2024/10/Patriotic-4.jpg
END:VEVENT
BEGIN:VEVENT
DTSTART;TZID=America/New_York:20241106T113000
DTEND;TZID=America/New_York:20241106T193000
DTSTAMP:20260422T063648
CREATED:20241014T173050Z
LAST-MODIFIED:20241015T142450Z
UID:39395-1730892600-1730921400@www.esplanadebytheislandslifestyle.com
SUMMARY:National Nacho Day
DESCRIPTION:Celebrate National Nacho Day with a special nacho feature from Chef Kevin!  \nThe nacho feature will be available for purchase from 11:30 a.m. – 7:30 p.m.
URL:https://www.esplanadebytheislandslifestyle.com/event/national-nacho-day/
LOCATION:Bahama Bar\, 15450 Bella Tesoro Street\, Naples\, FL\, 34114\, United States
CATEGORIES:Dining & Happy Hour,Lifestyle Activities and Events
ATTACH;FMTTYPE=image/png:https://www.esplanadebytheislandslifestyle.com/wp-content/uploads/sites/64/2024/10/Guac.png
END:VEVENT
END:VCALENDAR