BEGIN:VCALENDAR
VERSION:2.0
PRODID:-//Esplanade by the Islands - ECPv6.15.15//NONSGML v1.0//EN
CALSCALE:GREGORIAN
METHOD:PUBLISH
X-ORIGINAL-URL:https://www.esplanadebytheislandslifestyle.com
X-WR-CALDESC:Events for Esplanade by the Islands
REFRESH-INTERVAL;VALUE=DURATION:PT1H
X-Robots-Tag:noindex
X-PUBLISHED-TTL:PT1H
BEGIN:VTIMEZONE
TZID:America/New_York
BEGIN:DAYLIGHT
TZOFFSETFROM:-0500
TZOFFSETTO:-0400
TZNAME:EDT
DTSTART:20230312T070000
END:DAYLIGHT
BEGIN:STANDARD
TZOFFSETFROM:-0400
TZOFFSETTO:-0500
TZNAME:EST
DTSTART:20231105T060000
END:STANDARD
BEGIN:DAYLIGHT
TZOFFSETFROM:-0500
TZOFFSETTO:-0400
TZNAME:EDT
DTSTART:20240310T070000
END:DAYLIGHT
BEGIN:STANDARD
TZOFFSETFROM:-0400
TZOFFSETTO:-0500
TZNAME:EST
DTSTART:20241103T060000
END:STANDARD
BEGIN:DAYLIGHT
TZOFFSETFROM:-0500
TZOFFSETTO:-0400
TZNAME:EDT
DTSTART:20250309T070000
END:DAYLIGHT
BEGIN:STANDARD
TZOFFSETFROM:-0400
TZOFFSETTO:-0500
TZNAME:EST
DTSTART:20251102T060000
END:STANDARD
BEGIN:DAYLIGHT
TZOFFSETFROM:-0500
TZOFFSETTO:-0400
TZNAME:EDT
DTSTART:20260308T070000
END:DAYLIGHT
BEGIN:STANDARD
TZOFFSETFROM:-0400
TZOFFSETTO:-0500
TZNAME:EST
DTSTART:20261101T060000
END:STANDARD
END:VTIMEZONE
BEGIN:VEVENT
DTSTART;TZID=America/New_York:20250412T113000
DTEND;TZID=America/New_York:20250412T210000
DTSTAMP:20260422T082142
CREATED:20250312T142438Z
LAST-MODIFIED:20250312T142438Z
UID:45092-1744457400-1744491600@www.esplanadebytheislandslifestyle.com
SUMMARY:National Grilled Cheese Sandwich Day
DESCRIPTION:Come celebrate National Grilled Cheese Sandwich Day by indulging in a comfort food classic! The Bahama Bar will feature a delicious grilled cheese sandwich with tomato soup.   \nThis menu feature will be available for purchase from 11:30 a.m. – 9:00 p.m. 
URL:https://www.esplanadebytheislandslifestyle.com/event/national-grilled-cheese-sandwich-day/
LOCATION:Bahama Bar\, 15450 Bella Tesoro Street\, Naples\, FL\, 34114\, United States
CATEGORIES:Dining & Happy Hour,Lifestyle Activities and Events
ATTACH;FMTTYPE=image/jpeg:https://www.esplanadebytheislandslifestyle.com/wp-content/uploads/sites/64/2025/03/GrilledCheese-2.jpg
END:VEVENT
BEGIN:VEVENT
DTSTART;TZID=America/New_York:20250409T113000
DTEND;TZID=America/New_York:20250409T200000
DTSTAMP:20260422T082142
CREATED:20250310T190957Z
LAST-MODIFIED:20250310T190957Z
UID:45090-1744198200-1744228800@www.esplanadebytheislandslifestyle.com
SUMMARY:National Gin and Tonic Day
DESCRIPTION:Raise a glass and celebrate National Gin and Tonic Day! Enjoy refreshing gin and tonics at the Bahama Bar\, where we’ll be offering a special drink promotion to mark the occasion. It’s the perfect opportunity to unwind with friends\, sip on a crisp beverage\, and toast to one of the most beloved cocktails around.  
URL:https://www.esplanadebytheislandslifestyle.com/event/national-gin-and-tonic-day/
LOCATION:Bahama Bar\, 15450 Bella Tesoro Street\, Naples\, FL\, 34114\, United States
CATEGORIES:Dining & Happy Hour,Lifestyle Activities and Events
ATTACH;FMTTYPE=image/jpeg:https://www.esplanadebytheislandslifestyle.com/wp-content/uploads/sites/64/2025/01/CocktailBeverage.jpg
END:VEVENT
BEGIN:VEVENT
DTSTART;TZID=America/New_York:20250316T113000
DTEND;TZID=America/New_York:20250316T200000
DTSTAMP:20260422T082142
CREATED:20250210T182830Z
LAST-MODIFIED:20250210T182830Z
UID:45084-1742124600-1742155200@www.esplanadebytheislandslifestyle.com
SUMMARY:Saint Patrick's Day Feature
DESCRIPTION:In honor of Saint Patrick’s Day\, Chef Kevin will be featuring a Corned Beef and Cabbage dish at the Bahama Bar.   \nThe feature will be available for purchase from 11:30 a.m. – 8:00 p.m.  
URL:https://www.esplanadebytheislandslifestyle.com/event/saint-patricks-day-feature/
LOCATION:Bahama Bar\, 15450 Bella Tesoro Street\, Naples\, FL\, 34114\, United States
CATEGORIES:Dining & Happy Hour,Holidays,Lifestyle Activities and Events
ATTACH;FMTTYPE=image/jpeg:https://www.esplanadebytheislandslifestyle.com/wp-content/uploads/sites/64/2025/01/StPatricksDay-5.jpg
END:VEVENT
BEGIN:VEVENT
DTSTART;TZID=America/New_York:20250309T113000
DTEND;TZID=America/New_York:20250309T200000
DTSTAMP:20260422T082142
CREATED:20250210T173446Z
LAST-MODIFIED:20250210T173446Z
UID:45082-1741519800-1741550400@www.esplanadebytheislandslifestyle.com
SUMMARY:National Meatball Day
DESCRIPTION:Celebrate National Meatball Day with a Spaghetti and Meatballs feature from Chef Kevin!   \nThe featured dish will be available for purchase from 11:30 a.m. to 8:00 p.m.  
URL:https://www.esplanadebytheislandslifestyle.com/event/national-meatball-day/
LOCATION:Bahama Bar\, 15450 Bella Tesoro Street\, Naples\, FL\, 34114\, United States
CATEGORIES:Dining & Happy Hour,Lifestyle Activities and Events
ATTACH;FMTTYPE=image/jpeg:https://www.esplanadebytheislandslifestyle.com/wp-content/uploads/sites/64/2025/01/Spaghetti_ItalianDinner-scaled.jpg
END:VEVENT
BEGIN:VEVENT
DTSTART;TZID=America/New_York:20250222T113000
DTEND;TZID=America/New_York:20250222T210000
DTSTAMP:20260422T082142
CREATED:20250120T193556Z
LAST-MODIFIED:20250120T193556Z
UID:41491-1740223800-1740258000@www.esplanadebytheislandslifestyle.com
SUMMARY:National Margarita Day
DESCRIPTION:Get ready to sip\, savor\, and celebrate – National Margarita Day is here! Whether you love it classic\, fruity\, or frozen\, we’ve got the perfect margarita waiting for you. The Bahama Bar will be running margarita specials from 11:30am-9:00pm. Grab your friends\, bring your margarita-loving spirit\, and let’s toast to the best day of the year for tequila lovers! 
URL:https://www.esplanadebytheislandslifestyle.com/event/national-margarita-day/
LOCATION:Bahama Bar\, 15450 Bella Tesoro Street\, Naples\, FL\, 34114\, United States
CATEGORIES:Dining & Happy Hour,Lifestyle Activities and Events
ATTACH;FMTTYPE=image/jpeg:https://www.esplanadebytheislandslifestyle.com/wp-content/uploads/sites/64/2024/11/Margaritas-2-scaled.jpg
END:VEVENT
BEGIN:VEVENT
DTSTART;TZID=America/New_York:20250115T113000
DTEND;TZID=America/New_York:20250115T200000
DTSTAMP:20260422T082142
CREATED:20241216T174727Z
LAST-MODIFIED:20241216T174727Z
UID:41303-1736940600-1736971200@www.esplanadebytheislandslifestyle.com
SUMMARY:National Bagel Day
DESCRIPTION:Celebrate National Bagel Day with a special bagel feature from Chef Kevin! \nThe bagel feature will be available for purchase from 11:30 a.m. – 8:00 p.m.
URL:https://www.esplanadebytheislandslifestyle.com/event/national-bagel-day/
LOCATION:Bahama Bar\, 15450 Bella Tesoro Street\, Naples\, FL\, 34114\, United States
CATEGORIES:Dining & Happy Hour,Lifestyle Activities and Events
ATTACH;FMTTYPE=image/jpeg:https://www.esplanadebytheislandslifestyle.com/wp-content/uploads/sites/64/2024/11/Bagels-4.jpg
END:VEVENT
BEGIN:VEVENT
DTSTART;TZID=America/New_York:20241220T170000
DTEND;TZID=America/New_York:20241220T190000
DTSTAMP:20260422T082142
CREATED:20241022T170853Z
LAST-MODIFIED:20241022T170853Z
UID:40016-1734714000-1734721200@www.esplanadebytheislandslifestyle.com
SUMMARY:National Sangria Day
DESCRIPTION:Stop by the Bahama Bar between 5:00 and 7:00 p.m. for a festive celebration of all things sangria! To honor this delicious day\, we’re offering discounted prices on all our sangria varieties! Gather your friends and toast to the good times! 
URL:https://www.esplanadebytheislandslifestyle.com/event/national-sangria-day/
LOCATION:Bahama Bar\, 15450 Bella Tesoro Street\, Naples\, FL\, 34114\, United States
CATEGORIES:Dining & Happy Hour,Lifestyle Activities and Events
ATTACH;FMTTYPE=image/png:https://www.esplanadebytheislandslifestyle.com/wp-content/uploads/sites/64/2024/10/High-Res-boat-drink.png
END:VEVENT
BEGIN:VEVENT
DTSTART;TZID=America/New_York:20241129T170000
DTEND;TZID=America/New_York:20241129T210000
DTSTAMP:20260422T082142
CREATED:20241022T164954Z
LAST-MODIFIED:20241119T172012Z
UID:39399-1732899600-1732914000@www.esplanadebytheislandslifestyle.com
SUMMARY:Chef's Features - Thanksgiving Leftovers
DESCRIPTION:Join us at the Bahama Bar for a special event where our talented chef transforms Thanksgiving leftovers into fun\, creative dishes! Experience a unique menu featuring innovative twists on your holiday favorites. \nChef’s delicious\, Thanksgiving creations will be available for purchase from 5:00-9:00pm.
URL:https://www.esplanadebytheislandslifestyle.com/event/chefs-features-thanksgiving-leftovers/
LOCATION:Bahama Bar\, 15450 Bella Tesoro Street\, Naples\, FL\, 34114\, United States
CATEGORIES:Courts,Dining & Happy Hour,Lifestyle Activities and Events
ATTACH;FMTTYPE=image/jpeg:https://www.esplanadebytheislandslifestyle.com/wp-content/uploads/sites/64/2024/10/FallThanksgivingMeal-2.jpg
END:VEVENT
BEGIN:VEVENT
DTSTART;TZID=America/New_York:20241108T113000
DTEND;TZID=America/New_York:20241108T210000
DTSTAMP:20260422T082142
CREATED:20241014T173621Z
LAST-MODIFIED:20241015T142858Z
UID:39397-1731065400-1731099600@www.esplanadebytheislandslifestyle.com
SUMMARY:Honoring Our Veterans
DESCRIPTION:To honor our heroes\, the Bahama Bar is offering 50% off all food for veterans. We thank you for your service! 
URL:https://www.esplanadebytheislandslifestyle.com/event/honoring-our-veterans/
LOCATION:Bahama Bar\, 15450 Bella Tesoro Street\, Naples\, FL\, 34114\, United States
CATEGORIES:Dining & Happy Hour,Lifestyle Activities and Events
ATTACH;FMTTYPE=image/jpeg:https://www.esplanadebytheislandslifestyle.com/wp-content/uploads/sites/64/2024/10/Patriotic-4.jpg
END:VEVENT
BEGIN:VEVENT
DTSTART;TZID=America/New_York:20241106T113000
DTEND;TZID=America/New_York:20241106T193000
DTSTAMP:20260422T082142
CREATED:20241014T173050Z
LAST-MODIFIED:20241015T142450Z
UID:39395-1730892600-1730921400@www.esplanadebytheislandslifestyle.com
SUMMARY:National Nacho Day
DESCRIPTION:Celebrate National Nacho Day with a special nacho feature from Chef Kevin!  \nThe nacho feature will be available for purchase from 11:30 a.m. – 7:30 p.m.
URL:https://www.esplanadebytheislandslifestyle.com/event/national-nacho-day/
LOCATION:Bahama Bar\, 15450 Bella Tesoro Street\, Naples\, FL\, 34114\, United States
CATEGORIES:Dining & Happy Hour,Lifestyle Activities and Events
ATTACH;FMTTYPE=image/png:https://www.esplanadebytheislandslifestyle.com/wp-content/uploads/sites/64/2024/10/Guac.png
END:VEVENT
END:VCALENDAR