BEGIN:VCALENDAR
VERSION:2.0
PRODID:-//Esplanade by the Islands - ECPv6.15.15//NONSGML v1.0//EN
CALSCALE:GREGORIAN
METHOD:PUBLISH
X-ORIGINAL-URL:https://www.esplanadebytheislandslifestyle.com
X-WR-CALDESC:Events for Esplanade by the Islands
REFRESH-INTERVAL;VALUE=DURATION:PT1H
X-Robots-Tag:noindex
X-PUBLISHED-TTL:PT1H
BEGIN:VTIMEZONE
TZID:America/New_York
BEGIN:DAYLIGHT
TZOFFSETFROM:-0500
TZOFFSETTO:-0400
TZNAME:EDT
DTSTART:20240310T070000
END:DAYLIGHT
BEGIN:STANDARD
TZOFFSETFROM:-0400
TZOFFSETTO:-0500
TZNAME:EST
DTSTART:20241103T060000
END:STANDARD
BEGIN:DAYLIGHT
TZOFFSETFROM:-0500
TZOFFSETTO:-0400
TZNAME:EDT
DTSTART:20250309T070000
END:DAYLIGHT
BEGIN:STANDARD
TZOFFSETFROM:-0400
TZOFFSETTO:-0500
TZNAME:EST
DTSTART:20251102T060000
END:STANDARD
BEGIN:DAYLIGHT
TZOFFSETFROM:-0500
TZOFFSETTO:-0400
TZNAME:EDT
DTSTART:20260308T070000
END:DAYLIGHT
BEGIN:STANDARD
TZOFFSETFROM:-0400
TZOFFSETTO:-0500
TZNAME:EST
DTSTART:20261101T060000
END:STANDARD
END:VTIMEZONE
BEGIN:VEVENT
DTSTART;TZID=America/New_York:20250430T150000
DTEND;TZID=America/New_York:20250430T170000
DTSTAMP:20260422T233950
CREATED:20250403T175018Z
LAST-MODIFIED:20250428T131032Z
UID:51768-1746025200-1746032400@www.esplanadebytheislandslifestyle.com
SUMMARY:CANCELLED Spring into Beauty Event
DESCRIPTION:SPRING INTO BEAUTY EVENT \nWednesday\, April 30 | 3 – 5 p.m. \nResort Wellness Center \n  \nMark your calendar for an afternoon of wellness\, relaxation\, and retail therapy\, and join us at The Spa at Esplanade for a delightful spring beauty event! \nSip champagne\, indulge in sweet treats\, mingle with our expert team\, and discover the latest rejuvenating treatments with Taryn from HydroPeptide! \nMembers will receive $25 OFF a retail purchase of $125 or greater as well as special gift with purchase valued at $100 \nAdvance reservations are required.  Space will be limited to the first 20 participants who register. \n  \n 
URL:https://www.esplanadebytheislandslifestyle.com/event/spring-into-beauty-sparty/
LOCATION:Esplanade by the Islands Spa
CATEGORIES:Fitness & Wellness
ATTACH;FMTTYPE=image/jpeg:https://www.esplanadebytheislandslifestyle.com/wp-content/uploads/sites/64/2024/11/ChampagneGlassPour-1.jpg
END:VEVENT
END:VCALENDAR