BEGIN:VCALENDAR
VERSION:2.0
PRODID:-//Esplanade by the Islands - ECPv6.15.15//NONSGML v1.0//EN
CALSCALE:GREGORIAN
METHOD:PUBLISH
X-ORIGINAL-URL:https://www.esplanadebytheislandslifestyle.com
X-WR-CALDESC:Events for Esplanade by the Islands
REFRESH-INTERVAL;VALUE=DURATION:PT1H
X-Robots-Tag:noindex
X-PUBLISHED-TTL:PT1H
BEGIN:VTIMEZONE
TZID:America/New_York
BEGIN:DAYLIGHT
TZOFFSETFROM:-0500
TZOFFSETTO:-0400
TZNAME:EDT
DTSTART:20240310T070000
END:DAYLIGHT
BEGIN:STANDARD
TZOFFSETFROM:-0400
TZOFFSETTO:-0500
TZNAME:EST
DTSTART:20241103T060000
END:STANDARD
BEGIN:DAYLIGHT
TZOFFSETFROM:-0500
TZOFFSETTO:-0400
TZNAME:EDT
DTSTART:20250309T070000
END:DAYLIGHT
BEGIN:STANDARD
TZOFFSETFROM:-0400
TZOFFSETTO:-0500
TZNAME:EST
DTSTART:20251102T060000
END:STANDARD
BEGIN:DAYLIGHT
TZOFFSETFROM:-0500
TZOFFSETTO:-0400
TZNAME:EDT
DTSTART:20260308T070000
END:DAYLIGHT
BEGIN:STANDARD
TZOFFSETFROM:-0400
TZOFFSETTO:-0500
TZNAME:EST
DTSTART:20261101T060000
END:STANDARD
BEGIN:DAYLIGHT
TZOFFSETFROM:-0500
TZOFFSETTO:-0400
TZNAME:EDT
DTSTART:20270314T070000
END:DAYLIGHT
BEGIN:STANDARD
TZOFFSETFROM:-0400
TZOFFSETTO:-0500
TZNAME:EST
DTSTART:20271107T060000
END:STANDARD
END:VTIMEZONE
BEGIN:VEVENT
DTSTART;TZID=America/New_York:20260121T100000
DTEND;TZID=America/New_York:20260121T110000
DTSTAMP:20260422T012554
CREATED:20260116T171114Z
LAST-MODIFIED:20260116T171114Z
UID:64999-1768989600-1768993200@www.esplanadebytheislandslifestyle.com
SUMMARY:Tennis Match Play Strategy with Serves
DESCRIPTION:Join Racket Sports Teaching Professional Ted Heiser for a morning of Match Play Strategy.!  This is a great opportunity to learn in game strategy within live ball play. \n  \n\n\nAll levels welcome. Please bring a racket!
URL:https://www.esplanadebytheislandslifestyle.com/event/tennis-match-play-strategy-with-serves/
LOCATION:Tennis Courts
CATEGORIES:Courts
ATTACH;FMTTYPE=image/png:https://www.esplanadebytheislandslifestyle.com/wp-content/uploads/sites/64/2022/01/High-Res-tennis-06-1-1024x687-1.png
ORGANIZER;CN="Ted Heiser":MAILTO:ted.heiser@teamesplanade.com
END:VEVENT
BEGIN:VEVENT
DTSTART;TZID=America/New_York:20260121T090000
DTEND;TZID=America/New_York:20260121T100000
DTSTAMP:20260422T012554
CREATED:20260116T170543Z
LAST-MODIFIED:20260116T170543Z
UID:64996-1768986000-1768989600@www.esplanadebytheislandslifestyle.com
SUMMARY:Tennis Stroke Development
DESCRIPTION:Join Racket Sports Teaching Professional Ted Heiser for a morning of perfecting your tennis strokes.!  This is a great opportunity to learn the necessary muscle memory to produce consistent tennis shots. \n  \n\n\nAll levels welcome. Please bring a racket!
URL:https://www.esplanadebytheislandslifestyle.com/event/tennis-stroke-development/
LOCATION:Tennis Courts
CATEGORIES:Courts
ATTACH;FMTTYPE=image/png:https://www.esplanadebytheislandslifestyle.com/wp-content/uploads/sites/64/2022/01/High-Res-tennis-06-1-1024x687-1.png
ORGANIZER;CN="Ted Heiser":MAILTO:ted.heiser@teamesplanade.com
END:VEVENT
BEGIN:VEVENT
DTSTART;TZID=America/New_York:20260120T103000
DTEND;TZID=America/New_York:20260120T113000
DTSTAMP:20260422T012554
CREATED:20260116T165420Z
LAST-MODIFIED:20260116T165420Z
UID:64990-1768905000-1768908600@www.esplanadebytheislandslifestyle.com
SUMMARY:Tennis Strategy
DESCRIPTION:Join Racket Sports Teaching Professional Ted Heiser for a morning of learning tennis strategy!  This is a great opportunity to learn the nuances and patterns for a winning formula. \n  \n\n\nAll levels welcome. Please bring a racket!
URL:https://www.esplanadebytheislandslifestyle.com/event/tennis-strategy/
LOCATION:Tennis Courts
CATEGORIES:Courts
ATTACH;FMTTYPE=image/png:https://www.esplanadebytheislandslifestyle.com/wp-content/uploads/sites/64/2022/01/High-Res-tennis-06-1-1024x687-1.png
ORGANIZER;CN="Ted Heiser":MAILTO:ted.heiser@teamesplanade.com
END:VEVENT
BEGIN:VEVENT
DTSTART;TZID=America/New_York:20260120T083000
DTEND;TZID=America/New_York:20260120T100000
DTSTAMP:20260422T012554
CREATED:20251212T165603Z
LAST-MODIFIED:20251212T165603Z
UID:64045-1768897800-1768903200@www.esplanadebytheislandslifestyle.com
SUMMARY:Cardio Tennis Clinic
DESCRIPTION:Join Racket Sports Teaching Professional Ted Heiser for a morning of cardio drills and a friendly court competition!  This is a great opportunity to meet your neighbors and make new connections with Members who enjoy playing. \n\n\nCardio Tennis is an engaging group fitness program featuring the heart-pumping effects of tennis drills\, games\, and skills. It delivers the ultimate full-body and calorie-burning aerobic and anaerobic workout. \nAll levels welcome. Please bring a racket!
URL:https://www.esplanadebytheislandslifestyle.com/event/cardio-tennis-clinic-54/
LOCATION:Tennis Courts
CATEGORIES:Courts
ATTACH;FMTTYPE=image/jpeg:https://www.esplanadebytheislandslifestyle.com/wp-content/uploads/sites/64/2024/11/66a4fc8f-2922-e4f6-288f-482ad1b58846.jpg
ORGANIZER;CN="Ted Heiser":MAILTO:ted.heiser@teamesplanade.com
END:VEVENT
BEGIN:VEVENT
DTSTART;TZID=America/New_York:20260113T083000
DTEND;TZID=America/New_York:20260113T100000
DTSTAMP:20260422T012554
CREATED:20251212T165518Z
LAST-MODIFIED:20251212T165518Z
UID:64042-1768293000-1768298400@www.esplanadebytheislandslifestyle.com
SUMMARY:Cardio Tennis Clinic
DESCRIPTION:Join Racket Sports Teaching Professional Ted Heiser for a morning of cardio drills and a friendly court competition!  This is a great opportunity to meet your neighbors and make new connections with Members who enjoy playing. \n\n\nCardio Tennis is an engaging group fitness program featuring the heart-pumping effects of tennis drills\, games\, and skills. It delivers the ultimate full-body and calorie-burning aerobic and anaerobic workout. \nAll levels welcome. Please bring a racket!
URL:https://www.esplanadebytheislandslifestyle.com/event/cardio-tennis-clinic-53/
LOCATION:Tennis Courts
CATEGORIES:Courts
ATTACH;FMTTYPE=image/jpeg:https://www.esplanadebytheislandslifestyle.com/wp-content/uploads/sites/64/2024/11/66a4fc8f-2922-e4f6-288f-482ad1b58846.jpg
ORGANIZER;CN="Ted Heiser":MAILTO:ted.heiser@teamesplanade.com
END:VEVENT
BEGIN:VEVENT
DTSTART;TZID=America/New_York:20260106T083000
DTEND;TZID=America/New_York:20260106T100000
DTSTAMP:20260422T012554
CREATED:20251212T165413Z
LAST-MODIFIED:20251212T165413Z
UID:64039-1767688200-1767693600@www.esplanadebytheislandslifestyle.com
SUMMARY:Cardio Tennis Clinic
DESCRIPTION:Join Racket Sports Teaching Professional Ted Heiser for a morning of cardio drills and a friendly court competition!  This is a great opportunity to meet your neighbors and make new connections with Members who enjoy playing. \n\n\nCardio Tennis is an engaging group fitness program featuring the heart-pumping effects of tennis drills\, games\, and skills. It delivers the ultimate full-body and calorie-burning aerobic and anaerobic workout. \nAll levels welcome. Please bring a racket!
URL:https://www.esplanadebytheislandslifestyle.com/event/cardio-tennis-clinic-52/
LOCATION:Tennis Courts
CATEGORIES:Courts
ATTACH;FMTTYPE=image/jpeg:https://www.esplanadebytheislandslifestyle.com/wp-content/uploads/sites/64/2024/11/66a4fc8f-2922-e4f6-288f-482ad1b58846.jpg
ORGANIZER;CN="Ted Heiser":MAILTO:ted.heiser@teamesplanade.com
END:VEVENT
BEGIN:VEVENT
DTSTART;TZID=America/New_York:20251230T083000
DTEND;TZID=America/New_York:20251230T100000
DTSTAMP:20260422T012554
CREATED:20251119T171406Z
LAST-MODIFIED:20251211T201418Z
UID:62740-1767083400-1767088800@www.esplanadebytheislandslifestyle.com
SUMMARY:Cardio Tennis Clinic
DESCRIPTION:Join Racket Sports Teaching Professional Ted Heiser for a morning of cardio drills and a friendly court competition!  This is a great opportunity to meet your neighbors and make new connections with Members who enjoy playing. \n\n\nCardio Tennis is an engaging group fitness program featuring the heart-pumping effects of tennis drills\, games\, and skills. It delivers the ultimate full-body and calorie-burning aerobic and anaerobic workout. \nAll levels welcome. Please bring a racket!
URL:https://www.esplanadebytheislandslifestyle.com/event/cardio-tennis-clinic-51/
LOCATION:Tennis Courts
CATEGORIES:Courts
ATTACH;FMTTYPE=image/jpeg:https://www.esplanadebytheislandslifestyle.com/wp-content/uploads/sites/64/2024/11/66a4fc8f-2922-e4f6-288f-482ad1b58846.jpg
ORGANIZER;CN="Ted Heiser":MAILTO:ted.heiser@teamesplanade.com
END:VEVENT
END:VCALENDAR