BEGIN:VCALENDAR
VERSION:2.0
PRODID:-//Esplanade by the Islands - ECPv6.15.15//NONSGML v1.0//EN
CALSCALE:GREGORIAN
METHOD:PUBLISH
X-ORIGINAL-URL:https://www.esplanadebytheislandslifestyle.com
X-WR-CALDESC:Events for Esplanade by the Islands
REFRESH-INTERVAL;VALUE=DURATION:PT1H
X-Robots-Tag:noindex
X-PUBLISHED-TTL:PT1H
BEGIN:VTIMEZONE
TZID:America/New_York
BEGIN:DAYLIGHT
TZOFFSETFROM:-0500
TZOFFSETTO:-0400
TZNAME:EDT
DTSTART:20250309T070000
END:DAYLIGHT
BEGIN:STANDARD
TZOFFSETFROM:-0400
TZOFFSETTO:-0500
TZNAME:EST
DTSTART:20251102T060000
END:STANDARD
BEGIN:DAYLIGHT
TZOFFSETFROM:-0500
TZOFFSETTO:-0400
TZNAME:EDT
DTSTART:20260308T070000
END:DAYLIGHT
BEGIN:STANDARD
TZOFFSETFROM:-0400
TZOFFSETTO:-0500
TZNAME:EST
DTSTART:20261101T060000
END:STANDARD
BEGIN:DAYLIGHT
TZOFFSETFROM:-0500
TZOFFSETTO:-0400
TZNAME:EDT
DTSTART:20270314T070000
END:DAYLIGHT
BEGIN:STANDARD
TZOFFSETFROM:-0400
TZOFFSETTO:-0500
TZNAME:EST
DTSTART:20271107T060000
END:STANDARD
END:VTIMEZONE
BEGIN:VEVENT
DTSTART;TZID=America/New_York:20261007T090000
DTEND;TZID=America/New_York:20261007T100000
DTSTAMP:20260421T214336
CREATED:20260328T021420Z
LAST-MODIFIED:20260406T123548Z
UID:71147-1791363600-1791367200@www.esplanadebytheislandslifestyle.com
SUMMARY:AquaFit Class with Keishaun
DESCRIPTION:Aqua Fit is a low-impact\, full-body workout performed in the pool that combines cardio\, strength\, and flexibility training. Using the natural resistance of the water along with equipment such as noodles\, dumbbells\, and kickboards\, participants improve endurance\, muscle tone\, and balance while minimizing stress on the joints. \nThis class is suitable for all fitness levels\, with options to increase or decrease intensity. Expect a fun\, energizing session set to music that leaves you feeling refreshed\, stronger\, and more mobile.
URL:https://www.esplanadebytheislandslifestyle.com/event/aquafit-class-with-keishaun/2026-10-07/
LOCATION:Resort Amenity Campus
CATEGORIES:Fitness & Wellness
ATTACH;FMTTYPE=image/jpeg:https://www.esplanadebytheislandslifestyle.com/wp-content/uploads/sites/64/2026/03/Water-Aerobics.jpg
END:VEVENT
BEGIN:VEVENT
DTSTART;TZID=America/New_York:20261014T090000
DTEND;TZID=America/New_York:20261014T100000
DTSTAMP:20260421T214336
CREATED:20260328T021420Z
LAST-MODIFIED:20260406T123550Z
UID:71150-1791968400-1791972000@www.esplanadebytheislandslifestyle.com
SUMMARY:AquaFit Class with Keishaun
DESCRIPTION:Aqua Fit is a low-impact\, full-body workout performed in the pool that combines cardio\, strength\, and flexibility training. Using the natural resistance of the water along with equipment such as noodles\, dumbbells\, and kickboards\, participants improve endurance\, muscle tone\, and balance while minimizing stress on the joints. \nThis class is suitable for all fitness levels\, with options to increase or decrease intensity. Expect a fun\, energizing session set to music that leaves you feeling refreshed\, stronger\, and more mobile.
URL:https://www.esplanadebytheislandslifestyle.com/event/aquafit-class-with-keishaun/2026-10-14/
LOCATION:Resort Amenity Campus
CATEGORIES:Fitness & Wellness
ATTACH;FMTTYPE=image/jpeg:https://www.esplanadebytheislandslifestyle.com/wp-content/uploads/sites/64/2026/03/Water-Aerobics.jpg
END:VEVENT
BEGIN:VEVENT
DTSTART;TZID=America/New_York:20261021T090000
DTEND;TZID=America/New_York:20261021T100000
DTSTAMP:20260421T214336
CREATED:20260328T021420Z
LAST-MODIFIED:20260406T123550Z
UID:71153-1792573200-1792576800@www.esplanadebytheislandslifestyle.com
SUMMARY:AquaFit Class with Keishaun
DESCRIPTION:Aqua Fit is a low-impact\, full-body workout performed in the pool that combines cardio\, strength\, and flexibility training. Using the natural resistance of the water along with equipment such as noodles\, dumbbells\, and kickboards\, participants improve endurance\, muscle tone\, and balance while minimizing stress on the joints. \nThis class is suitable for all fitness levels\, with options to increase or decrease intensity. Expect a fun\, energizing session set to music that leaves you feeling refreshed\, stronger\, and more mobile.
URL:https://www.esplanadebytheislandslifestyle.com/event/aquafit-class-with-keishaun/2026-10-21/
LOCATION:Resort Amenity Campus
CATEGORIES:Fitness & Wellness
ATTACH;FMTTYPE=image/jpeg:https://www.esplanadebytheislandslifestyle.com/wp-content/uploads/sites/64/2026/03/Water-Aerobics.jpg
END:VEVENT
BEGIN:VEVENT
DTSTART;TZID=America/New_York:20261028T090000
DTEND;TZID=America/New_York:20261028T100000
DTSTAMP:20260421T214336
CREATED:20260328T021420Z
LAST-MODIFIED:20260406T123550Z
UID:71156-1793178000-1793181600@www.esplanadebytheislandslifestyle.com
SUMMARY:AquaFit Class with Keishaun
DESCRIPTION:Aqua Fit is a low-impact\, full-body workout performed in the pool that combines cardio\, strength\, and flexibility training. Using the natural resistance of the water along with equipment such as noodles\, dumbbells\, and kickboards\, participants improve endurance\, muscle tone\, and balance while minimizing stress on the joints. \nThis class is suitable for all fitness levels\, with options to increase or decrease intensity. Expect a fun\, energizing session set to music that leaves you feeling refreshed\, stronger\, and more mobile.
URL:https://www.esplanadebytheislandslifestyle.com/event/aquafit-class-with-keishaun/2026-10-28/
LOCATION:Resort Amenity Campus
CATEGORIES:Fitness & Wellness
ATTACH;FMTTYPE=image/jpeg:https://www.esplanadebytheislandslifestyle.com/wp-content/uploads/sites/64/2026/03/Water-Aerobics.jpg
END:VEVENT
BEGIN:VEVENT
DTSTART;TZID=America/New_York:20261104T090000
DTEND;TZID=America/New_York:20261104T100000
DTSTAMP:20260421T214336
CREATED:20260328T021420Z
LAST-MODIFIED:20260406T123550Z
UID:71159-1793782800-1793786400@www.esplanadebytheislandslifestyle.com
SUMMARY:AquaFit Class with Keishaun
DESCRIPTION:Aqua Fit is a low-impact\, full-body workout performed in the pool that combines cardio\, strength\, and flexibility training. Using the natural resistance of the water along with equipment such as noodles\, dumbbells\, and kickboards\, participants improve endurance\, muscle tone\, and balance while minimizing stress on the joints. \nThis class is suitable for all fitness levels\, with options to increase or decrease intensity. Expect a fun\, energizing session set to music that leaves you feeling refreshed\, stronger\, and more mobile.
URL:https://www.esplanadebytheislandslifestyle.com/event/aquafit-class-with-keishaun/2026-11-04/
LOCATION:Resort Amenity Campus
CATEGORIES:Fitness & Wellness
ATTACH;FMTTYPE=image/jpeg:https://www.esplanadebytheislandslifestyle.com/wp-content/uploads/sites/64/2026/03/Water-Aerobics.jpg
END:VEVENT
BEGIN:VEVENT
DTSTART;TZID=America/New_York:20261111T090000
DTEND;TZID=America/New_York:20261111T100000
DTSTAMP:20260421T214336
CREATED:20260328T021420Z
LAST-MODIFIED:20260406T123551Z
UID:71162-1794387600-1794391200@www.esplanadebytheislandslifestyle.com
SUMMARY:AquaFit Class with Keishaun
DESCRIPTION:Aqua Fit is a low-impact\, full-body workout performed in the pool that combines cardio\, strength\, and flexibility training. Using the natural resistance of the water along with equipment such as noodles\, dumbbells\, and kickboards\, participants improve endurance\, muscle tone\, and balance while minimizing stress on the joints. \nThis class is suitable for all fitness levels\, with options to increase or decrease intensity. Expect a fun\, energizing session set to music that leaves you feeling refreshed\, stronger\, and more mobile.
URL:https://www.esplanadebytheislandslifestyle.com/event/aquafit-class-with-keishaun/2026-11-11/
LOCATION:Resort Amenity Campus
CATEGORIES:Fitness & Wellness
ATTACH;FMTTYPE=image/jpeg:https://www.esplanadebytheislandslifestyle.com/wp-content/uploads/sites/64/2026/03/Water-Aerobics.jpg
END:VEVENT
BEGIN:VEVENT
DTSTART;TZID=America/New_York:20261118T090000
DTEND;TZID=America/New_York:20261118T100000
DTSTAMP:20260421T214336
CREATED:20260328T021420Z
LAST-MODIFIED:20260406T123551Z
UID:71165-1794992400-1794996000@www.esplanadebytheislandslifestyle.com
SUMMARY:AquaFit Class with Keishaun
DESCRIPTION:Aqua Fit is a low-impact\, full-body workout performed in the pool that combines cardio\, strength\, and flexibility training. Using the natural resistance of the water along with equipment such as noodles\, dumbbells\, and kickboards\, participants improve endurance\, muscle tone\, and balance while minimizing stress on the joints. \nThis class is suitable for all fitness levels\, with options to increase or decrease intensity. Expect a fun\, energizing session set to music that leaves you feeling refreshed\, stronger\, and more mobile.
URL:https://www.esplanadebytheislandslifestyle.com/event/aquafit-class-with-keishaun/2026-11-18/
LOCATION:Resort Amenity Campus
CATEGORIES:Fitness & Wellness
ATTACH;FMTTYPE=image/jpeg:https://www.esplanadebytheislandslifestyle.com/wp-content/uploads/sites/64/2026/03/Water-Aerobics.jpg
END:VEVENT
BEGIN:VEVENT
DTSTART;TZID=America/New_York:20261125T090000
DTEND;TZID=America/New_York:20261125T100000
DTSTAMP:20260421T214336
CREATED:20260328T021420Z
LAST-MODIFIED:20260406T123551Z
UID:71168-1795597200-1795600800@www.esplanadebytheislandslifestyle.com
SUMMARY:AquaFit Class with Keishaun
DESCRIPTION:Aqua Fit is a low-impact\, full-body workout performed in the pool that combines cardio\, strength\, and flexibility training. Using the natural resistance of the water along with equipment such as noodles\, dumbbells\, and kickboards\, participants improve endurance\, muscle tone\, and balance while minimizing stress on the joints. \nThis class is suitable for all fitness levels\, with options to increase or decrease intensity. Expect a fun\, energizing session set to music that leaves you feeling refreshed\, stronger\, and more mobile.
URL:https://www.esplanadebytheislandslifestyle.com/event/aquafit-class-with-keishaun/2026-11-25/
LOCATION:Resort Amenity Campus
CATEGORIES:Fitness & Wellness
ATTACH;FMTTYPE=image/jpeg:https://www.esplanadebytheislandslifestyle.com/wp-content/uploads/sites/64/2026/03/Water-Aerobics.jpg
END:VEVENT
BEGIN:VEVENT
DTSTART;TZID=America/New_York:20261202T090000
DTEND;TZID=America/New_York:20261202T100000
DTSTAMP:20260421T214336
CREATED:20260328T021420Z
LAST-MODIFIED:20260406T123551Z
UID:71171-1796202000-1796205600@www.esplanadebytheislandslifestyle.com
SUMMARY:AquaFit Class with Keishaun
DESCRIPTION:Aqua Fit is a low-impact\, full-body workout performed in the pool that combines cardio\, strength\, and flexibility training. Using the natural resistance of the water along with equipment such as noodles\, dumbbells\, and kickboards\, participants improve endurance\, muscle tone\, and balance while minimizing stress on the joints. \nThis class is suitable for all fitness levels\, with options to increase or decrease intensity. Expect a fun\, energizing session set to music that leaves you feeling refreshed\, stronger\, and more mobile.
URL:https://www.esplanadebytheislandslifestyle.com/event/aquafit-class-with-keishaun/2026-12-02/
LOCATION:Resort Amenity Campus
CATEGORIES:Fitness & Wellness
ATTACH;FMTTYPE=image/jpeg:https://www.esplanadebytheislandslifestyle.com/wp-content/uploads/sites/64/2026/03/Water-Aerobics.jpg
END:VEVENT
BEGIN:VEVENT
DTSTART;TZID=America/New_York:20261209T090000
DTEND;TZID=America/New_York:20261209T100000
DTSTAMP:20260421T214336
CREATED:20260328T021420Z
LAST-MODIFIED:20260406T123551Z
UID:71174-1796806800-1796810400@www.esplanadebytheislandslifestyle.com
SUMMARY:AquaFit Class with Keishaun
DESCRIPTION:Aqua Fit is a low-impact\, full-body workout performed in the pool that combines cardio\, strength\, and flexibility training. Using the natural resistance of the water along with equipment such as noodles\, dumbbells\, and kickboards\, participants improve endurance\, muscle tone\, and balance while minimizing stress on the joints. \nThis class is suitable for all fitness levels\, with options to increase or decrease intensity. Expect a fun\, energizing session set to music that leaves you feeling refreshed\, stronger\, and more mobile.
URL:https://www.esplanadebytheislandslifestyle.com/event/aquafit-class-with-keishaun/2026-12-09/
LOCATION:Resort Amenity Campus
CATEGORIES:Fitness & Wellness
ATTACH;FMTTYPE=image/jpeg:https://www.esplanadebytheislandslifestyle.com/wp-content/uploads/sites/64/2026/03/Water-Aerobics.jpg
END:VEVENT
BEGIN:VEVENT
DTSTART;TZID=America/New_York:20261216T090000
DTEND;TZID=America/New_York:20261216T100000
DTSTAMP:20260421T214336
CREATED:20260328T021420Z
LAST-MODIFIED:20260406T123551Z
UID:71176-1797411600-1797415200@www.esplanadebytheislandslifestyle.com
SUMMARY:AquaFit Class with Keishaun
DESCRIPTION:Aqua Fit is a low-impact\, full-body workout performed in the pool that combines cardio\, strength\, and flexibility training. Using the natural resistance of the water along with equipment such as noodles\, dumbbells\, and kickboards\, participants improve endurance\, muscle tone\, and balance while minimizing stress on the joints. \nThis class is suitable for all fitness levels\, with options to increase or decrease intensity. Expect a fun\, energizing session set to music that leaves you feeling refreshed\, stronger\, and more mobile.
URL:https://www.esplanadebytheislandslifestyle.com/event/aquafit-class-with-keishaun/2026-12-16/
LOCATION:Resort Amenity Campus
CATEGORIES:Fitness & Wellness
ATTACH;FMTTYPE=image/jpeg:https://www.esplanadebytheislandslifestyle.com/wp-content/uploads/sites/64/2026/03/Water-Aerobics.jpg
END:VEVENT
END:VCALENDAR