BEGIN:VCALENDAR
VERSION:2.0
PRODID:-//Esplanade by the Islands - ECPv6.15.15//NONSGML v1.0//EN
CALSCALE:GREGORIAN
METHOD:PUBLISH
X-ORIGINAL-URL:https://www.esplanadebytheislandslifestyle.com
X-WR-CALDESC:Events for Esplanade by the Islands
REFRESH-INTERVAL;VALUE=DURATION:PT1H
X-Robots-Tag:noindex
X-PUBLISHED-TTL:PT1H
BEGIN:VTIMEZONE
TZID:America/New_York
BEGIN:DAYLIGHT
TZOFFSETFROM:-0500
TZOFFSETTO:-0400
TZNAME:EDT
DTSTART:20230312T070000
END:DAYLIGHT
BEGIN:STANDARD
TZOFFSETFROM:-0400
TZOFFSETTO:-0500
TZNAME:EST
DTSTART:20231105T060000
END:STANDARD
BEGIN:DAYLIGHT
TZOFFSETFROM:-0500
TZOFFSETTO:-0400
TZNAME:EDT
DTSTART:20240310T070000
END:DAYLIGHT
BEGIN:STANDARD
TZOFFSETFROM:-0400
TZOFFSETTO:-0500
TZNAME:EST
DTSTART:20241103T060000
END:STANDARD
BEGIN:DAYLIGHT
TZOFFSETFROM:-0500
TZOFFSETTO:-0400
TZNAME:EDT
DTSTART:20250309T070000
END:DAYLIGHT
BEGIN:STANDARD
TZOFFSETFROM:-0400
TZOFFSETTO:-0500
TZNAME:EST
DTSTART:20251102T060000
END:STANDARD
END:VTIMEZONE
BEGIN:VEVENT
DTSTART;TZID=America/New_York:20241031T180000
DTEND;TZID=America/New_York:20241031T210000
DTSTAMP:20260423T030722
CREATED:20240919T144843Z
LAST-MODIFIED:20241026T181642Z
UID:37451-1730397600-1730408400@www.esplanadebytheislandslifestyle.com
SUMMARY:Monsters and Margaritas
DESCRIPTION:Get ready for a spooky and spirited evening at our Monsters and Margaritas event! Indulge in a ghoulish feast of sinister snacks and hauntingly delicious dishes\, paired with potions and elixirs that will enchant your taste buds. This Halloween-themed monster party will combine the thrill of the season with delicious refreshments and entertainment aimed to excite. Don’t miss out on this monster-mash of an evening! The event fee includes food\, entertainment\, and 2 drink tickets. \nPlease note that the Bahama Bar will be closed for this private event on Thursday\, October 31st. Members who did not purchase a ticket for the event will not be permitted to access the Bahama Bar and the surrounding area. \nMonsters and Margaritas Menu: \nAppetizers:\nFlautas\nChicken Quesadilla\nStuffed Eggs\nEmpanadas\nGrilled Elote Flat \nMain Dishes:\nDiscapa Stew\nGreen Rice/Arroz Verde\nChicken Enchiladas\nPescado Zarandeado/Grilled Snapper \nDessert:\nTBD
URL:https://www.esplanadebytheislandslifestyle.com/event/monsters-and-margaritas/
LOCATION:Bahama Bar\, 15450 Bella Tesoro Street\, Naples\, FL\, 34114\, United States
CATEGORIES:Courts,Lifestyle Activities and Events
ATTACH;FMTTYPE=application/pdf:https://www.esplanadebytheislandslifestyle.com/wp-content/uploads/sites/64/2024/09/Monsters-and-Margaritas.pdf
END:VEVENT
BEGIN:VEVENT
DTSTART;TZID=America/New_York:20241003T183000
DTEND;TZID=America/New_York:20241003T184500
DTSTAMP:20260423T030722
CREATED:20240925T203521Z
LAST-MODIFIED:20240925T203521Z
UID:38628-1727980200-1727981100@www.esplanadebytheislandslifestyle.com
SUMMARY:Bahama Bar Preview Event - October 3 at 6:30pm
DESCRIPTION:The Bahama Bar\, a full-service bar and restaurant\, will offer a true resort experience just steps from home! Members can sit back and relax poolside\, grab a beverage and bite\, and connect with friends and neighbors all without leaving the comfort of their Esplanade community. \nAs we finalize the menu development and team training\, we are pleased to invite you to a preview experience\, where you will have the opportunity to sample a portion of our planned menu while giving our teams the chance to perfect their best-in-class culinary service.
URL:https://www.esplanadebytheislandslifestyle.com/event/bahama-bar-preview-event-october-3-at-630pm/
LOCATION:Bahama Bar\, 15450 Bella Tesoro Street\, Naples\, FL\, 34114\, United States
ATTACH;FMTTYPE=image/jpeg:https://www.esplanadebytheislandslifestyle.com/wp-content/uploads/sites/64/2024/09/LWR-Wellness-Center-2075-web-300x300-1.jpg
END:VEVENT
BEGIN:VEVENT
DTSTART;TZID=America/New_York:20241003T181500
DTEND;TZID=America/New_York:20241003T183000
DTSTAMP:20260423T030722
CREATED:20240925T203438Z
LAST-MODIFIED:20240925T203438Z
UID:38625-1727979300-1727980200@www.esplanadebytheislandslifestyle.com
SUMMARY:Bahama Bar Preview Event - October 3 at 6:15pm
DESCRIPTION:The Bahama Bar\, a full-service bar and restaurant\, will offer a true resort experience just steps from home! Members can sit back and relax poolside\, grab a beverage and bite\, and connect with friends and neighbors all without leaving the comfort of their Esplanade community. \nAs we finalize the menu development and team training\, we are pleased to invite you to a preview experience\, where you will have the opportunity to sample a portion of our planned menu while giving our teams the chance to perfect their best-in-class culinary service.
URL:https://www.esplanadebytheislandslifestyle.com/event/bahama-bar-preview-event-october-3-at-615pm/
LOCATION:Bahama Bar\, 15450 Bella Tesoro Street\, Naples\, FL\, 34114\, United States
ATTACH;FMTTYPE=image/jpeg:https://www.esplanadebytheislandslifestyle.com/wp-content/uploads/sites/64/2024/09/LWR-Wellness-Center-2075-web-300x300-1.jpg
END:VEVENT
BEGIN:VEVENT
DTSTART;TZID=America/New_York:20241003T180000
DTEND;TZID=America/New_York:20241003T181500
DTSTAMP:20260423T030722
CREATED:20240925T203355Z
LAST-MODIFIED:20240925T203355Z
UID:38622-1727978400-1727979300@www.esplanadebytheislandslifestyle.com
SUMMARY:Bahama Bar Preview Event - October 3 at 6:00pm
DESCRIPTION:The Bahama Bar\, a full-service bar and restaurant\, will offer a true resort experience just steps from home! Members can sit back and relax poolside\, grab a beverage and bite\, and connect with friends and neighbors all without leaving the comfort of their Esplanade community. \nAs we finalize the menu development and team training\, we are pleased to invite you to a preview experience\, where you will have the opportunity to sample a portion of our planned menu while giving our teams the chance to perfect their best-in-class culinary service.
URL:https://www.esplanadebytheislandslifestyle.com/event/bahama-bar-preview-event-october-3-at-600pm/
LOCATION:Bahama Bar\, 15450 Bella Tesoro Street\, Naples\, FL\, 34114\, United States
ATTACH;FMTTYPE=image/jpeg:https://www.esplanadebytheislandslifestyle.com/wp-content/uploads/sites/64/2024/09/LWR-Wellness-Center-2075-web-300x300-1.jpg
END:VEVENT
BEGIN:VEVENT
DTSTART;TZID=America/New_York:20241003T174500
DTEND;TZID=America/New_York:20241003T180000
DTSTAMP:20260423T030722
CREATED:20240925T203254Z
LAST-MODIFIED:20240925T203254Z
UID:38619-1727977500-1727978400@www.esplanadebytheislandslifestyle.com
SUMMARY:Bahama Bar Preview Event - October 3 at 5:45pm
DESCRIPTION:The Bahama Bar\, a full-service bar and restaurant\, will offer a true resort experience just steps from home! Members can sit back and relax poolside\, grab a beverage and bite\, and connect with friends and neighbors all without leaving the comfort of their Esplanade community. \nAs we finalize the menu development and team training\, we are pleased to invite you to a preview experience\, where you will have the opportunity to sample a portion of our planned menu while giving our teams the chance to perfect their best-in-class culinary service.
URL:https://www.esplanadebytheislandslifestyle.com/event/bahama-bar-preview-event-october-3-at-545pm/
LOCATION:Bahama Bar\, 15450 Bella Tesoro Street\, Naples\, FL\, 34114\, United States
ATTACH;FMTTYPE=image/jpeg:https://www.esplanadebytheislandslifestyle.com/wp-content/uploads/sites/64/2024/09/LWR-Wellness-Center-2075-web-300x300-1.jpg
END:VEVENT
BEGIN:VEVENT
DTSTART;TZID=America/New_York:20241003T173000
DTEND;TZID=America/New_York:20241003T174500
DTSTAMP:20260423T030722
CREATED:20240925T203207Z
LAST-MODIFIED:20240925T203207Z
UID:38616-1727976600-1727977500@www.esplanadebytheislandslifestyle.com
SUMMARY:Bahama Bar Preview Event - October 3 at 5:30pm
DESCRIPTION:The Bahama Bar\, a full-service bar and restaurant\, will offer a true resort experience just steps from home! Members can sit back and relax poolside\, grab a beverage and bite\, and connect with friends and neighbors all without leaving the comfort of their Esplanade community. \nAs we finalize the menu development and team training\, we are pleased to invite you to a preview experience\, where you will have the opportunity to sample a portion of our planned menu while giving our teams the chance to perfect their best-in-class culinary service.
URL:https://www.esplanadebytheislandslifestyle.com/event/bahama-bar-preview-event-october-3-at-530pm/
LOCATION:Bahama Bar\, 15450 Bella Tesoro Street\, Naples\, FL\, 34114\, United States
ATTACH;FMTTYPE=image/jpeg:https://www.esplanadebytheislandslifestyle.com/wp-content/uploads/sites/64/2024/09/LWR-Wellness-Center-2075-web-300x300-1.jpg
END:VEVENT
BEGIN:VEVENT
DTSTART;TZID=America/New_York:20241003T171500
DTEND;TZID=America/New_York:20241003T173000
DTSTAMP:20260423T030722
CREATED:20240925T203114Z
LAST-MODIFIED:20240925T203114Z
UID:38613-1727975700-1727976600@www.esplanadebytheislandslifestyle.com
SUMMARY:Bahama Bar Preview Event - October 3 at 5:15pm
DESCRIPTION:The Bahama Bar\, a full-service bar and restaurant\, will offer a true resort experience just steps from home! Members can sit back and relax poolside\, grab a beverage and bite\, and connect with friends and neighbors all without leaving the comfort of their Esplanade community. \nAs we finalize the menu development and team training\, we are pleased to invite you to a preview experience\, where you will have the opportunity to sample a portion of our planned menu while giving our teams the chance to perfect their best-in-class culinary service.
URL:https://www.esplanadebytheislandslifestyle.com/event/bahama-bar-preview-event-october-3-at-515pm/
LOCATION:Bahama Bar\, 15450 Bella Tesoro Street\, Naples\, FL\, 34114\, United States
ATTACH;FMTTYPE=image/jpeg:https://www.esplanadebytheislandslifestyle.com/wp-content/uploads/sites/64/2024/09/LWR-Wellness-Center-2075-web-300x300-1.jpg
END:VEVENT
BEGIN:VEVENT
DTSTART;TZID=America/New_York:20241003T170000
DTEND;TZID=America/New_York:20241003T171500
DTSTAMP:20260423T030722
CREATED:20240925T201005Z
LAST-MODIFIED:20240925T201005Z
UID:38610-1727974800-1727975700@www.esplanadebytheislandslifestyle.com
SUMMARY:Bahama Bar Preview Event - October 3 at 5:00pm
DESCRIPTION:The Bahama Bar\, a full-service bar and restaurant\, will offer a true resort experience just steps from home! Members can sit back and relax poolside\, grab a beverage and bite\, and connect with friends and neighbors all without leaving the comfort of their Esplanade community. \nAs we finalize the menu development and team training\, we are pleased to invite you to a preview experience\, where you will have the opportunity to sample a portion of our planned menu while giving our teams the chance to perfect their best-in-class culinary service.
URL:https://www.esplanadebytheislandslifestyle.com/event/bahama-bar-preview-event-october-3-at-500pm/
LOCATION:Bahama Bar\, 15450 Bella Tesoro Street\, Naples\, FL\, 34114\, United States
ATTACH;FMTTYPE=image/jpeg:https://www.esplanadebytheislandslifestyle.com/wp-content/uploads/sites/64/2024/09/LWR-Wellness-Center-2075-web-300x300-1.jpg
END:VEVENT
BEGIN:VEVENT
DTSTART;TZID=America/New_York:20241002T183000
DTEND;TZID=America/New_York:20241002T184500
DTSTAMP:20260423T030722
CREATED:20240925T200713Z
LAST-MODIFIED:20240925T200713Z
UID:38607-1727893800-1727894700@www.esplanadebytheislandslifestyle.com
SUMMARY:Bahama Bar Preview Event - October 2 at 6:30pm
DESCRIPTION:The Bahama Bar\, a full-service bar and restaurant\, will offer a true resort experience just steps from home! Members can sit back and relax poolside\, grab a beverage and bite\, and connect with friends and neighbors all without leaving the comfort of their Esplanade community. \nAs we finalize the menu development and team training\, we are pleased to invite you to a preview experience\, where you will have the opportunity to sample a portion of our planned menu while giving our teams the chance to perfect their best-in-class culinary service.
URL:https://www.esplanadebytheislandslifestyle.com/event/bahama-bar-preview-event-october-2-at-630pm/
LOCATION:Bahama Bar\, 15450 Bella Tesoro Street\, Naples\, FL\, 34114\, United States
ATTACH;FMTTYPE=image/jpeg:https://www.esplanadebytheislandslifestyle.com/wp-content/uploads/sites/64/2024/09/LWR-Wellness-Center-2075-web-300x300-1.jpg
END:VEVENT
BEGIN:VEVENT
DTSTART;TZID=America/New_York:20241002T181500
DTEND;TZID=America/New_York:20241002T183000
DTSTAMP:20260423T030722
CREATED:20240925T200624Z
LAST-MODIFIED:20240925T200624Z
UID:38604-1727892900-1727893800@www.esplanadebytheislandslifestyle.com
SUMMARY:Bahama Bar Preview Event - October 2 at 6:15pm
DESCRIPTION:The Bahama Bar\, a full-service bar and restaurant\, will offer a true resort experience just steps from home! Members can sit back and relax poolside\, grab a beverage and bite\, and connect with friends and neighbors all without leaving the comfort of their Esplanade community. \nAs we finalize the menu development and team training\, we are pleased to invite you to a preview experience\, where you will have the opportunity to sample a portion of our planned menu while giving our teams the chance to perfect their best-in-class culinary service.
URL:https://www.esplanadebytheislandslifestyle.com/event/bahama-bar-preview-event-october-2-at-615pm/
LOCATION:Bahama Bar\, 15450 Bella Tesoro Street\, Naples\, FL\, 34114\, United States
ATTACH;FMTTYPE=image/jpeg:https://www.esplanadebytheislandslifestyle.com/wp-content/uploads/sites/64/2024/09/LWR-Wellness-Center-2075-web-300x300-1.jpg
END:VEVENT
BEGIN:VEVENT
DTSTART;TZID=America/New_York:20241002T180000
DTEND;TZID=America/New_York:20241002T181500
DTSTAMP:20260423T030722
CREATED:20240925T200543Z
LAST-MODIFIED:20240925T200543Z
UID:38601-1727892000-1727892900@www.esplanadebytheislandslifestyle.com
SUMMARY:Bahama Bar Preview Event - October 2 at 6:00pm
DESCRIPTION:The Bahama Bar\, a full-service bar and restaurant\, will offer a true resort experience just steps from home! Members can sit back and relax poolside\, grab a beverage and bite\, and connect with friends and neighbors all without leaving the comfort of their Esplanade community. \nAs we finalize the menu development and team training\, we are pleased to invite you to a preview experience\, where you will have the opportunity to sample a portion of our planned menu while giving our teams the chance to perfect their best-in-class culinary service.
URL:https://www.esplanadebytheislandslifestyle.com/event/bahama-bar-preview-event-october-2-at-600pm/
LOCATION:Bahama Bar\, 15450 Bella Tesoro Street\, Naples\, FL\, 34114\, United States
ATTACH;FMTTYPE=image/jpeg:https://www.esplanadebytheislandslifestyle.com/wp-content/uploads/sites/64/2024/09/LWR-Wellness-Center-2075-web-300x300-1.jpg
END:VEVENT
BEGIN:VEVENT
DTSTART;TZID=America/New_York:20241002T174500
DTEND;TZID=America/New_York:20241002T180000
DTSTAMP:20260423T030722
CREATED:20240925T200445Z
LAST-MODIFIED:20240925T200445Z
UID:38598-1727891100-1727892000@www.esplanadebytheislandslifestyle.com
SUMMARY:Bahama Bar Preview Event - October 2 at 5:45pm
DESCRIPTION:The Bahama Bar\, a full-service bar and restaurant\, will offer a true resort experience just steps from home! Members can sit back and relax poolside\, grab a beverage and bite\, and connect with friends and neighbors all without leaving the comfort of their Esplanade community. \nAs we finalize the menu development and team training\, we are pleased to invite you to a preview experience\, where you will have the opportunity to sample a portion of our planned menu while giving our teams the chance to perfect their best-in-class culinary service.
URL:https://www.esplanadebytheislandslifestyle.com/event/bahama-bar-preview-event-october-2-at-545pm/
LOCATION:Bahama Bar\, 15450 Bella Tesoro Street\, Naples\, FL\, 34114\, United States
ATTACH;FMTTYPE=image/jpeg:https://www.esplanadebytheislandslifestyle.com/wp-content/uploads/sites/64/2024/09/LWR-Wellness-Center-2075-web-300x300-1.jpg
END:VEVENT
BEGIN:VEVENT
DTSTART;TZID=America/New_York:20241002T173000
DTEND;TZID=America/New_York:20241002T174500
DTSTAMP:20260423T030722
CREATED:20240925T200404Z
LAST-MODIFIED:20240925T200404Z
UID:38595-1727890200-1727891100@www.esplanadebytheislandslifestyle.com
SUMMARY:Bahama Bar Preview Event - October 2 at 5:30pm
DESCRIPTION:The Bahama Bar\, a full-service bar and restaurant\, will offer a true resort experience just steps from home! Members can sit back and relax poolside\, grab a beverage and bite\, and connect with friends and neighbors all without leaving the comfort of their Esplanade community. \nAs we finalize the menu development and team training\, we are pleased to invite you to a preview experience\, where you will have the opportunity to sample a portion of our planned menu while giving our teams the chance to perfect their best-in-class culinary service.
URL:https://www.esplanadebytheislandslifestyle.com/event/bahama-bar-preview-event-october-2-at-530pm/
LOCATION:Bahama Bar\, 15450 Bella Tesoro Street\, Naples\, FL\, 34114\, United States
ATTACH;FMTTYPE=image/jpeg:https://www.esplanadebytheislandslifestyle.com/wp-content/uploads/sites/64/2024/09/LWR-Wellness-Center-2075-web-300x300-1.jpg
END:VEVENT
BEGIN:VEVENT
DTSTART;TZID=America/New_York:20241002T171500
DTEND;TZID=America/New_York:20241002T173000
DTSTAMP:20260423T030722
CREATED:20240925T200302Z
LAST-MODIFIED:20240925T200302Z
UID:38592-1727889300-1727890200@www.esplanadebytheislandslifestyle.com
SUMMARY:Bahama Bar Preview Event - October 2 at 5:15pm
DESCRIPTION:The Bahama Bar\, a full-service bar and restaurant\, will offer a true resort experience just steps from home! Members can sit back and relax poolside\, grab a beverage and bite\, and connect with friends and neighbors all without leaving the comfort of their Esplanade community. \nAs we finalize the menu development and team training\, we are pleased to invite you to a preview experience\, where you will have the opportunity to sample a portion of our planned menu while giving our teams the chance to perfect their best-in-class culinary service.
URL:https://www.esplanadebytheislandslifestyle.com/event/bahama-bar-preview-event-october-2-at-515pm/
LOCATION:Bahama Bar\, 15450 Bella Tesoro Street\, Naples\, FL\, 34114\, United States
ATTACH;FMTTYPE=image/jpeg:https://www.esplanadebytheislandslifestyle.com/wp-content/uploads/sites/64/2024/09/LWR-Wellness-Center-2075-web-300x300-1.jpg
END:VEVENT
BEGIN:VEVENT
DTSTART;TZID=America/New_York:20241002T170000
DTEND;TZID=America/New_York:20241002T171500
DTSTAMP:20260423T030722
CREATED:20240925T200216Z
LAST-MODIFIED:20240925T202803Z
UID:38589-1727888400-1727889300@www.esplanadebytheislandslifestyle.com
SUMMARY:Bahama Bar Preview Event - October 2 at 5:00pm
DESCRIPTION:The Bahama Bar\, a full-service bar and restaurant\, will offer a true resort experience just steps from home! Members can sit back and relax poolside\, grab a beverage and bite\, and connect with friends and neighbors all without leaving the comfort of their Esplanade community. \nAs we finalize the menu development and team training\, we are pleased to invite you to a preview experience\, where you will have the opportunity to sample a portion of our planned menu while giving our teams the chance to perfect their best-in-class culinary service.
URL:https://www.esplanadebytheislandslifestyle.com/event/bahama-bar-preview-event-october-2-at-500pm-2/
LOCATION:Bahama Bar\, 15450 Bella Tesoro Street\, Naples\, FL\, 34114\, United States
ATTACH;FMTTYPE=image/jpeg:https://www.esplanadebytheislandslifestyle.com/wp-content/uploads/sites/64/2024/09/LWR-Wellness-Center-2075-web-300x300-1.jpg
END:VEVENT
BEGIN:VEVENT
DTSTART;TZID=America/New_York:20241001T183000
DTEND;TZID=America/New_York:20241001T184500
DTSTAMP:20260423T030722
CREATED:20240925T200026Z
LAST-MODIFIED:20240925T200026Z
UID:38586-1727807400-1727808300@www.esplanadebytheislandslifestyle.com
SUMMARY:Bahama Bar Preview Event - October 1 at 6:30pm
DESCRIPTION:The Bahama Bar\, a full-service bar and restaurant\, will offer a true resort experience just steps from home! Members can sit back and relax poolside\, grab a beverage and bite\, and connect with friends and neighbors all without leaving the comfort of their Esplanade community. \nAs we finalize the menu development and team training\, we are pleased to invite you to a preview experience\, where you will have the opportunity to sample a portion of our planned menu while giving our teams the chance to perfect their best-in-class culinary service.
URL:https://www.esplanadebytheislandslifestyle.com/event/bahama-bar-preview-event-october-1-at-630pm/
LOCATION:Bahama Bar\, 15450 Bella Tesoro Street\, Naples\, FL\, 34114\, United States
ATTACH;FMTTYPE=image/jpeg:https://www.esplanadebytheislandslifestyle.com/wp-content/uploads/sites/64/2024/09/LWR-Wellness-Center-2075-web-300x300-1.jpg
END:VEVENT
BEGIN:VEVENT
DTSTART;TZID=America/New_York:20241001T181500
DTEND;TZID=America/New_York:20241001T183000
DTSTAMP:20260423T030722
CREATED:20240925T195936Z
LAST-MODIFIED:20240925T195936Z
UID:38583-1727806500-1727807400@www.esplanadebytheislandslifestyle.com
SUMMARY:Bahama Bar Preview Event - October 1 at 6:15pm
DESCRIPTION:The Bahama Bar\, a full-service bar and restaurant\, will offer a true resort experience just steps from home! Members can sit back and relax poolside\, grab a beverage and bite\, and connect with friends and neighbors all without leaving the comfort of their Esplanade community. \nAs we finalize the menu development and team training\, we are pleased to invite you to a preview experience\, where you will have the opportunity to sample a portion of our planned menu while giving our teams the chance to perfect their best-in-class culinary service.
URL:https://www.esplanadebytheislandslifestyle.com/event/bahama-bar-preview-event-october-1-at-615pm/
LOCATION:Bahama Bar\, 15450 Bella Tesoro Street\, Naples\, FL\, 34114\, United States
ATTACH;FMTTYPE=image/jpeg:https://www.esplanadebytheislandslifestyle.com/wp-content/uploads/sites/64/2024/09/LWR-Wellness-Center-2075-web-300x300-1.jpg
END:VEVENT
BEGIN:VEVENT
DTSTART;TZID=America/New_York:20241001T180000
DTEND;TZID=America/New_York:20241001T181500
DTSTAMP:20260423T030722
CREATED:20240925T195836Z
LAST-MODIFIED:20240925T195836Z
UID:38580-1727805600-1727806500@www.esplanadebytheislandslifestyle.com
SUMMARY:Bahama Bar Preview Event - October 1 at 6:00pm
DESCRIPTION:The Bahama Bar\, a full-service bar and restaurant\, will offer a true resort experience just steps from home! Members can sit back and relax poolside\, grab a beverage and bite\, and connect with friends and neighbors all without leaving the comfort of their Esplanade community. \nAs we finalize the menu development and team training\, we are pleased to invite you to a preview experience\, where you will have the opportunity to sample a portion of our planned menu while giving our teams the chance to perfect their best-in-class culinary service.
URL:https://www.esplanadebytheislandslifestyle.com/event/bahama-bar-preview-event-october-1-at-600pm/
LOCATION:Bahama Bar\, 15450 Bella Tesoro Street\, Naples\, FL\, 34114\, United States
ATTACH;FMTTYPE=image/jpeg:https://www.esplanadebytheislandslifestyle.com/wp-content/uploads/sites/64/2024/09/LWR-Wellness-Center-2075-web-300x300-1.jpg
END:VEVENT
BEGIN:VEVENT
DTSTART;TZID=America/New_York:20241001T174500
DTEND;TZID=America/New_York:20241001T180000
DTSTAMP:20260423T030722
CREATED:20240925T195615Z
LAST-MODIFIED:20240925T195615Z
UID:38577-1727804700-1727805600@www.esplanadebytheislandslifestyle.com
SUMMARY:Bahama Bar Preview Event - October 1 at 5:45pm
DESCRIPTION:The Bahama Bar\, a full-service bar and restaurant\, will offer a true resort experience just steps from home! Members can sit back and relax poolside\, grab a beverage and bite\, and connect with friends and neighbors all without leaving the comfort of their Esplanade community. \nAs we finalize the menu development and team training\, we are pleased to invite you to a preview experience\, where you will have the opportunity to sample a portion of our planned menu while giving our teams the chance to perfect their best-in-class culinary service.
URL:https://www.esplanadebytheislandslifestyle.com/event/bahama-bar-preview-event-october-1-at-545pm/
LOCATION:Bahama Bar\, 15450 Bella Tesoro Street\, Naples\, FL\, 34114\, United States
ATTACH;FMTTYPE=image/jpeg:https://www.esplanadebytheislandslifestyle.com/wp-content/uploads/sites/64/2024/09/LWR-Wellness-Center-2075-web-300x300-1.jpg
END:VEVENT
BEGIN:VEVENT
DTSTART;TZID=America/New_York:20241001T173000
DTEND;TZID=America/New_York:20241001T174500
DTSTAMP:20260423T030722
CREATED:20240925T194957Z
LAST-MODIFIED:20240925T194957Z
UID:38574-1727803800-1727804700@www.esplanadebytheislandslifestyle.com
SUMMARY:Bahama Bar Preview Event - October 1 at 5:30pm
DESCRIPTION:The Bahama Bar\, a full-service bar and restaurant\, will offer a true resort experience just steps from home! Members can sit back and relax poolside\, grab a beverage and bite\, and connect with friends and neighbors all without leaving the comfort of their Esplanade community. \nAs we finalize the menu development and team training\, we are pleased to invite you to a preview experience\, where you will have the opportunity to sample a portion of our planned menu while giving our teams the chance to perfect their best-in-class culinary service.
URL:https://www.esplanadebytheislandslifestyle.com/event/bahama-bar-preview-event-october-1-at-530pm/
LOCATION:Bahama Bar\, 15450 Bella Tesoro Street\, Naples\, FL\, 34114\, United States
ATTACH;FMTTYPE=image/jpeg:https://www.esplanadebytheislandslifestyle.com/wp-content/uploads/sites/64/2024/09/LWR-Wellness-Center-2075-web-300x300-1.jpg
END:VEVENT
BEGIN:VEVENT
DTSTART;TZID=America/New_York:20241001T171500
DTEND;TZID=America/New_York:20241001T173000
DTSTAMP:20260423T030722
CREATED:20240925T194900Z
LAST-MODIFIED:20240925T194900Z
UID:38571-1727802900-1727803800@www.esplanadebytheislandslifestyle.com
SUMMARY:Bahama Bar Preview Event - October 1 at 5:15pm
DESCRIPTION:The Bahama Bar\, a full-service bar and restaurant\, will offer a true resort experience just steps from home! Members can sit back and relax poolside\, grab a beverage and bite\, and connect with friends and neighbors all without leaving the comfort of their Esplanade community. \nAs we finalize the menu development and team training\, we are pleased to invite you to a preview experience\, where you will have the opportunity to sample a portion of our planned menu while giving our teams the chance to perfect their best-in-class culinary service.
URL:https://www.esplanadebytheislandslifestyle.com/event/bahama-bar-preview-event-october-1-at-515pm/
LOCATION:Bahama Bar\, 15450 Bella Tesoro Street\, Naples\, FL\, 34114\, United States
ATTACH;FMTTYPE=image/jpeg:https://www.esplanadebytheislandslifestyle.com/wp-content/uploads/sites/64/2024/09/LWR-Wellness-Center-2075-web-300x300-1.jpg
END:VEVENT
BEGIN:VEVENT
DTSTART;TZID=America/New_York:20241001T170000
DTEND;TZID=America/New_York:20241001T171500
DTSTAMP:20260423T030722
CREATED:20240925T192829Z
LAST-MODIFIED:20240925T194726Z
UID:38549-1727802000-1727802900@www.esplanadebytheislandslifestyle.com
SUMMARY:Bahama Bar Preview Event - October 1 at 5:00pm
DESCRIPTION:The Bahama Bar\, a full-service bar and restaurant\, will offer a true resort experience just steps from home! Members can sit back and relax poolside\, grab a beverage and bite\, and connect with friends and neighbors all without leaving the comfort of their Esplanade community. \nAs we finalize the menu development and team training\, we are pleased to invite you to a preview experience\, where you will have the opportunity to sample a portion of our planned menu while giving our teams the chance to perfect their best-in-class culinary service.
URL:https://www.esplanadebytheislandslifestyle.com/event/bahama-bar-preview-event-october-1-at-500pm/
LOCATION:Bahama Bar\, 15450 Bella Tesoro Street\, Naples\, FL\, 34114\, United States
ATTACH;FMTTYPE=image/jpeg:https://www.esplanadebytheislandslifestyle.com/wp-content/uploads/sites/64/2024/09/LWR-Wellness-Center-2075-web-300x300-1.jpg
END:VEVENT
END:VCALENDAR