BEGIN:VCALENDAR
VERSION:2.0
PRODID:-//Esplanade by the Islands - ECPv6.15.15//NONSGML v1.0//EN
CALSCALE:GREGORIAN
METHOD:PUBLISH
X-WR-CALNAME:Esplanade by the Islands
X-ORIGINAL-URL:https://www.esplanadebytheislandslifestyle.com
X-WR-CALDESC:Events for Esplanade by the Islands
REFRESH-INTERVAL;VALUE=DURATION:PT1H
X-Robots-Tag:noindex
X-PUBLISHED-TTL:PT1H
BEGIN:VTIMEZONE
TZID:America/New_York
BEGIN:DAYLIGHT
TZOFFSETFROM:-0500
TZOFFSETTO:-0400
TZNAME:EDT
DTSTART:20220313T070000
END:DAYLIGHT
BEGIN:STANDARD
TZOFFSETFROM:-0400
TZOFFSETTO:-0500
TZNAME:EST
DTSTART:20221106T060000
END:STANDARD
BEGIN:DAYLIGHT
TZOFFSETFROM:-0500
TZOFFSETTO:-0400
TZNAME:EDT
DTSTART:20230312T070000
END:DAYLIGHT
BEGIN:STANDARD
TZOFFSETFROM:-0400
TZOFFSETTO:-0500
TZNAME:EST
DTSTART:20231105T060000
END:STANDARD
BEGIN:DAYLIGHT
TZOFFSETFROM:-0500
TZOFFSETTO:-0400
TZNAME:EDT
DTSTART:20240310T070000
END:DAYLIGHT
BEGIN:STANDARD
TZOFFSETFROM:-0400
TZOFFSETTO:-0500
TZNAME:EST
DTSTART:20241103T060000
END:STANDARD
END:VTIMEZONE
BEGIN:VEVENT
DTSTART;TZID=America/New_York:20230129T100000
DTEND;TZID=America/New_York:20230129T130000
DTSTAMP:20260422T125834
CREATED:20221128T172812Z
LAST-MODIFIED:20230117T222228Z
UID:5774-1674986400-1674997200@www.esplanadebytheislandslifestyle.com
SUMMARY:3 Hour Eco & Full Speed Tour with Go Cats On The Water
DESCRIPTION:Are you ready for the most exciting boat tour in our area? Driving your own 2-man boat with a guide leading you on his boat\, this tour starts and finishes through the beautiful Eco and Manatee zones at idle speed.  After passing through the Eco zone\, we get up to full speed on our way through the 10\,000 islands to explore Panther Key and White Horse Key.  You will stop on a beautiful beach to do some shelling and swimming while taking a break off the boats.  We do more full-speed boating on our way back\, then finish through our Eco zone at idle speed.  The cost includes pictures of your adventure\, a free cooler of ice-cold bottled water\, an experienced guide to entertain you\, gratuity for your guide and tax.  (Price is inclusive of all fees and gratuity). For more information visit: https://gocatsonthewater.com/. \n  \nThis excursion is limited to 12 members riding side-by-side in 2-man boats. Registration required by Friday\, January 20.
URL:https://www.esplanadebytheislandslifestyle.com/event/3-hour-eco-full-speed-tour-with-go-cats-on-the-water/
LOCATION:Port of the Islands\, 525 Newport Drive\, Naples\, 34140\, United States
CATEGORIES:Beach & Boating,Lifestyle Activities and Events
ATTACH;FMTTYPE=image/jpeg:https://www.esplanadebytheislandslifestyle.com/wp-content/uploads/sites/64/2022/11/GoCatsBoatTour.jpg
END:VEVENT
END:VCALENDAR