BEGIN:VCALENDAR
VERSION:2.0
PRODID:-//Esplanade by the Islands - ECPv6.15.15//NONSGML v1.0//EN
CALSCALE:GREGORIAN
METHOD:PUBLISH
X-ORIGINAL-URL:https://www.esplanadebytheislandslifestyle.com
X-WR-CALDESC:Events for Esplanade by the Islands
REFRESH-INTERVAL;VALUE=DURATION:PT1H
X-Robots-Tag:noindex
X-PUBLISHED-TTL:PT1H
BEGIN:VTIMEZONE
TZID:America/New_York
BEGIN:DAYLIGHT
TZOFFSETFROM:-0500
TZOFFSETTO:-0400
TZNAME:EDT
DTSTART:20220313T070000
END:DAYLIGHT
BEGIN:STANDARD
TZOFFSETFROM:-0400
TZOFFSETTO:-0500
TZNAME:EST
DTSTART:20221106T060000
END:STANDARD
BEGIN:DAYLIGHT
TZOFFSETFROM:-0500
TZOFFSETTO:-0400
TZNAME:EDT
DTSTART:20230312T070000
END:DAYLIGHT
BEGIN:STANDARD
TZOFFSETFROM:-0400
TZOFFSETTO:-0500
TZNAME:EST
DTSTART:20231105T060000
END:STANDARD
BEGIN:DAYLIGHT
TZOFFSETFROM:-0500
TZOFFSETTO:-0400
TZNAME:EDT
DTSTART:20240310T070000
END:DAYLIGHT
BEGIN:STANDARD
TZOFFSETFROM:-0400
TZOFFSETTO:-0500
TZNAME:EST
DTSTART:20241103T060000
END:STANDARD
END:VTIMEZONE
BEGIN:VEVENT
DTSTART;TZID=America/New_York:20231013T170000
DTEND;TZID=America/New_York:20231013T180000
DTSTAMP:20260422T093420
CREATED:20230905T163458Z
LAST-MODIFIED:20231009T144500Z
UID:31104-1697216400-1697220000@www.esplanadebytheislandslifestyle.com
SUMMARY:Pet Costume Parade
DESCRIPTION:Dress your furry friends in their favorite costume and come show it off to your neighbors.  A grand prize will be awarded.  Treats will be supplied by your Lifestyle team.
URL:https://www.esplanadebytheislandslifestyle.com/event/pet-costume-parade/
LOCATION:Bark Park
CATEGORIES:Lifestyle Activities and Events
ATTACH;FMTTYPE=image/jpeg:https://www.esplanadebytheislandslifestyle.com/wp-content/uploads/sites/64/2021/07/Depositphotos_420467856_l-2015.jpg
ORGANIZER;CN="Jennifer Jaehrling":MAILTO:Jennifer.Jaehrling@teamesplanade.com
END:VEVENT
BEGIN:VEVENT
DTSTART;TZID=America/New_York:20230822T170000
DTEND;TZID=America/New_York:20230822T180000
DTSTAMP:20260422T093420
CREATED:20230710T193013Z
LAST-MODIFIED:20230807T164110Z
UID:30503-1692723600-1692727200@www.esplanadebytheislandslifestyle.com
SUMMARY:Yappy Hour
DESCRIPTION:Back by popular demand\, Yappy Hour!  Enjoy a happy hour play date with your favorite four legged friend!  Be sure to bring your favorite beverage to enjoy and your Lifestyle team will provide the doggy snacks!
URL:https://www.esplanadebytheislandslifestyle.com/event/yappy-hour-2/
LOCATION:Bark Park
CATEGORIES:Lifestyle Activities and Events,Pets
ATTACH;FMTTYPE=image/jpeg:https://www.esplanadebytheislandslifestyle.com/wp-content/uploads/sites/64/2023/01/pet.jpg
ORGANIZER;CN="Jennifer Jaehrling":MAILTO:Jennifer.Jaehrling@teamesplanade.com
END:VEVENT
END:VCALENDAR