BEGIN:VCALENDAR
VERSION:2.0
PRODID:-//Esplanade by the Islands - ECPv6.15.15//NONSGML v1.0//EN
CALSCALE:GREGORIAN
METHOD:PUBLISH
X-WR-CALNAME:Esplanade by the Islands
X-ORIGINAL-URL:https://www.esplanadebytheislandslifestyle.com
X-WR-CALDESC:Events for Esplanade by the Islands
REFRESH-INTERVAL;VALUE=DURATION:PT1H
X-Robots-Tag:noindex
X-PUBLISHED-TTL:PT1H
BEGIN:VTIMEZONE
TZID:America/New_York
BEGIN:DAYLIGHT
TZOFFSETFROM:-0500
TZOFFSETTO:-0400
TZNAME:EDT
DTSTART:20250309T070000
END:DAYLIGHT
BEGIN:STANDARD
TZOFFSETFROM:-0400
TZOFFSETTO:-0500
TZNAME:EST
DTSTART:20251102T060000
END:STANDARD
BEGIN:DAYLIGHT
TZOFFSETFROM:-0500
TZOFFSETTO:-0400
TZNAME:EDT
DTSTART:20260308T070000
END:DAYLIGHT
BEGIN:STANDARD
TZOFFSETFROM:-0400
TZOFFSETTO:-0500
TZNAME:EST
DTSTART:20261101T060000
END:STANDARD
BEGIN:DAYLIGHT
TZOFFSETFROM:-0500
TZOFFSETTO:-0400
TZNAME:EDT
DTSTART:20270314T070000
END:DAYLIGHT
BEGIN:STANDARD
TZOFFSETFROM:-0400
TZOFFSETTO:-0500
TZNAME:EST
DTSTART:20271107T060000
END:STANDARD
END:VTIMEZONE
BEGIN:VEVENT
DTSTART;TZID=America/New_York:20260416T170000
DTEND;TZID=America/New_York:20260416T183000
DTSTAMP:20260421T193113
CREATED:20260403T155237Z
LAST-MODIFIED:20260403T155237Z
UID:71678-1776358800-1776364200@www.esplanadebytheislandslifestyle.com
SUMMARY:Bocce Ball Blast
DESCRIPTION:Join us for a Bocce Ball Blast. Mix and mingle with fellow members.
URL:https://www.esplanadebytheislandslifestyle.com/event/bocce-ball-blast-2/
LOCATION:Bocce Courts\, 15450 Bella Tesoro Street\, Naples\, FL\, 34114\, United States
CATEGORIES:Courts
ORGANIZER;CN="Ted Heiser":MAILTO:ted.heiser@teamesplanade.com
END:VEVENT
BEGIN:VEVENT
DTSTART;TZID=America/New_York:20260326T170000
DTEND;TZID=America/New_York:20260326T183000
DTSTAMP:20260421T193113
CREATED:20260306T152247Z
LAST-MODIFIED:20260307T155551Z
UID:68541-1774544400-1774549800@www.esplanadebytheislandslifestyle.com
SUMMARY:Bocce Ball Lucky Rolls
DESCRIPTION:Roll the dice and embrace the luck at our Lucky Dice Bocce Ball Social Event!\nThis isn’t your average bocce game—it’s a chance to add an element of surprise\nto every roll. \nThe dice will determine if they are rolling the ball with their right hand\, left hand\, or lucky roll to get their bocce ball close to the pallia\, creating a lively and unpredictable atmosphere on the bocce court. \nMembers are encouraged to wear their best green-inspired outfits for a prize! Come out and press your luck with us and have the time of your life! \nCOMPLIMENTARY FOR ALL MEMBERS
URL:https://www.esplanadebytheislandslifestyle.com/event/bocce-ball-lucky-rolls-2/
LOCATION:Bocce Courts\, 15450 Bella Tesoro Street\, Naples\, FL\, 34114\, United States
CATEGORIES:Courts
ATTACH;FMTTYPE=image/jpeg:https://www.esplanadebytheislandslifestyle.com/wp-content/uploads/sites/64/2026/03/Bocce-Ball.jpg
END:VEVENT
BEGIN:VEVENT
DTSTART;TZID=America/New_York:20260312T170000
DTEND;TZID=America/New_York:20260312T183000
DTSTAMP:20260421T193113
CREATED:20260305T141220Z
LAST-MODIFIED:20260305T141220Z
UID:68373-1773334800-1773340200@www.esplanadebytheislandslifestyle.com
SUMMARY:Bocce Lucky Roll
DESCRIPTION:Roll the dice and embrace the luck at our Lucky Roll Bocce Ball Social Event.
URL:https://www.esplanadebytheislandslifestyle.com/event/bocce-lucky-roll/
LOCATION:Bocce Courts\, 15450 Bella Tesoro Street\, Naples\, FL\, 34114\, United States
ORGANIZER;CN="Ted Heiser":MAILTO:ted.heiser@teamesplanade.com
END:VEVENT
END:VCALENDAR