BEGIN:VCALENDAR
VERSION:2.0
PRODID:-//Esplanade by the Islands - ECPv6.15.15//NONSGML v1.0//EN
CALSCALE:GREGORIAN
METHOD:PUBLISH
X-ORIGINAL-URL:https://www.esplanadebytheislandslifestyle.com
X-WR-CALDESC:Events for Esplanade by the Islands
REFRESH-INTERVAL;VALUE=DURATION:PT1H
X-Robots-Tag:noindex
X-PUBLISHED-TTL:PT1H
BEGIN:VTIMEZONE
TZID:America/New_York
BEGIN:DAYLIGHT
TZOFFSETFROM:-0500
TZOFFSETTO:-0400
TZNAME:EDT
DTSTART:20240310T070000
END:DAYLIGHT
BEGIN:STANDARD
TZOFFSETFROM:-0400
TZOFFSETTO:-0500
TZNAME:EST
DTSTART:20241103T060000
END:STANDARD
BEGIN:DAYLIGHT
TZOFFSETFROM:-0500
TZOFFSETTO:-0400
TZNAME:EDT
DTSTART:20250309T070000
END:DAYLIGHT
BEGIN:STANDARD
TZOFFSETFROM:-0400
TZOFFSETTO:-0500
TZNAME:EST
DTSTART:20251102T060000
END:STANDARD
BEGIN:DAYLIGHT
TZOFFSETFROM:-0500
TZOFFSETTO:-0400
TZNAME:EDT
DTSTART:20260308T070000
END:DAYLIGHT
BEGIN:STANDARD
TZOFFSETFROM:-0400
TZOFFSETTO:-0500
TZNAME:EST
DTSTART:20261101T060000
END:STANDARD
END:VTIMEZONE
BEGIN:VEVENT
DTSTART;TZID=America/New_York:20250514T120000
DTEND;TZID=America/New_York:20250514T130000
DTSTAMP:20260422T052739
CREATED:20250505T164709Z
LAST-MODIFIED:20250505T164746Z
UID:54453-1747224000-1747227600@www.esplanadebytheislandslifestyle.com
SUMMARY:Celebrate National Bike Month! - Bike Ride
DESCRIPTION:Come out Wednesday May 14 for a lunchtime bike ride to celebrate National Bike Month. We will meet in the Spa parking lot and then ride taking in all the tranquility and beauty of nature on this serene ride around Esplanade By The Islands.\nWe will also have the Mobile Bike Medic on-site to provide on-the-spot bicycle repairs and maintenance\, ensuring participants enjoy a hassle-free experience. If you would like to book a service prior to the ride\, you can go to their website at https://mobilebikemedic.com/ to see their offerings and prices. Any services are the member’s responsibility.\nJoin us on the Wellness Center Veranda after the ride and receive a voucher for a complimentary Green Goddess Detox Smoothie at Toasted!
URL:https://www.esplanadebytheislandslifestyle.com/event/celebrate-national-bike-month-bike-ride/
LOCATION:Esplanade by the Islands Spa
CATEGORIES:Fitness & Wellness
ATTACH;FMTTYPE=image/jpeg:https://www.esplanadebytheislandslifestyle.com/wp-content/uploads/sites/64/2024/07/CoupleOnBikes.jpg
END:VEVENT
BEGIN:VEVENT
DTSTART;TZID=America/New_York:20250430T150000
DTEND;TZID=America/New_York:20250430T170000
DTSTAMP:20260422T052739
CREATED:20250403T175018Z
LAST-MODIFIED:20250428T131032Z
UID:51768-1746025200-1746032400@www.esplanadebytheislandslifestyle.com
SUMMARY:CANCELLED Spring into Beauty Event
DESCRIPTION:SPRING INTO BEAUTY EVENT \nWednesday\, April 30 | 3 – 5 p.m. \nResort Wellness Center \n  \nMark your calendar for an afternoon of wellness\, relaxation\, and retail therapy\, and join us at The Spa at Esplanade for a delightful spring beauty event! \nSip champagne\, indulge in sweet treats\, mingle with our expert team\, and discover the latest rejuvenating treatments with Taryn from HydroPeptide! \nMembers will receive $25 OFF a retail purchase of $125 or greater as well as special gift with purchase valued at $100 \nAdvance reservations are required.  Space will be limited to the first 20 participants who register. \n  \n 
URL:https://www.esplanadebytheislandslifestyle.com/event/spring-into-beauty-sparty/
LOCATION:Esplanade by the Islands Spa
CATEGORIES:Fitness & Wellness
ATTACH;FMTTYPE=image/jpeg:https://www.esplanadebytheislandslifestyle.com/wp-content/uploads/sites/64/2024/11/ChampagneGlassPour-1.jpg
END:VEVENT
BEGIN:VEVENT
DTSTART;VALUE=DATE:20250422
DTEND;VALUE=DATE:20250423
DTSTAMP:20260422T052739
CREATED:20250416T021603Z
LAST-MODIFIED:20250416T021603Z
UID:53048-1745280000-1745366399@www.esplanadebytheislandslifestyle.com
SUMMARY:Fresh-Faced in Fifteen Skincare Consultations 
DESCRIPTION:Monday\, April 21 & Tuesday\, April 22 Wellness Center | The Spa at Esplanade I $10 per Member \nYou’re Invited! Fresh-Faced in Fifteen Spa Event Monday\, and Tuesday. Join us for a refreshing 15-minute skincare consultation with our expert aestheticians! \nDiscover the radiant results of our luxurious facials and learn more about the premium skincare lines we proudly use: HydroPeptide and Circadia. \nExclusive Perks:\nGlass of bubbly\n$10 off your next facial\n$50 off a retail purchase of $125 or more \nSpots are limited – register below to reserve your consultation achieve your glow goals for the summer!
URL:https://www.esplanadebytheislandslifestyle.com/event/fresh-faced-in-fifteen-skincare-consultations/2025-04-22/
LOCATION:Esplanade by the Islands Spa
ATTACH;FMTTYPE=image/jpeg:https://www.esplanadebytheislandslifestyle.com/wp-content/uploads/sites/64/2025/04/Fresh-Faced-in-Fifteen.jpg
END:VEVENT
BEGIN:VEVENT
DTSTART;VALUE=DATE:20250421
DTEND;VALUE=DATE:20250422
DTSTAMP:20260422T052739
CREATED:20250416T021603Z
LAST-MODIFIED:20250416T021603Z
UID:53044-1745193600-1745279999@www.esplanadebytheislandslifestyle.com
SUMMARY:Fresh-Faced in Fifteen Skincare Consultations 
DESCRIPTION:Monday\, April 21 & Tuesday\, April 22 Wellness Center | The Spa at Esplanade I $10 per Member \nYou’re Invited! Fresh-Faced in Fifteen Spa Event Monday\, and Tuesday. Join us for a refreshing 15-minute skincare consultation with our expert aestheticians! \nDiscover the radiant results of our luxurious facials and learn more about the premium skincare lines we proudly use: HydroPeptide and Circadia. \nExclusive Perks:\nGlass of bubbly\n$10 off your next facial\n$50 off a retail purchase of $125 or more \nSpots are limited – register below to reserve your consultation achieve your glow goals for the summer!
URL:https://www.esplanadebytheislandslifestyle.com/event/fresh-faced-in-fifteen-skincare-consultations/2025-04-21/
LOCATION:Esplanade by the Islands Spa
ATTACH;FMTTYPE=image/jpeg:https://www.esplanadebytheislandslifestyle.com/wp-content/uploads/sites/64/2025/04/Fresh-Faced-in-Fifteen.jpg
END:VEVENT
END:VCALENDAR