BEGIN:VCALENDAR
VERSION:2.0
PRODID:-//Esplanade by the Islands - ECPv6.15.15//NONSGML v1.0//EN
CALSCALE:GREGORIAN
METHOD:PUBLISH
X-ORIGINAL-URL:https://www.esplanadebytheislandslifestyle.com
X-WR-CALDESC:Events for Esplanade by the Islands
REFRESH-INTERVAL;VALUE=DURATION:PT1H
X-Robots-Tag:noindex
X-PUBLISHED-TTL:PT1H
BEGIN:VTIMEZONE
TZID:America/New_York
BEGIN:DAYLIGHT
TZOFFSETFROM:-0500
TZOFFSETTO:-0400
TZNAME:EDT
DTSTART:20220313T070000
END:DAYLIGHT
BEGIN:STANDARD
TZOFFSETFROM:-0400
TZOFFSETTO:-0500
TZNAME:EST
DTSTART:20221106T060000
END:STANDARD
BEGIN:DAYLIGHT
TZOFFSETFROM:-0500
TZOFFSETTO:-0400
TZNAME:EDT
DTSTART:20230312T070000
END:DAYLIGHT
BEGIN:STANDARD
TZOFFSETFROM:-0400
TZOFFSETTO:-0500
TZNAME:EST
DTSTART:20231105T060000
END:STANDARD
BEGIN:DAYLIGHT
TZOFFSETFROM:-0500
TZOFFSETTO:-0400
TZNAME:EDT
DTSTART:20240310T070000
END:DAYLIGHT
BEGIN:STANDARD
TZOFFSETFROM:-0400
TZOFFSETTO:-0500
TZNAME:EST
DTSTART:20241103T060000
END:STANDARD
BEGIN:DAYLIGHT
TZOFFSETFROM:-0500
TZOFFSETTO:-0400
TZNAME:EDT
DTSTART:20250309T070000
END:DAYLIGHT
BEGIN:STANDARD
TZOFFSETFROM:-0400
TZOFFSETTO:-0500
TZNAME:EST
DTSTART:20251102T060000
END:STANDARD
BEGIN:DAYLIGHT
TZOFFSETFROM:-0500
TZOFFSETTO:-0400
TZNAME:EDT
DTSTART:20260308T070000
END:DAYLIGHT
BEGIN:STANDARD
TZOFFSETFROM:-0400
TZOFFSETTO:-0500
TZNAME:EST
DTSTART:20261101T060000
END:STANDARD
END:VTIMEZONE
BEGIN:VEVENT
DTSTART;TZID=America/New_York:20250403T113000
DTEND;TZID=America/New_York:20250403T123000
DTSTAMP:20260422T140839
CREATED:20250322T161109Z
LAST-MODIFIED:20250326T191138Z
UID:50205-1743679800-1743683400@www.esplanadebytheislandslifestyle.com
SUMMARY:Hatha Yoga: Instructor - Bill
DESCRIPTION:This class focuses on body alignment and consists of gentle movements and holding poses for extended periods to regulate and improve breathing while increasing flexibility and range of motion.  Hatha yoga can decrease respiratory rate\, increase blood flow\, and slow heart rate.  Some other health benefits of hatha yoga include reducing blood pressure and anxiety while decreasing muscle tension.
URL:https://www.esplanadebytheislandslifestyle.com/event/hatha-yoga/
LOCATION:Esplanade By The Islands Venues
CATEGORIES:Fitness & Wellness
ATTACH;FMTTYPE=image/jpeg:https://www.esplanadebytheislandslifestyle.com/wp-content/uploads/sites/64/2024/11/BocceBall-2.jpg
END:VEVENT
BEGIN:VEVENT
DTSTART;TZID=America/New_York:20250401T170000
DTEND;TZID=America/New_York:20250401T190000
DTSTAMP:20260422T140839
CREATED:20250317T215757Z
LAST-MODIFIED:20250401T130800Z
UID:49551-1743526800-1743534000@www.esplanadebytheislandslifestyle.com
SUMMARY:CORNHOLE:  "APRIL AIR TOSS" - CANCELED
DESCRIPTION:Engage in a friendly cornhole tournament.  The top teams will advance to the playoffs to compete for the championship title!  Enjoy a variety of spring-themed snacks and beverages to keep you energized throughout the event.
URL:https://www.esplanadebytheislandslifestyle.com/event/cornhole-april-air-toss/
LOCATION:Esplanade By The Islands Venues
CATEGORIES:Courts
ATTACH;FMTTYPE=image/jpeg:https://www.esplanadebytheislandslifestyle.com/wp-content/uploads/sites/64/2024/12/corn-hole.jpg
END:VEVENT
BEGIN:VEVENT
DTSTART;TZID=America/New_York:20250401T170000
DTEND;TZID=America/New_York:20250401T190000
DTSTAMP:20260422T140839
CREATED:20250317T205120Z
LAST-MODIFIED:20250317T205120Z
UID:49522-1743526800-1743534000@www.esplanadebytheislandslifestyle.com
SUMMARY:CORN HOLE: "APRIL AIR TOSS"
DESCRIPTION:Engage in a friendly cornhole tournament.  The top teams will advance to the playoffs to compete for the championship title!  Enjoy a variety of spring-themed snacks and beverages to keep you energized throughout the event.
URL:https://www.esplanadebytheislandslifestyle.com/event/corn-hole-april-air-toss/
LOCATION:Esplanade By The Islands Venues
ATTACH;FMTTYPE=image/jpeg:https://www.esplanadebytheislandslifestyle.com/wp-content/uploads/sites/64/2024/12/corn-hole.jpg
END:VEVENT
BEGIN:VEVENT
DTSTART;TZID=America/New_York:20250401T093000
DTEND;TZID=America/New_York:20250401T103000
DTSTAMP:20260422T140839
CREATED:20250326T153556Z
LAST-MODIFIED:20250326T153556Z
UID:50647-1743499800-1743503400@www.esplanadebytheislandslifestyle.com
SUMMARY:FIT FORUM
DESCRIPTION:Join us for our monthly “FIT FORUM”\, where we keep you informed on the current fitness programs\, exciting new wellness initiatives\, and upcoming group fitness class schedules.  This is your opportunity to share feedback\, ask questions\, and help shape a dynamic wellness experience tailored to our community.  Your input matters – let’s build a healthier\, stronger\, and more connected lifestyle together! \n 
URL:https://www.esplanadebytheislandslifestyle.com/event/fit-forum/
LOCATION:Esplanade By The Islands Venues
CATEGORIES:Community Meetings
ATTACH;FMTTYPE=image/jpeg:https://www.esplanadebytheislandslifestyle.com/wp-content/uploads/sites/64/2025/03/iStock-910348734-scaled.jpg
END:VEVENT
BEGIN:VEVENT
DTSTART;TZID=America/New_York:20250326T123000
DTEND;TZID=America/New_York:20250326T123000
DTSTAMP:20260422T140839
CREATED:20250314T170832Z
LAST-MODIFIED:20250314T170832Z
UID:49334-1742992200-1742992200@www.esplanadebytheislandslifestyle.com
SUMMARY:PICKLEBALL HOME GAME
DESCRIPTION:Wednesday March 26th @ 12:30PM come cheer on the Players Club-Kitchenettes.
URL:https://www.esplanadebytheislandslifestyle.com/event/pickleball-home-game-2/
LOCATION:Esplanade By The Islands Venues
CATEGORIES:Courts
END:VEVENT
BEGIN:VEVENT
DTSTART;TZID=America/New_York:20250322T130000
DTEND;TZID=America/New_York:20250322T150000
DTSTAMP:20260422T140839
CREATED:20250321T215005Z
LAST-MODIFIED:20250321T215005Z
UID:50148-1742648400-1742655600@www.esplanadebytheislandslifestyle.com
SUMMARY:PICKLEBALL:  Round-Robin Tournament
DESCRIPTION:
URL:https://www.esplanadebytheislandslifestyle.com/event/pickleball-round-robin-tournament-2/
LOCATION:Esplanade By The Islands Venues
CATEGORIES:Courts
ATTACH;FMTTYPE=image/jpeg:https://www.esplanadebytheislandslifestyle.com/wp-content/uploads/sites/64/2024/08/NeonPickleball-2-1.jpg
END:VEVENT
BEGIN:VEVENT
DTSTART;TZID=America/New_York:20241204T073000
DTEND;TZID=America/New_York:20241204T180000
DTSTAMP:20260422T140839
CREATED:20241111T014258Z
LAST-MODIFIED:20241113T013850Z
UID:41081-1733297400-1733335200@www.esplanadebytheislandslifestyle.com
SUMMARY:Fall In Love With Wellness Expo
DESCRIPTION:At Esplanade\, our approach to wellness is multi-faceted and designed to create a holistic experience for our Members and guests. It is in this spirit that we are pleased to invite you to our 2nd annual health and wellness expo\, Fall in Love with Wellness! \nWe will begin with a fun community walk in the morning\, as well as all regularly scheduled group fitness classes for the morning. Take some time to fuel up and build your own tasty and healthy breakfast at our Yogurt Parfait Bar on the Wellness Center Vernada. Gather your neighbors and join us for some friendly Bocce Ball competition with our friends from Esplanade at Hacienda Lakes.  You are also invited to visit the Spa and learn more about our services\, enter our drawing for fun giveaways and receive a complimentary skincare consultation with Abigail Rose\, our Spa Supervisor and Esthetician. Traveling for the holidays? Be sure to sit-in on our Living Well and Learning Session\, “Travel & Maintaining your Health\,” with Guest Speaker Julie Hill\, RD\, Owner of Integrated WellBeing. To end the day\, we will be offering a Pickleball Clinic for Beginner’s- new to the game or just starting out? Come see why everyone is Falling for Pickleball! \nPlease register individually for each part of the event you will be attending so we have a idea of attendance by viewing these events on the calendar: \n7:30-8:30am Trot off the Turkey Community Walk around the Esplanade By the Islands Walking Trail \n9-10:00am Make your own Healthy Breakfast Yogart Parfait Bar \n9:30-11:30am Bocce Ball Member Mixer with Esplanade Hacienda Lakes \n11am-3:00pm Complimentary Skincare Consultations at the Spa \n1:00-2:00pm Travel & Maintaining Your Health Professional Speaker Session \n4-6pm Fall for Pickleball- Learn to Play Beginner’s Clinic \nStay tuned for additional activities and information!
URL:https://www.esplanadebytheislandslifestyle.com/event/fall-in-love-with-wellness-expo-2/
LOCATION:Esplanade By The Islands Venues
CATEGORIES:Fitness & Wellness
ATTACH;FMTTYPE=image/png:https://www.esplanadebytheislandslifestyle.com/wp-content/uploads/sites/64/2024/11/Fall-in-Love-Expo-image.png
END:VEVENT
BEGIN:VEVENT
DTSTART;TZID=America/New_York:20231213T103000
DTEND;TZID=America/New_York:20231213T180000
DTSTAMP:20260422T140839
CREATED:20231016T154822Z
LAST-MODIFIED:20231130T204452Z
UID:31618-1702463400-1702490400@www.esplanadebytheislandslifestyle.com
SUMMARY:Fall In Love With Wellness Expo
DESCRIPTION:At Esplanade\, our approach to wellness is multi-faceted and designed to create a holistic experience for our Members and guests. It is in this spirit that we are pleased to invite you to our annual health and wellness expo\, Fall in Love with Wellness! \nWe will beginning with our Zumba Class in the morning\, then continue on with Aqua Fit Class.  After the Expo at the Sales Gallery we will end the day with the Yoga Group Class later in the afternoon.  Between the fitness class we will be offering a healthy option lunch provided by The Bowl Bazaar and literature on health and wellness.  If you are not attending either of the fitness classes this day\, you are still welcome to join us for the expo held in the Sales Gallery at 12:00-2:00.  Please register individually for each part of the event you will be attending so we have a idea of attendance.
URL:https://www.esplanadebytheislandslifestyle.com/event/fall-in-love-with-wellness-expo/
LOCATION:Esplanade By The Islands Venues
CATEGORIES:Lifestyle Activities and Events
ATTACH;FMTTYPE=image/png:https://www.esplanadebytheislandslifestyle.com/wp-content/uploads/sites/64/2023/10/Wellness-picture.png
ORGANIZER;CN="Jennifer Jaehrling":MAILTO:Jennifer.Jaehrling@teamesplanade.com
END:VEVENT
END:VCALENDAR