BEGIN:VCALENDAR
VERSION:2.0
PRODID:-//Esplanade by the Islands - ECPv6.15.15//NONSGML v1.0//EN
CALSCALE:GREGORIAN
METHOD:PUBLISH
X-WR-CALNAME:Esplanade by the Islands
X-ORIGINAL-URL:https://www.esplanadebytheislandslifestyle.com
X-WR-CALDESC:Events for Esplanade by the Islands
REFRESH-INTERVAL;VALUE=DURATION:PT1H
X-Robots-Tag:noindex
X-PUBLISHED-TTL:PT1H
BEGIN:VTIMEZONE
TZID:America/New_York
BEGIN:DAYLIGHT
TZOFFSETFROM:-0500
TZOFFSETTO:-0400
TZNAME:EDT
DTSTART:20220313T070000
END:DAYLIGHT
BEGIN:STANDARD
TZOFFSETFROM:-0400
TZOFFSETTO:-0500
TZNAME:EST
DTSTART:20221106T060000
END:STANDARD
BEGIN:DAYLIGHT
TZOFFSETFROM:-0500
TZOFFSETTO:-0400
TZNAME:EDT
DTSTART:20230312T070000
END:DAYLIGHT
BEGIN:STANDARD
TZOFFSETFROM:-0400
TZOFFSETTO:-0500
TZNAME:EST
DTSTART:20231105T060000
END:STANDARD
BEGIN:DAYLIGHT
TZOFFSETFROM:-0500
TZOFFSETTO:-0400
TZNAME:EDT
DTSTART:20240310T070000
END:DAYLIGHT
BEGIN:STANDARD
TZOFFSETFROM:-0400
TZOFFSETTO:-0500
TZNAME:EST
DTSTART:20241103T060000
END:STANDARD
BEGIN:DAYLIGHT
TZOFFSETFROM:-0500
TZOFFSETTO:-0400
TZNAME:EDT
DTSTART:20250309T070000
END:DAYLIGHT
BEGIN:STANDARD
TZOFFSETFROM:-0400
TZOFFSETTO:-0500
TZNAME:EST
DTSTART:20251102T060000
END:STANDARD
BEGIN:DAYLIGHT
TZOFFSETFROM:-0500
TZOFFSETTO:-0400
TZNAME:EDT
DTSTART:20260308T070000
END:DAYLIGHT
BEGIN:STANDARD
TZOFFSETFROM:-0400
TZOFFSETTO:-0500
TZNAME:EST
DTSTART:20261101T060000
END:STANDARD
END:VTIMEZONE
BEGIN:VEVENT
DTSTART;TZID=America/New_York:20251031T170000
DTEND;TZID=America/New_York:20251031T210000
DTSTAMP:20260422T052642
CREATED:20250925T141811Z
LAST-MODIFIED:20250925T141811Z
UID:60353-1761930000-1761944400@www.esplanadebytheislandslifestyle.com
SUMMARY:Trick-or-Treating
DESCRIPTION:With Halloween just around the corner\, we’re excited to kick off preparations for a fun and festive night in our community! \nTo help make the evening enjoyable\, safe\, and well-organized\, we’re putting together a list of homes that would like to welcome trick-or-treaters. This will help families know where to go—and ensure we’re respectful of those who prefer not to participate. \nTo protect your privacy\, the list will include addresses only—no names will be shared. \nIf your household plans to hand out treats and would like to be included on the Trick-or-Treat list\, please take a moment to fill out the short survey linked here: Survey \nPlease complete the survey by Friday\, October 24th\, so we have time to finalize and share the list with the community ahead of Halloween night. \nThank you for helping us make Halloween a fun and stress-free celebration for everyone!
URL:https://www.esplanadebytheislandslifestyle.com/event/trick-or-treating/
LOCATION:Esplanade By The Islands
CATEGORIES:Holidays,Kids,Lifestyle Activities and Events
ATTACH;FMTTYPE=image/jpeg:https://www.esplanadebytheislandslifestyle.com/wp-content/uploads/sites/64/2025/09/Halloween-1.jpg
END:VEVENT
BEGIN:VEVENT
DTSTART;VALUE=DATE:20250614
DTEND;VALUE=DATE:20250615
DTSTAMP:20260422T052642
CREATED:20250512T145339Z
LAST-MODIFIED:20250614T132437Z
UID:54690-1749859200-1749945599@www.esplanadebytheislandslifestyle.com
SUMMARY:Global Wellness Day
DESCRIPTION:Join us for Global Wellness Day\, a worldwide celebration dedicated to the shared dream of living a healthier and better life! Recognized in over 100 countries\, this special day encourages individuals and communities everywhere to take a step toward physical\, mental\, and emotional well-being. \nWe’re bringing the spirit of this global holiday right here to our own community with a full day of wellness-focused activities for all ages and fitness levels. Come be part of something bigger\, alongside people around the world making wellness a priority! \nWhether you’re looking to jumpstart your health journey or just want to enjoy a day of community connection and positive energy\, Global Wellness Day is for YOU! \nSchedule of Events:  \n\n7:30am: 5k run/walk within the community  \n\nEach participant will receive a $25 credit to redeem at The Spa. The credit may be applied to services or products and will be valid through July 31st.  \n\n\n\n  \n\n9:00am – 2:00pm: Pop up Esplanade shop in Toasted Cafe\n\n  \n\n9:00am – 6:00pm: Complimentary snacks located at the Concierge Desk (while supplies last)\n\n  \n\n9:30am – 1:00pm: Nashbowls Acai Bowl Truck on-site at the Resort Amenity Campus \n\nThe first 100 customers will receive a free acai bowl—limit one per person. \n\n\n\n  \n\n10:00am – 10:45am: AquaFit class  \n\n  \n\n10:00am – 12:00pm: Sunnygrove table set up on veranda\n\n  \n\n12:00pm – 5:00pm: THE BLOOD TRUCK IS HAVING MECHANICAL ISSUES AND WILL NO LONGER BE ABLE TO ATTEND. WE APOLOGIZE FOR THE INCONVENIENCE. Blood Drive Truck on-site at the Resort Amenity Campus (walk-ins welcome\, appointments recommended)\n\nUse this link to schedule an appointment: Scheduler | Donate Blood or Platelets\nPlease note that a form of identification is required to donate blood.\n\n\n\n  \n\nThroughout the day: Furry Land Mobile Pet Grooming on-site for services (by appointment only) \n\nCall Furry Land at 239-744-2177 to schedule an appointment.\n\n\n\n  \n5k Run/Walk Event Information: \nLace up your sneakers and join us for a complimentary 5k Run/Walk through our beautiful community! Whether you’re a seasoned runner\, a casual walker\, or prefer a mix of both\, this is a fun and active way to connect with neighbors and enjoy the outdoors.  \nEvent Details:  \n\nDate & Time: The 5k will begin promptly at 7:30am\n\n\nCheck-In: All participants must arrive by 7:15am for check-in \n\n\nRoute: A curated 3.1-mile course winding through our community\, with a water station available at the halfway point \n\nVolunteer Opportunity:  \nWe’re looking for a few helpful hands to assist with pre-event setup and post-event breakdown. If you’re interested in volunteering\, we’d love to have your support!  \nImportant Requirements:  \nA signed liability wavier is required for all participants and volunteers. If you haven’t already submitted one\, please use the link below to complete and email it to our Lifestyle Manager\, Kelsey (Kelsey.Porter@TeamEsplanade.com):  \nEsplanade_by_the_Islands_Liability_Waiver_NEW.01.pdf \nRegistration: \nRegistration for all 5k participants and volunteers will close on June 12th at 12:00pm.
URL:https://www.esplanadebytheislandslifestyle.com/event/global-wellness-day/
LOCATION:Esplanade By The Islands
CATEGORIES:Fitness & Wellness,Lifestyle Activities and Events
ATTACH;FMTTYPE=image/png:https://www.esplanadebytheislandslifestyle.com/wp-content/uploads/sites/64/2025/05/Wellbeing.png
END:VEVENT
BEGIN:VEVENT
DTSTART;TZID=America/New_York:20250407T090000
DTEND;TZID=America/New_York:20250407T170000
DTSTAMP:20260422T052642
CREATED:20250405T155619Z
LAST-MODIFIED:20250405T155619Z
UID:51852-1744016400-1744045200@www.esplanadebytheislandslifestyle.com
SUMMARY:WE HAVE NAIL AND FACIAL APPOINTMENTS AVAILABLE TODAY!!!
DESCRIPTION:Schedule a nail or facial appointment today\, and receive 20% OFF! \n  \n 
URL:https://www.esplanadebytheislandslifestyle.com/event/we-have-nail-and-facial-appointments-available-today/
LOCATION:Esplanade By The Islands
CATEGORIES:Fitness & Wellness
ATTACH;FMTTYPE=image/jpeg:https://www.esplanadebytheislandslifestyle.com/wp-content/uploads/sites/64/2025/03/3.jpg
END:VEVENT
BEGIN:VEVENT
DTSTART;TZID=America/New_York:20231207T100000
DTEND;TZID=America/New_York:20231207T140000
DTSTAMP:20260422T052642
CREATED:20231012T171146Z
LAST-MODIFIED:20231012T171243Z
UID:31582-1701943200-1701957600@www.esplanadebytheislandslifestyle.com
SUMMARY:Holiday Pictures
DESCRIPTION:Esplanade By The Islands will have a professional photographer at the property earlier in the day.  These photos can either be family or pet pictures.  Please contact Jennifer\, your Lifestyle Manager to schedule a time and confirm the shot location you would like to choose.
URL:https://www.esplanadebytheislandslifestyle.com/event/holiday-pictures/
LOCATION:Esplanade By The Islands
CATEGORIES:Courts,Lifestyle Activities and Events
ATTACH;FMTTYPE=image/jpeg:https://www.esplanadebytheislandslifestyle.com/wp-content/uploads/sites/64/2022/01/shutterstock_1520305553-landscape.jpg
ORGANIZER;CN="Jennifer Jaehrling":MAILTO:Jennifer.Jaehrling@teamesplanade.com
END:VEVENT
END:VCALENDAR