BEGIN:VCALENDAR
VERSION:2.0
PRODID:-//Esplanade by the Islands - ECPv6.15.15//NONSGML v1.0//EN
CALSCALE:GREGORIAN
METHOD:PUBLISH
X-WR-CALNAME:Esplanade by the Islands
X-ORIGINAL-URL:https://www.esplanadebytheislandslifestyle.com
X-WR-CALDESC:Events for Esplanade by the Islands
REFRESH-INTERVAL;VALUE=DURATION:PT1H
X-Robots-Tag:noindex
X-PUBLISHED-TTL:PT1H
BEGIN:VTIMEZONE
TZID:America/New_York
BEGIN:DAYLIGHT
TZOFFSETFROM:-0500
TZOFFSETTO:-0400
TZNAME:EDT
DTSTART:20230312T070000
END:DAYLIGHT
BEGIN:STANDARD
TZOFFSETFROM:-0400
TZOFFSETTO:-0500
TZNAME:EST
DTSTART:20231105T060000
END:STANDARD
BEGIN:DAYLIGHT
TZOFFSETFROM:-0500
TZOFFSETTO:-0400
TZNAME:EDT
DTSTART:20240310T070000
END:DAYLIGHT
BEGIN:STANDARD
TZOFFSETFROM:-0400
TZOFFSETTO:-0500
TZNAME:EST
DTSTART:20241103T060000
END:STANDARD
BEGIN:DAYLIGHT
TZOFFSETFROM:-0500
TZOFFSETTO:-0400
TZNAME:EDT
DTSTART:20250309T070000
END:DAYLIGHT
BEGIN:STANDARD
TZOFFSETFROM:-0400
TZOFFSETTO:-0500
TZNAME:EST
DTSTART:20251102T060000
END:STANDARD
END:VTIMEZONE
BEGIN:VEVENT
DTSTART;TZID=America/New_York:20240113T100000
DTEND;TZID=America/New_York:20240113T160000
DTSTAMP:20260422T224743
CREATED:20231124T171610Z
LAST-MODIFIED:20240109T181427Z
UID:32282-1705140000-1705161600@www.esplanadebytheislandslifestyle.com
SUMMARY:A Day At The Bonita Flea Market
DESCRIPTION:If you love to shop\, Flamingo Island Flea Market is the place for you. A staple in South West Florida\, Flamingo Island hosts vendors from all over the world with items you won’t find anywhere else at prices you can’t beat.  Along with the 600 hundred vendors\, they offer multiple unique eateries as well.  We will meet in the Flamingo Island parking lot near the side entrance\, there you can decide to shop as a group or individually. \nhttps://www.flamingoisland.com/flamingo-island-flea-visit \n 
URL:https://www.esplanadebytheislandslifestyle.com/event/a-day-at-the-bonita-flea-market/
LOCATION:Flamingo Island Flea Market\, 11902 Bonita Beach Rd. SE\, Bonita Springs\, FL\, 34135\, United States
CATEGORIES:Arts & Crafts,Lifestyle Activities and Events
ATTACH;FMTTYPE=image/jpeg:https://www.esplanadebytheislandslifestyle.com/wp-content/uploads/sites/64/2023/11/GarageSale.jpg
ORGANIZER;CN="Jennifer Jaehrling":MAILTO:Jennifer.Jaehrling@teamesplanade.com
END:VEVENT
END:VCALENDAR