BEGIN:VCALENDAR
VERSION:2.0
PRODID:-//Esplanade by the Islands - ECPv6.15.15//NONSGML v1.0//EN
CALSCALE:GREGORIAN
METHOD:PUBLISH
X-ORIGINAL-URL:https://www.esplanadebytheislandslifestyle.com
X-WR-CALDESC:Events for Esplanade by the Islands
REFRESH-INTERVAL;VALUE=DURATION:PT1H
X-Robots-Tag:noindex
X-PUBLISHED-TTL:PT1H
BEGIN:VTIMEZONE
TZID:America/New_York
BEGIN:DAYLIGHT
TZOFFSETFROM:-0500
TZOFFSETTO:-0400
TZNAME:EDT
DTSTART:20210314T070000
END:DAYLIGHT
BEGIN:STANDARD
TZOFFSETFROM:-0400
TZOFFSETTO:-0500
TZNAME:EST
DTSTART:20211107T060000
END:STANDARD
BEGIN:DAYLIGHT
TZOFFSETFROM:-0500
TZOFFSETTO:-0400
TZNAME:EDT
DTSTART:20220313T070000
END:DAYLIGHT
BEGIN:STANDARD
TZOFFSETFROM:-0400
TZOFFSETTO:-0500
TZNAME:EST
DTSTART:20221106T060000
END:STANDARD
BEGIN:DAYLIGHT
TZOFFSETFROM:-0500
TZOFFSETTO:-0400
TZNAME:EDT
DTSTART:20230312T070000
END:DAYLIGHT
BEGIN:STANDARD
TZOFFSETFROM:-0400
TZOFFSETTO:-0500
TZNAME:EST
DTSTART:20231105T060000
END:STANDARD
END:VTIMEZONE
BEGIN:VEVENT
DTSTART;TZID=America/New_York:20221116T173000
DTEND;TZID=America/New_York:20221116T193000
DTSTAMP:20260423T103332
CREATED:20220902T173606Z
LAST-MODIFIED:20221115T144551Z
UID:4656-1668619800-1668627000@www.esplanadebytheislandslifestyle.com
SUMMARY:Friendsgiving Mixer at Foxboro Tavern
DESCRIPTION:Join us for a fun and casual gathering of neighbors/friends at this nearby tavern that prides itself on being a hands-on\, small but mighty family business\, dedicated to delivering the best in food\, drink\, and good times in Southwest Florida. Your Lifestyle team will provide some sharable munchies for each table Munchies will be available on a limited basis so arrive at 5:30pm to partake in the complimentary snacks.  Dinner and drinks at your own expense. Transportation will not be provided but we encourage you to carpool with your neighbors.
URL:https://www.esplanadebytheislandslifestyle.com/event/friendsgiving-mixer-at-foxboro-tavern/
LOCATION:Foxboro Sports Tavern\, 4420 Thomasson Drive\, Naples\, FL\, 34112\, United States
CATEGORIES:Dining & Happy Hour,Lifestyle Activities and Events
ATTACH;FMTTYPE=image/jpeg:https://www.esplanadebytheislandslifestyle.com/wp-content/uploads/sites/64/2022/09/FallThanksgivingMeal-1.jpg
ORGANIZER;CN="Carri Adam":MAILTO:Carri.Adam@teamesplanade.com
END:VEVENT
END:VCALENDAR