BEGIN:VCALENDAR
VERSION:2.0
PRODID:-//Esplanade by the Islands - ECPv6.15.15//NONSGML v1.0//EN
CALSCALE:GREGORIAN
METHOD:PUBLISH
X-WR-CALNAME:Esplanade by the Islands
X-ORIGINAL-URL:https://www.esplanadebytheislandslifestyle.com
X-WR-CALDESC:Events for Esplanade by the Islands
REFRESH-INTERVAL;VALUE=DURATION:PT1H
X-Robots-Tag:noindex
X-PUBLISHED-TTL:PT1H
BEGIN:VTIMEZONE
TZID:America/New_York
BEGIN:DAYLIGHT
TZOFFSETFROM:-0500
TZOFFSETTO:-0400
TZNAME:EDT
DTSTART:20220313T070000
END:DAYLIGHT
BEGIN:STANDARD
TZOFFSETFROM:-0400
TZOFFSETTO:-0500
TZNAME:EST
DTSTART:20221106T060000
END:STANDARD
BEGIN:DAYLIGHT
TZOFFSETFROM:-0500
TZOFFSETTO:-0400
TZNAME:EDT
DTSTART:20230312T070000
END:DAYLIGHT
BEGIN:STANDARD
TZOFFSETFROM:-0400
TZOFFSETTO:-0500
TZNAME:EST
DTSTART:20231105T060000
END:STANDARD
BEGIN:DAYLIGHT
TZOFFSETFROM:-0500
TZOFFSETTO:-0400
TZNAME:EDT
DTSTART:20240310T070000
END:DAYLIGHT
BEGIN:STANDARD
TZOFFSETFROM:-0400
TZOFFSETTO:-0500
TZNAME:EST
DTSTART:20241103T060000
END:STANDARD
BEGIN:DAYLIGHT
TZOFFSETFROM:-0500
TZOFFSETTO:-0400
TZNAME:EDT
DTSTART:20250309T070000
END:DAYLIGHT
BEGIN:STANDARD
TZOFFSETFROM:-0400
TZOFFSETTO:-0500
TZNAME:EST
DTSTART:20251102T060000
END:STANDARD
END:VTIMEZONE
BEGIN:VEVENT
DTSTART;TZID=America/New_York:20240815T170000
DTEND;TZID=America/New_York:20240815T200000
DTSTAMP:20260422T190404
CREATED:20240617T151747Z
LAST-MODIFIED:20240801T161524Z
UID:36303-1723741200-1723752000@www.esplanadebytheislandslifestyle.com
SUMMARY:Bowling Night with your Esplanade Friends
DESCRIPTION:  \nStrike up some fun with your neighbors and friends!  Join us for a fun night of bowling at HeadPinz Naples. Three lanes have been reserved. Please register here on the website\,and pay at the venue. \nhttps://headpinz.com/
URL:https://www.esplanadebytheislandslifestyle.com/event/bowling-with-your-esplanade-friends-2/
LOCATION:HeadPinz Naples\, 8525 Radio Ln\, Naples\, FL\, 34104\, United States
CATEGORIES:Lifestyle Activities and Events
ATTACH;FMTTYPE=image/jpeg:https://www.esplanadebytheislandslifestyle.com/wp-content/uploads/sites/64/2023/07/bowling.jpg
END:VEVENT
BEGIN:VEVENT
DTSTART;TZID=America/New_York:20230805T140000
DTEND;TZID=America/New_York:20230805T170000
DTSTAMP:20260422T190404
CREATED:20230705T170058Z
LAST-MODIFIED:20230802T144817Z
UID:30424-1691244000-1691254800@www.esplanadebytheislandslifestyle.com
SUMMARY:Bowling with your Esplanade Friends
DESCRIPTION:Does the summer heat have you staying indoors? Then we hope you venture out to join other members for our VIP Bowling Night at HeadPinz Naples. The price includes unlimited bowling with shoe rental\, pool table access\, pizza and non alcoholic beverages.  Additional food & drinks at your own expense and available from the private bar. VIP Room includes private lanes with luxury seating and a dedicated light and music show. \n 
URL:https://www.esplanadebytheislandslifestyle.com/event/bowling-with-your-esplanade-friends/
LOCATION:HeadPinz Naples\, 8525 Radio Ln\, Naples\, FL\, 34104\, United States
CATEGORIES:Lifestyle Activities and Events
ATTACH;FMTTYPE=image/jpeg:https://www.esplanadebytheislandslifestyle.com/wp-content/uploads/sites/64/2023/07/bowling.jpg
ORGANIZER;CN="Jennifer Jaehrling":MAILTO:Jennifer.Jaehrling@teamesplanade.com
END:VEVENT
END:VCALENDAR