BEGIN:VCALENDAR
VERSION:2.0
PRODID:-//Esplanade by the Islands - ECPv6.15.15//NONSGML v1.0//EN
CALSCALE:GREGORIAN
METHOD:PUBLISH
X-WR-CALNAME:Esplanade by the Islands
X-ORIGINAL-URL:https://www.esplanadebytheislandslifestyle.com
X-WR-CALDESC:Events for Esplanade by the Islands
REFRESH-INTERVAL;VALUE=DURATION:PT1H
X-Robots-Tag:noindex
X-PUBLISHED-TTL:PT1H
BEGIN:VTIMEZONE
TZID:America/New_York
BEGIN:DAYLIGHT
TZOFFSETFROM:-0500
TZOFFSETTO:-0400
TZNAME:EDT
DTSTART:20230312T070000
END:DAYLIGHT
BEGIN:STANDARD
TZOFFSETFROM:-0400
TZOFFSETTO:-0500
TZNAME:EST
DTSTART:20231105T060000
END:STANDARD
BEGIN:DAYLIGHT
TZOFFSETFROM:-0500
TZOFFSETTO:-0400
TZNAME:EDT
DTSTART:20240310T070000
END:DAYLIGHT
BEGIN:STANDARD
TZOFFSETFROM:-0400
TZOFFSETTO:-0500
TZNAME:EST
DTSTART:20241103T060000
END:STANDARD
BEGIN:DAYLIGHT
TZOFFSETFROM:-0500
TZOFFSETTO:-0400
TZNAME:EDT
DTSTART:20250309T070000
END:DAYLIGHT
BEGIN:STANDARD
TZOFFSETFROM:-0400
TZOFFSETTO:-0500
TZNAME:EST
DTSTART:20251102T060000
END:STANDARD
END:VTIMEZONE
BEGIN:VEVENT
DTSTART;TZID=America/New_York:20241016T093000
DTEND;TZID=America/New_York:20241016T113000
DTSTAMP:20260423T002506
CREATED:20240814T024041Z
LAST-MODIFIED:20240814T024041Z
UID:36648-1729071000-1729078200@www.esplanadebytheislandslifestyle.com
SUMMARY:Kayaking Club Outing
DESCRIPTION:Our Kayaking Club will be exploring new locations monthly. David Amadori will be the direct contact for coordinating amongst Club Members. Please reach out to him at davidamadori@aol.com for details. \nThis Wednesday we will be meeting a 9:30 a.m. at https://www.collierparks.com/collier_park/isles-of-capri-paddlecraft-park/ \nIf you are not an owner of a kayak\, you are able to rent and have one delivered through the following outfitters. \nhttps://www.risingtidefl.com/ \nhttps://www.paddlemarco.com/ \n 
URL:https://www.esplanadebytheislandslifestyle.com/event/kayaking-club-outing-3/
LOCATION:Isles of Capri Paddlecraft Park
CATEGORIES:Clubs
ATTACH;FMTTYPE=image/jpeg:https://www.esplanadebytheislandslifestyle.com/wp-content/uploads/sites/64/2022/01/iStock-868818880-1024x684-square.jpg
END:VEVENT
BEGIN:VEVENT
DTSTART;TZID=America/New_York:20240918T093000
DTEND;TZID=America/New_York:20240918T113000
DTSTAMP:20260423T002506
CREATED:20240729T180031Z
LAST-MODIFIED:20240729T180031Z
UID:36646-1726651800-1726659000@www.esplanadebytheislandslifestyle.com
SUMMARY:Kayaking Club Outing
DESCRIPTION:Our Kayaking Club will be exploring new locations monthly. David Amadori will be the direct contact for coordinating amongst Club Members. Please reach out to him at davidamadori@aol.com for details. \nThis Wednesday we will be meeting a 9:30 a.m. at https://www.collierparks.com/collier_park/isles-of-capri-paddlecraft-park/ \nIf you are not an owner of a kayak\, you are able to rent and have one delivered through the following outfitters. \nhttps://www.risingtidefl.com/ \nhttps://www.paddlemarco.com/ \n 
URL:https://www.esplanadebytheislandslifestyle.com/event/kayaking-club-outing-2/
LOCATION:Isles of Capri Paddlecraft Park
CATEGORIES:Clubs
ATTACH;FMTTYPE=image/jpeg:https://www.esplanadebytheislandslifestyle.com/wp-content/uploads/sites/64/2022/01/iStock-868818880-1024x684-square.jpg
ORGANIZER;CN="Jennifer Jaehrling":MAILTO:Jennifer.Jaehrling@teamesplanade.com
END:VEVENT
BEGIN:VEVENT
DTSTART;TZID=America/New_York:20240821T093000
DTEND;TZID=America/New_York:20240821T113000
DTSTAMP:20260423T002506
CREATED:20240627T133211Z
LAST-MODIFIED:20240627T133244Z
UID:36388-1724232600-1724239800@www.esplanadebytheislandslifestyle.com
SUMMARY:Kayaking Club Outing
DESCRIPTION:Our Kayaking Club will be exploring new locations monthly. David Amadori will be the direct contact for coordinating amongst Club Members. Please reach out to him at davidamadori@aol.com for details. \nThis Wednesday we will be meeting a 9:30 a.m. at https://www.collierparks.com/collier_park/isles-of-capri-paddlecraft-park/ \nIf you are not an owner of a kayak\, you are able to rent and have one delivered through the following outfitters. \nhttps://www.risingtidefl.com/ \nhttps://www.paddlemarco.com/ \n 
URL:https://www.esplanadebytheislandslifestyle.com/event/kayaking-club-outing/
LOCATION:Isles of Capri Paddlecraft Park
CATEGORIES:Clubs
ATTACH;FMTTYPE=image/jpeg:https://www.esplanadebytheislandslifestyle.com/wp-content/uploads/sites/64/2022/01/iStock-868818880-1024x684-square.jpg
ORGANIZER;CN="Jennifer Jaehrling":MAILTO:Jennifer.Jaehrling@teamesplanade.com
END:VEVENT
BEGIN:VEVENT
DTSTART;TZID=America/New_York:20240717T093000
DTEND;TZID=America/New_York:20240717T113000
DTSTAMP:20260423T002506
CREATED:20240510T142047Z
LAST-MODIFIED:20240510T142337Z
UID:35605-1721208600-1721215800@www.esplanadebytheislandslifestyle.com
SUMMARY:Kayaking Club Exploration
DESCRIPTION:Our Kayaking Club will be exploring new locations monthly. David Amadori will be the direct contact for cordinating amongst Club Members. Please reach out to him at davidamadori@aol.com for details. \nThis Wednsday we will be meeting a 9:30 a.m at https://www.collierparks.com/collier_park/isles-of-capri-paddlecraft-park/ \nIf you are not an owner of a kayak\, you are able to rent and have one delivered through the following outfitters. \nhttps://www.risingtidefl.com/ \nhttps://www.paddlemarco.com/ \n 
URL:https://www.esplanadebytheislandslifestyle.com/event/kayaking-club-exploration/
LOCATION:Isles of Capri Paddlecraft Park
CATEGORIES:Clubs
ATTACH;FMTTYPE=image/jpeg:https://www.esplanadebytheislandslifestyle.com/wp-content/uploads/sites/64/2022/01/iStock-868818880-1024x684-square.jpg
ORGANIZER;CN="Jennifer Jaehrling":MAILTO:Jennifer.Jaehrling@teamesplanade.com
END:VEVENT
END:VCALENDAR