BEGIN:VCALENDAR
VERSION:2.0
PRODID:-//Esplanade by the Islands - ECPv6.15.15//NONSGML v1.0//EN
CALSCALE:GREGORIAN
METHOD:PUBLISH
X-WR-CALNAME:Esplanade by the Islands
X-ORIGINAL-URL:https://www.esplanadebytheislandslifestyle.com
X-WR-CALDESC:Events for Esplanade by the Islands
REFRESH-INTERVAL;VALUE=DURATION:PT1H
X-Robots-Tag:noindex
X-PUBLISHED-TTL:PT1H
BEGIN:VTIMEZONE
TZID:America/New_York
BEGIN:DAYLIGHT
TZOFFSETFROM:-0500
TZOFFSETTO:-0400
TZNAME:EDT
DTSTART:20230312T070000
END:DAYLIGHT
BEGIN:STANDARD
TZOFFSETFROM:-0400
TZOFFSETTO:-0500
TZNAME:EST
DTSTART:20231105T060000
END:STANDARD
BEGIN:DAYLIGHT
TZOFFSETFROM:-0500
TZOFFSETTO:-0400
TZNAME:EDT
DTSTART:20240310T070000
END:DAYLIGHT
BEGIN:STANDARD
TZOFFSETFROM:-0400
TZOFFSETTO:-0500
TZNAME:EST
DTSTART:20241103T060000
END:STANDARD
BEGIN:DAYLIGHT
TZOFFSETFROM:-0500
TZOFFSETTO:-0400
TZNAME:EDT
DTSTART:20250309T070000
END:DAYLIGHT
BEGIN:STANDARD
TZOFFSETFROM:-0400
TZOFFSETTO:-0500
TZNAME:EST
DTSTART:20251102T060000
END:STANDARD
END:VTIMEZONE
BEGIN:VEVENT
DTSTART;VALUE=DATE:20240824
DTEND;VALUE=DATE:20240826
DTSTAMP:20260423T074318
CREATED:20240618T181711Z
LAST-MODIFIED:20240618T181711Z
UID:36320-1724457600-1724630399@www.esplanadebytheislandslifestyle.com
SUMMARY:Local Golf Tournament
DESCRIPTION:The Florida State Golf Association (FSGA) was formed in 1913 to promote\, protect\, and preserve the game of golf. The FSGA includes more than 800 member clubs and 338\,000 individual members. \nThe FSGA is a volunteer organization made up of 500 volunteers who serve as tournament officials and course rating experts\, and who assist junior and amateur golf in their local areas. We conduct more than 550 tournament days each year\, including over 40 state championships\, and over 45 days of USGA qualifying events\, as well as perform more course ratings each year than any other organization in the country. \nThe Association provides college scholarships\, and in conjunction with the Florida Golf License Plate Fund\, provides more than $700\,000 in grants per year for First Tee programs and local junior golf programs. Our partnership with the USGA-GHIN handicap service makes up the largest handicapping organization in the country. More than 55 Rules of Golf and Rules of Handicapping seminars are held annually to continually support our volunteers\, member clubs\, and the work that they do for the game of golf. \nIf you are interested in finding out more please visit the link below for all content and registration for the tournament. \nhttps://www.fsga.org/TournamentCategoryLink/One-Day-Events/27/Southwest-Amateur-Series \n 
URL:https://www.esplanadebytheislandslifestyle.com/event/local-golf-tournament/
LOCATION:Kensington GC
CATEGORIES:Lifestyle Activities and Events
ATTACH;FMTTYPE=image/png:https://www.esplanadebytheislandslifestyle.com/wp-content/uploads/sites/64/2022/01/Golf-1-1024x688-square.png
ORGANIZER;CN="Jennifer Jaehrling":MAILTO:Jennifer.Jaehrling@teamesplanade.com
END:VEVENT
END:VCALENDAR