BEGIN:VCALENDAR
VERSION:2.0
PRODID:-//Esplanade by the Islands - ECPv6.15.15//NONSGML v1.0//EN
CALSCALE:GREGORIAN
METHOD:PUBLISH
X-WR-CALNAME:Esplanade by the Islands
X-ORIGINAL-URL:https://www.esplanadebytheislandslifestyle.com
X-WR-CALDESC:Events for Esplanade by the Islands
REFRESH-INTERVAL;VALUE=DURATION:PT1H
X-Robots-Tag:noindex
X-PUBLISHED-TTL:PT1H
BEGIN:VTIMEZONE
TZID:America/New_York
BEGIN:DAYLIGHT
TZOFFSETFROM:-0500
TZOFFSETTO:-0400
TZNAME:EDT
DTSTART:20230312T070000
END:DAYLIGHT
BEGIN:STANDARD
TZOFFSETFROM:-0400
TZOFFSETTO:-0500
TZNAME:EST
DTSTART:20231105T060000
END:STANDARD
BEGIN:DAYLIGHT
TZOFFSETFROM:-0500
TZOFFSETTO:-0400
TZNAME:EDT
DTSTART:20240310T070000
END:DAYLIGHT
BEGIN:STANDARD
TZOFFSETFROM:-0400
TZOFFSETTO:-0500
TZNAME:EST
DTSTART:20241103T060000
END:STANDARD
BEGIN:DAYLIGHT
TZOFFSETFROM:-0500
TZOFFSETTO:-0400
TZNAME:EDT
DTSTART:20250309T070000
END:DAYLIGHT
BEGIN:STANDARD
TZOFFSETFROM:-0400
TZOFFSETTO:-0500
TZNAME:EST
DTSTART:20251102T060000
END:STANDARD
END:VTIMEZONE
BEGIN:VEVENT
DTSTART;TZID=America/New_York:20240608T080000
DTEND;TZID=America/New_York:20240608T100000
DTSTAMP:20260423T015612
CREATED:20240502T190611Z
LAST-MODIFIED:20240506T132240Z
UID:35426-1717833600-1717840800@www.esplanadebytheislandslifestyle.com
SUMMARY:Global Wellness Day Event- Marco Island Beach Cleanup
DESCRIPTION:World Oceans Day\, observed annually on June 8\, is a day to raise awareness and celebrate the beauty of nature\, encourage conservation\, and take action to restore and protect our oceans. \nJoin your community for a day of beach cleanup on the City of Marco Island. \nMeet-up Location: South Beach Boardwalk \nhttps://www.collierparks.com/collier_park/south-marco-beach-access/ \nhttps://www.cityofmarcoisland.com/bc-bcrac/page/beach-clean-schedule \nHelp reduce plastic pollution in our beautiful oceans and take pride knowing you helped protect our preciou \ns wildlife\, waters and food sources.  Buckets\, gloves\, and grabbers to assist with the clean-up. \n 
URL:https://www.esplanadebytheislandslifestyle.com/event/world-oceans-day-beach-cleanup/
LOCATION:Marco Island South Beach Boardwalk
ATTACH;FMTTYPE=image/jpeg:https://www.esplanadebytheislandslifestyle.com/wp-content/uploads/sites/64/2022/02/BeachCleanUp.jpg
END:VEVENT
END:VCALENDAR