BEGIN:VCALENDAR
VERSION:2.0
PRODID:-//Esplanade by the Islands - ECPv6.15.15//NONSGML v1.0//EN
CALSCALE:GREGORIAN
METHOD:PUBLISH
X-ORIGINAL-URL:https://www.esplanadebytheislandslifestyle.com
X-WR-CALDESC:Events for Esplanade by the Islands
REFRESH-INTERVAL;VALUE=DURATION:PT1H
X-Robots-Tag:noindex
X-PUBLISHED-TTL:PT1H
BEGIN:VTIMEZONE
TZID:America/New_York
BEGIN:DAYLIGHT
TZOFFSETFROM:-0500
TZOFFSETTO:-0400
TZNAME:EDT
DTSTART:20230312T070000
END:DAYLIGHT
BEGIN:STANDARD
TZOFFSETFROM:-0400
TZOFFSETTO:-0500
TZNAME:EST
DTSTART:20231105T060000
END:STANDARD
BEGIN:DAYLIGHT
TZOFFSETFROM:-0500
TZOFFSETTO:-0400
TZNAME:EDT
DTSTART:20240310T070000
END:DAYLIGHT
BEGIN:STANDARD
TZOFFSETFROM:-0400
TZOFFSETTO:-0500
TZNAME:EST
DTSTART:20241103T060000
END:STANDARD
BEGIN:DAYLIGHT
TZOFFSETFROM:-0500
TZOFFSETTO:-0400
TZNAME:EDT
DTSTART:20250309T070000
END:DAYLIGHT
BEGIN:STANDARD
TZOFFSETFROM:-0400
TZOFFSETTO:-0500
TZNAME:EST
DTSTART:20251102T060000
END:STANDARD
END:VTIMEZONE
BEGIN:VEVENT
DTSTART;TZID=America/New_York:20240302T120000
DTEND;TZID=America/New_York:20240302T160000
DTSTAMP:20260423T105130
CREATED:20240108T205817Z
LAST-MODIFIED:20240110T144749Z
UID:33011-1709380800-1709395200@www.esplanadebytheislandslifestyle.com
SUMMARY:Naples Craft Beer Festival
DESCRIPTION:THE 2024 \n\n\n\n\nExperience a celebration of the art of craft beer and premier Naples event. The 2024 Fest will feature a wide variety of beers from breweries across the country and world – all available for tasting. Not to mention food served by local restaurants\, whose talented chefs will compete for the People’s Choice and Grand Champion awards for best pairing. \nAdding even more local flavor\, musical talent from the area will top off the festive atmosphere with some truly good vibes. \nPurchase tickets at the link below: \nhttps://www.naplescraftbeerfest.com/ \nThis is a local event that is open to the public\, this is not a scheduled BTI Lifestyle event. \n 
URL:https://www.esplanadebytheislandslifestyle.com/event/naples-craft-beer-festival/
LOCATION:Naples Bayfront\, 465 Bayfront Pl\, Naples
CATEGORIES:Lifestyle Activities and Events
ATTACH;FMTTYPE=image/jpeg:https://www.esplanadebytheislandslifestyle.com/wp-content/uploads/sites/64/2024/01/Beer_Cheers_JustBeverages-3.jpg
ORGANIZER;CN="Jennifer Jaehrling":MAILTO:Jennifer.Jaehrling@teamesplanade.com
END:VEVENT
END:VCALENDAR