BEGIN:VCALENDAR
VERSION:2.0
PRODID:-//Esplanade by the Islands - ECPv6.15.15//NONSGML v1.0//EN
CALSCALE:GREGORIAN
METHOD:PUBLISH
X-WR-CALNAME:Esplanade by the Islands
X-ORIGINAL-URL:https://www.esplanadebytheislandslifestyle.com
X-WR-CALDESC:Events for Esplanade by the Islands
REFRESH-INTERVAL;VALUE=DURATION:PT1H
X-Robots-Tag:noindex
X-PUBLISHED-TTL:PT1H
BEGIN:VTIMEZONE
TZID:America/New_York
BEGIN:DAYLIGHT
TZOFFSETFROM:-0500
TZOFFSETTO:-0400
TZNAME:EDT
DTSTART:20230312T070000
END:DAYLIGHT
BEGIN:STANDARD
TZOFFSETFROM:-0400
TZOFFSETTO:-0500
TZNAME:EST
DTSTART:20231105T060000
END:STANDARD
BEGIN:DAYLIGHT
TZOFFSETFROM:-0500
TZOFFSETTO:-0400
TZNAME:EDT
DTSTART:20240310T070000
END:DAYLIGHT
BEGIN:STANDARD
TZOFFSETFROM:-0400
TZOFFSETTO:-0500
TZNAME:EST
DTSTART:20241103T060000
END:STANDARD
BEGIN:DAYLIGHT
TZOFFSETFROM:-0500
TZOFFSETTO:-0400
TZNAME:EDT
DTSTART:20250309T070000
END:DAYLIGHT
BEGIN:STANDARD
TZOFFSETFROM:-0400
TZOFFSETTO:-0500
TZNAME:EST
DTSTART:20251102T060000
END:STANDARD
BEGIN:DAYLIGHT
TZOFFSETFROM:-0500
TZOFFSETTO:-0400
TZNAME:EDT
DTSTART:20260308T070000
END:DAYLIGHT
BEGIN:STANDARD
TZOFFSETFROM:-0400
TZOFFSETTO:-0500
TZNAME:EST
DTSTART:20261101T060000
END:STANDARD
END:VTIMEZONE
BEGIN:VEVENT
DTSTART;VALUE=DATE:20250108
DTEND;VALUE=DATE:20250109
DTSTAMP:20260422T150259
CREATED:20241203T201657Z
LAST-MODIFIED:20241203T201657Z
UID:41340-1736294400-1736380799@www.esplanadebytheislandslifestyle.com
SUMMARY:Fishing Club Outing
DESCRIPTION:Every month there will be a new fishing excursion for club Members. Please reach out to David Amadori for details at davidamadori@aol.com. \nTo reserve your spot for the multi-person vessel\, contact a representative through the link below and ask for the half day\, 4.5 hour morning trip. \nhttps://www.naplesfishingboat.com/ \n 
URL:https://www.esplanadebytheislandslifestyle.com/event/fishing-club-outing-3/
LOCATION:Naples Fishing Boat
CATEGORIES:Clubs
ATTACH;FMTTYPE=image/jpeg:https://www.esplanadebytheislandslifestyle.com/wp-content/uploads/sites/64/2023/06/mathieu-le-roux-6_HqvY1E7NI-unsplash-scaled.jpg
END:VEVENT
BEGIN:VEVENT
DTSTART;VALUE=DATE:20241204
DTEND;VALUE=DATE:20241205
DTSTAMP:20260422T150259
CREATED:20241014T181002Z
LAST-MODIFIED:20241014T181002Z
UID:39799-1733270400-1733356799@www.esplanadebytheislandslifestyle.com
SUMMARY:Fishing Club Outing
DESCRIPTION:Every month there will be a new fishing excursion for club Members. Please reach out to David Amadori for details at davidamadori@aol.com. \nTo reserve your spot for the multi-person vessel\, contact a representative through the link below and ask for the half day\, 4.5 hour morning trip. \nhttps://www.naplesfishingboat.com/ \n 
URL:https://www.esplanadebytheislandslifestyle.com/event/fishing-club-outing-4/
LOCATION:Naples Fishing Boat
CATEGORIES:Clubs
ATTACH;FMTTYPE=image/jpeg:https://www.esplanadebytheislandslifestyle.com/wp-content/uploads/sites/64/2023/06/mathieu-le-roux-6_HqvY1E7NI-unsplash-scaled.jpg
END:VEVENT
BEGIN:VEVENT
DTSTART;VALUE=DATE:20241002
DTEND;VALUE=DATE:20241003
DTSTAMP:20260422T150259
CREATED:20240729T135457Z
LAST-MODIFIED:20240729T135457Z
UID:36638-1727827200-1727913599@www.esplanadebytheislandslifestyle.com
SUMMARY:Fishing Club Outing
DESCRIPTION:Every month there will be a new fishing excursion for club Members. Please reach out to David Amadori for details at davidamadori@aol.com. \nTo reserve your spot for the multi person vessel contact the link below and ask for the 1/2 day 4.5 hour morning trip. \nhttps://www.naplesfishingboat.com/ \n 
URL:https://www.esplanadebytheislandslifestyle.com/event/fishing-club-outing-2/
LOCATION:Naples Fishing Boat
CATEGORIES:Clubs
ATTACH;FMTTYPE=image/jpeg:https://www.esplanadebytheislandslifestyle.com/wp-content/uploads/sites/64/2023/06/mathieu-le-roux-6_HqvY1E7NI-unsplash-scaled.jpg
END:VEVENT
BEGIN:VEVENT
DTSTART;VALUE=DATE:20240904
DTEND;VALUE=DATE:20240905
DTSTAMP:20260422T150259
CREATED:20240729T135216Z
LAST-MODIFIED:20240729T135357Z
UID:36634-1725408000-1725494399@www.esplanadebytheislandslifestyle.com
SUMMARY:Fishing Club Outing
DESCRIPTION:Every month there will be a new fishing excursion for club Members. Please reach out to David Amadori for details at davidamadori@aol.com. \nTo reserve your spot for the multi person vessel contact the link below and ask for the 1/2 day 4.5 hour morning trip. \nhttps://www.naplesfishingboat.com/ \n 
URL:https://www.esplanadebytheislandslifestyle.com/event/fishing-club-outing/
LOCATION:Naples Fishing Boat
CATEGORIES:Clubs
ATTACH;FMTTYPE=image/jpeg:https://www.esplanadebytheislandslifestyle.com/wp-content/uploads/sites/64/2023/06/mathieu-le-roux-6_HqvY1E7NI-unsplash-scaled.jpg
ORGANIZER;CN="Jennifer Jaehrling":MAILTO:Jennifer.Jaehrling@teamesplanade.com
END:VEVENT
BEGIN:VEVENT
DTSTART;VALUE=DATE:20240809
DTEND;VALUE=DATE:20240810
DTSTAMP:20260422T150259
CREATED:20240627T132858Z
LAST-MODIFIED:20240808T163405Z
UID:36385-1723161600-1723247999@www.esplanadebytheislandslifestyle.com
SUMMARY:Fishing Club Outing
DESCRIPTION:Every month there will be a new fishing excursion for club Members. Please reach out to David Amadori for details at davidamadori@aol.com. \nTo reserve your spot for the multi person vessel contact the link below and ask for the 1/2 day 4.5 hour morning trip. \nhttps://www.naplesfishingboat.com/ \n 
URL:https://www.esplanadebytheislandslifestyle.com/event/fishing-club-excursion-2/
LOCATION:Naples Fishing Boat
CATEGORIES:Clubs
ATTACH;FMTTYPE=image/jpeg:https://www.esplanadebytheislandslifestyle.com/wp-content/uploads/sites/64/2023/06/mathieu-le-roux-6_HqvY1E7NI-unsplash-scaled.jpg
ORGANIZER;CN="Jennifer Jaehrling":MAILTO:Jennifer.Jaehrling@teamesplanade.com
END:VEVENT
BEGIN:VEVENT
DTSTART;VALUE=DATE:20240703
DTEND;VALUE=DATE:20240704
DTSTAMP:20260422T150259
CREATED:20240510T150403Z
LAST-MODIFIED:20240510T150403Z
UID:35611-1719964800-1720051199@www.esplanadebytheislandslifestyle.com
SUMMARY:Fishing Club Excursion
DESCRIPTION:Every month there will be a new fishing excursion for club Members. Please reach out to David Amadori for details at davidamadori@aol.com. \nTo reserve your spot for the multi person vessel contact the link below and ask for the 1/2 day 4.5 hour morning trip. \nhttps://www.naplesfishingboat.com/ \n 
URL:https://www.esplanadebytheislandslifestyle.com/event/fishing-club-excursion/
LOCATION:Naples Fishing Boat
CATEGORIES:Clubs
ATTACH;FMTTYPE=image/jpeg:https://www.esplanadebytheislandslifestyle.com/wp-content/uploads/sites/64/2023/06/mathieu-le-roux-6_HqvY1E7NI-unsplash-scaled.jpg
ORGANIZER;CN="Jennifer Jaehrling":MAILTO:Jennifer.Jaehrling@teamesplanade.com
END:VEVENT
END:VCALENDAR