BEGIN:VCALENDAR
VERSION:2.0
PRODID:-//Esplanade by the Islands - ECPv6.15.15//NONSGML v1.0//EN
CALSCALE:GREGORIAN
METHOD:PUBLISH
X-ORIGINAL-URL:https://www.esplanadebytheislandslifestyle.com
X-WR-CALDESC:Events for Esplanade by the Islands
REFRESH-INTERVAL;VALUE=DURATION:PT1H
X-Robots-Tag:noindex
X-PUBLISHED-TTL:PT1H
BEGIN:VTIMEZONE
TZID:America/New_York
BEGIN:DAYLIGHT
TZOFFSETFROM:-0500
TZOFFSETTO:-0400
TZNAME:EDT
DTSTART:20230312T070000
END:DAYLIGHT
BEGIN:STANDARD
TZOFFSETFROM:-0400
TZOFFSETTO:-0500
TZNAME:EST
DTSTART:20231105T060000
END:STANDARD
BEGIN:DAYLIGHT
TZOFFSETFROM:-0500
TZOFFSETTO:-0400
TZNAME:EDT
DTSTART:20240310T070000
END:DAYLIGHT
BEGIN:STANDARD
TZOFFSETFROM:-0400
TZOFFSETTO:-0500
TZNAME:EST
DTSTART:20241103T060000
END:STANDARD
BEGIN:DAYLIGHT
TZOFFSETFROM:-0500
TZOFFSETTO:-0400
TZNAME:EDT
DTSTART:20250309T070000
END:DAYLIGHT
BEGIN:STANDARD
TZOFFSETFROM:-0400
TZOFFSETTO:-0500
TZNAME:EST
DTSTART:20251102T060000
END:STANDARD
END:VTIMEZONE
BEGIN:VEVENT
DTSTART;TZID=America/New_York:20240704T130000
DTEND;TZID=America/New_York:20240704T160000
DTSTAMP:20260423T091237
CREATED:20240515T150110Z
LAST-MODIFIED:20240703T191603Z
UID:35708-1720098000-1720108800@www.esplanadebytheislandslifestyle.com
SUMMARY:Boots & BBQ Signature Event - 4th of July Celebration
DESCRIPTION:Join your neighbors for a spectacular fourth of July. The barn venue sets the tone for the western attire. Smoky Stone and Jimmy P’s will be catering the event along with an open bar and signature drink. Dancing to your favorite songs\, experiencing a petting farm\, taking a ride on the mechanical bull\, and interactive games will keep your boots scooting along. Transportation will be available. Family and friends welcome! \nNo dress code required. \nWe will meet at the Sales Gallery parking lot at 12:15 p.m. to begin transportation boarding. Feel free to bring a beverage along for the ride. \n  \n 
URL:https://www.esplanadebytheislandslifestyle.com/event/boots-and-bbq-signature-event-4th-of-july-celebration/
LOCATION:Naples Wedding Barn\, 2250 28th Ave SE\, Naples\, 24117
CATEGORIES:Lifestyle Activities and Events
ATTACH;FMTTYPE=image/png:https://www.esplanadebytheislandslifestyle.com/wp-content/uploads/sites/64/2024/05/BTI-Boots-BBQ-Flyer.png
ORGANIZER;CN="Jennifer Jaehrling":MAILTO:Jennifer.Jaehrling@teamesplanade.com
END:VEVENT
END:VCALENDAR