BEGIN:VCALENDAR
VERSION:2.0
PRODID:-//Esplanade by the Islands - ECPv6.15.15//NONSGML v1.0//EN
CALSCALE:GREGORIAN
METHOD:PUBLISH
X-ORIGINAL-URL:https://www.esplanadebytheislandslifestyle.com
X-WR-CALDESC:Events for Esplanade by the Islands
REFRESH-INTERVAL;VALUE=DURATION:PT1H
X-Robots-Tag:noindex
X-PUBLISHED-TTL:PT1H
BEGIN:VTIMEZONE
TZID:America/New_York
BEGIN:DAYLIGHT
TZOFFSETFROM:-0500
TZOFFSETTO:-0400
TZNAME:EDT
DTSTART:20230312T070000
END:DAYLIGHT
BEGIN:STANDARD
TZOFFSETFROM:-0400
TZOFFSETTO:-0500
TZNAME:EST
DTSTART:20231105T060000
END:STANDARD
BEGIN:DAYLIGHT
TZOFFSETFROM:-0500
TZOFFSETTO:-0400
TZNAME:EDT
DTSTART:20240310T070000
END:DAYLIGHT
BEGIN:STANDARD
TZOFFSETFROM:-0400
TZOFFSETTO:-0500
TZNAME:EST
DTSTART:20241103T060000
END:STANDARD
BEGIN:DAYLIGHT
TZOFFSETFROM:-0500
TZOFFSETTO:-0400
TZNAME:EDT
DTSTART:20250309T070000
END:DAYLIGHT
BEGIN:STANDARD
TZOFFSETFROM:-0400
TZOFFSETTO:-0500
TZNAME:EST
DTSTART:20251102T060000
END:STANDARD
END:VTIMEZONE
BEGIN:VEVENT
DTSTART;TZID=America/New_York:20240127T153000
DTEND;TZID=America/New_York:20240127T184500
DTSTAMP:20260423T012525
CREATED:20231205T202815Z
LAST-MODIFIED:20240124T173946Z
UID:32476-1706369400-1706381100@www.esplanadebytheislandslifestyle.com
SUMMARY:Cycle Boat Cruise
DESCRIPTION:We will be boarding a cycle boat for a sunset cruise.  Making one stop at the Snook Inn for a cocktail.  Coolers and Ice is provided if you would like to bring beverages of choice and snacks. This is an unique and new concept for boating brought to Marco Island.  See link below for more details.  Seating is limited so register soon.  We will meet at the location prior to boarding. \nhttps://paradisecycleboat.com/
URL:https://www.esplanadebytheislandslifestyle.com/event/cycle-boat-cruise/
LOCATION:Paradise Cycle Boat Cruises\, Dock Slip\, 951 Bald Eagle Drive A\, #17\, Marco Island\, FL 34145\, Marco Island\, Fl\, 34145
CATEGORIES:Lifestyle Activities and Events
ATTACH;FMTTYPE=image/jpeg:https://www.esplanadebytheislandslifestyle.com/wp-content/uploads/sites/64/2021/05/princes.jpg
ORGANIZER;CN="Jennifer Jaehrling":MAILTO:Jennifer.Jaehrling@teamesplanade.com
END:VEVENT
END:VCALENDAR