BEGIN:VCALENDAR
VERSION:2.0
PRODID:-//Esplanade by the Islands - ECPv6.15.15//NONSGML v1.0//EN
CALSCALE:GREGORIAN
METHOD:PUBLISH
X-ORIGINAL-URL:https://www.esplanadebytheislandslifestyle.com
X-WR-CALDESC:Events for Esplanade by the Islands
REFRESH-INTERVAL;VALUE=DURATION:PT1H
X-Robots-Tag:noindex
X-PUBLISHED-TTL:PT1H
BEGIN:VTIMEZONE
TZID:America/New_York
BEGIN:DAYLIGHT
TZOFFSETFROM:-0500
TZOFFSETTO:-0400
TZNAME:EDT
DTSTART:20250309T070000
END:DAYLIGHT
BEGIN:STANDARD
TZOFFSETFROM:-0400
TZOFFSETTO:-0500
TZNAME:EST
DTSTART:20251102T060000
END:STANDARD
BEGIN:DAYLIGHT
TZOFFSETFROM:-0500
TZOFFSETTO:-0400
TZNAME:EDT
DTSTART:20260308T070000
END:DAYLIGHT
BEGIN:STANDARD
TZOFFSETFROM:-0400
TZOFFSETTO:-0500
TZNAME:EST
DTSTART:20261101T060000
END:STANDARD
BEGIN:DAYLIGHT
TZOFFSETFROM:-0500
TZOFFSETTO:-0400
TZNAME:EDT
DTSTART:20270314T070000
END:DAYLIGHT
BEGIN:STANDARD
TZOFFSETFROM:-0400
TZOFFSETTO:-0500
TZNAME:EST
DTSTART:20271107T060000
END:STANDARD
END:VTIMEZONE
BEGIN:VEVENT
DTSTART;TZID=America/New_York:20260422T120000
DTEND;TZID=America/New_York:20260422T130000
DTSTAMP:20260421T145914
CREATED:20260330T135852Z
LAST-MODIFIED:20260330T135852Z
UID:71423-1776859200-1776862800@www.esplanadebytheislandslifestyle.com
SUMMARY:Stroke Development Pickleball
DESCRIPTION:Join Racket Sports Teaching Professional Ted Heiser to perfect the pickleball strokes. This is a great opportunity to practice specific strokes. \n  \n\n\nAll levels welcome. Please bring a paddle!
URL:https://www.esplanadebytheislandslifestyle.com/event/stroke-development-pickleball-15/
LOCATION:Pickleball Courts
CATEGORIES:Courts
ATTACH;FMTTYPE=image/jpeg:https://www.esplanadebytheislandslifestyle.com/wp-content/uploads/sites/64/2024/11/PickleballPaddlesandBalls.jpg
ORGANIZER;CN="Ted Heiser":MAILTO:ted.heiser@teamesplanade.com
END:VEVENT
BEGIN:VEVENT
DTSTART;TZID=America/New_York:20260423T110000
DTEND;TZID=America/New_York:20260423T123000
DTSTAMP:20260421T145914
CREATED:20260330T140049Z
LAST-MODIFIED:20260330T140049Z
UID:71426-1776942000-1776947400@www.esplanadebytheislandslifestyle.com
SUMMARY:Pickleball FIT Clinic
DESCRIPTION:Join Racket Sports Teaching Professional Ted Heiser for a morning of cardio drills and a friendly court competition!  This is a great opportunity to meet your neighbors and make new connections with Members who enjoy playing. \n\n\nIn this face-paced cardio class\, you will hit lots of pickleballs and get a great cardio workout. Fitness interval training is suitable for general fitness and is recommended for beginners and intermediate athletes. \nAll levels welcome. Please bring a paddle!
URL:https://www.esplanadebytheislandslifestyle.com/event/pickleball-fit-clinic-56/
LOCATION:Pickleball Courts
CATEGORIES:Courts
ATTACH;FMTTYPE=image/png:https://www.esplanadebytheislandslifestyle.com/wp-content/uploads/sites/64/2025/01/High-Res-pickle-ball-01-1024x687-1-300x201-1.png
END:VEVENT
BEGIN:VEVENT
DTSTART;TZID=America/New_York:20260429T103000
DTEND;TZID=America/New_York:20260429T120000
DTSTAMP:20260421T145915
CREATED:20260403T154649Z
LAST-MODIFIED:20260403T154649Z
UID:71672-1777458600-1777464000@www.esplanadebytheislandslifestyle.com
SUMMARY:Pickleball "Swing into Spring"
DESCRIPTION:Embrace the spring season with a morning of competitive and spirited play. Open to all players of all levels\, our Swing into Spring social scramble promises thrilling matches\, good company and a celebration of sports programming in the refreshing spring air.
URL:https://www.esplanadebytheislandslifestyle.com/event/pickleball-swing-into-spring/
LOCATION:Pickleball Courts
ORGANIZER;CN="Ted Heiser":MAILTO:ted.heiser@teamesplanade.com
END:VEVENT
BEGIN:VEVENT
DTSTART;TZID=America/New_York:20260429T103000
DTEND;TZID=America/New_York:20260429T120000
DTSTAMP:20260421T145915
CREATED:20260403T160003Z
LAST-MODIFIED:20260403T160003Z
UID:71692-1777458600-1777464000@www.esplanadebytheislandslifestyle.com
SUMMARY:Pickleball "Swing into Spring"
DESCRIPTION:Embrace the spring season with a morning of competitive and spirited play. Open to players of all levels.
URL:https://www.esplanadebytheislandslifestyle.com/event/pickleball-swing-into-spring-2/
LOCATION:Pickleball Courts
CATEGORIES:Courts
ORGANIZER;CN="Ted Heiser":MAILTO:ted.heiser@teamesplanade.com
END:VEVENT
BEGIN:VEVENT
DTSTART;TZID=America/New_York:20260429T120000
DTEND;TZID=America/New_York:20260429T130000
DTSTAMP:20260421T145915
CREATED:20260330T141128Z
LAST-MODIFIED:20260330T141128Z
UID:71444-1777464000-1777467600@www.esplanadebytheislandslifestyle.com
SUMMARY:Stroke Development Pickleball
DESCRIPTION:Join Racket Sports Teaching Professional Ted Heiser to perfect the pickleball strokes. This is a great opportunity to practice specific strokes. \n  \n\n\nAll levels welcome. Please bring a paddle!
URL:https://www.esplanadebytheislandslifestyle.com/event/stroke-development-pickleball-16/
LOCATION:Pickleball Courts
CATEGORIES:Courts
ATTACH;FMTTYPE=image/jpeg:https://www.esplanadebytheislandslifestyle.com/wp-content/uploads/sites/64/2024/11/PickleballPaddlesandBalls.jpg
ORGANIZER;CN="Ted Heiser":MAILTO:ted.heiser@teamesplanade.com
END:VEVENT
BEGIN:VEVENT
DTSTART;TZID=America/New_York:20260430T110000
DTEND;TZID=America/New_York:20260430T123000
DTSTAMP:20260421T145915
CREATED:20260330T141256Z
LAST-MODIFIED:20260330T141256Z
UID:71447-1777546800-1777552200@www.esplanadebytheislandslifestyle.com
SUMMARY:Pickleball FIT Clinic
DESCRIPTION:Join Racket Sports Teaching Professional Ted Heiser for a morning of cardio drills and a friendly court competition!  This is a great opportunity to meet your neighbors and make new connections with Members who enjoy playing. \n\n\nIn this face-paced cardio class\, you will hit lots of pickleballs and get a great cardio workout. Fitness interval training is suitable for general fitness and is recommended for beginners and intermediate athletes. \nAll levels welcome. Please bring a paddle!
URL:https://www.esplanadebytheislandslifestyle.com/event/pickleball-fit-clinic-57/
LOCATION:Pickleball Courts
CATEGORIES:Courts
ATTACH;FMTTYPE=image/png:https://www.esplanadebytheislandslifestyle.com/wp-content/uploads/sites/64/2025/01/High-Res-pickle-ball-01-1024x687-1-300x201-1.png
END:VEVENT
BEGIN:VEVENT
DTSTART;TZID=America/New_York:20260506T120000
DTEND;TZID=America/New_York:20260506T130000
DTSTAMP:20260421T145915
CREATED:20260330T142135Z
LAST-MODIFIED:20260330T142135Z
UID:71465-1778068800-1778072400@www.esplanadebytheislandslifestyle.com
SUMMARY:Stroke Development Pickleball
DESCRIPTION:Join Racket Sports Teaching Professional Ted Heiser to perfect the pickleball strokes. This is a great opportunity to practice specific strokes. \n  \n\n\nAll levels welcome. Please bring a paddle!
URL:https://www.esplanadebytheislandslifestyle.com/event/stroke-development-pickleball-17/
LOCATION:Pickleball Courts
CATEGORIES:Courts
ATTACH;FMTTYPE=image/jpeg:https://www.esplanadebytheislandslifestyle.com/wp-content/uploads/sites/64/2024/11/PickleballPaddlesandBalls.jpg
ORGANIZER;CN="Ted Heiser":MAILTO:ted.heiser@teamesplanade.com
END:VEVENT
BEGIN:VEVENT
DTSTART;TZID=America/New_York:20260507T110000
DTEND;TZID=America/New_York:20260507T123000
DTSTAMP:20260421T145915
CREATED:20260330T142259Z
LAST-MODIFIED:20260330T142259Z
UID:71468-1778151600-1778157000@www.esplanadebytheislandslifestyle.com
SUMMARY:Pickleball FIT Clinic
DESCRIPTION:Join Racket Sports Teaching Professional Ted Heiser for a morning of cardio drills and a friendly court competition!  This is a great opportunity to meet your neighbors and make new connections with Members who enjoy playing. \n\n\nIn this face-paced cardio class\, you will hit lots of pickleballs and get a great cardio workout. Fitness interval training is suitable for general fitness and is recommended for beginners and intermediate athletes. \nAll levels welcome. Please bring a paddle!
URL:https://www.esplanadebytheislandslifestyle.com/event/pickleball-fit-clinic-58/
LOCATION:Pickleball Courts
CATEGORIES:Courts
ATTACH;FMTTYPE=image/png:https://www.esplanadebytheislandslifestyle.com/wp-content/uploads/sites/64/2025/01/High-Res-pickle-ball-01-1024x687-1-300x201-1.png
END:VEVENT
BEGIN:VEVENT
DTSTART;TZID=America/New_York:20260513T120000
DTEND;TZID=America/New_York:20260513T130000
DTSTAMP:20260421T145915
CREATED:20260413T124108Z
LAST-MODIFIED:20260413T124108Z
UID:71898-1778673600-1778677200@www.esplanadebytheislandslifestyle.com
SUMMARY:Stroke Development Pickleball
DESCRIPTION:Join Racket Sports Teaching Professional Ted Heiser to perfect the pickleball strokes. This is a great opportunity to practice specific strokes. \n  \n\n\nAll levels welcome. Please bring a paddle!
URL:https://www.esplanadebytheislandslifestyle.com/event/stroke-development-pickleball-18/
LOCATION:Pickleball Courts
CATEGORIES:Courts
ATTACH;FMTTYPE=image/jpeg:https://www.esplanadebytheislandslifestyle.com/wp-content/uploads/sites/64/2024/11/PickleballPaddlesandBalls.jpg
ORGANIZER;CN="Ted Heiser":MAILTO:ted.heiser@teamesplanade.com
END:VEVENT
BEGIN:VEVENT
DTSTART;TZID=America/New_York:20260514T110000
DTEND;TZID=America/New_York:20260514T123000
DTSTAMP:20260421T145915
CREATED:20260413T124458Z
LAST-MODIFIED:20260413T124458Z
UID:71910-1778756400-1778761800@www.esplanadebytheislandslifestyle.com
SUMMARY:Pickleball FIT Clinic
DESCRIPTION:Join Racket Sports Teaching Professional Ted Heiser for a morning of cardio drills and a friendly court competition!  This is a great opportunity to meet your neighbors and make new connections with Members who enjoy playing. \n\n\nIn this face-paced cardio class\, you will hit lots of pickleballs and get a great cardio workout. Fitness interval training is suitable for general fitness and is recommended for beginners and intermediate athletes. \nAll levels welcome. Please bring a paddle!
URL:https://www.esplanadebytheislandslifestyle.com/event/pickleball-fit-clinic-59/
LOCATION:Pickleball Courts
CATEGORIES:Courts
ATTACH;FMTTYPE=image/png:https://www.esplanadebytheislandslifestyle.com/wp-content/uploads/sites/64/2025/01/High-Res-pickle-ball-01-1024x687-1-300x201-1.png
END:VEVENT
BEGIN:VEVENT
DTSTART;TZID=America/New_York:20260520T120000
DTEND;TZID=America/New_York:20260520T130000
DTSTAMP:20260421T145915
CREATED:20260413T124133Z
LAST-MODIFIED:20260413T124133Z
UID:71901-1779278400-1779282000@www.esplanadebytheislandslifestyle.com
SUMMARY:Stroke Development Pickleball
DESCRIPTION:Join Racket Sports Teaching Professional Ted Heiser to perfect the pickleball strokes. This is a great opportunity to practice specific strokes. \n  \n\n\nAll levels welcome. Please bring a paddle!
URL:https://www.esplanadebytheislandslifestyle.com/event/stroke-development-pickleball-19/
LOCATION:Pickleball Courts
CATEGORIES:Courts
ATTACH;FMTTYPE=image/jpeg:https://www.esplanadebytheislandslifestyle.com/wp-content/uploads/sites/64/2024/11/PickleballPaddlesandBalls.jpg
ORGANIZER;CN="Ted Heiser":MAILTO:ted.heiser@teamesplanade.com
END:VEVENT
BEGIN:VEVENT
DTSTART;TZID=America/New_York:20260521T110000
DTEND;TZID=America/New_York:20260521T123000
DTSTAMP:20260421T145915
CREATED:20260413T124526Z
LAST-MODIFIED:20260413T124526Z
UID:71913-1779361200-1779366600@www.esplanadebytheislandslifestyle.com
SUMMARY:Pickleball FIT Clinic
DESCRIPTION:Join Racket Sports Teaching Professional Ted Heiser for a morning of cardio drills and a friendly court competition!  This is a great opportunity to meet your neighbors and make new connections with Members who enjoy playing. \n\n\nIn this face-paced cardio class\, you will hit lots of pickleballs and get a great cardio workout. Fitness interval training is suitable for general fitness and is recommended for beginners and intermediate athletes. \nAll levels welcome. Please bring a paddle!
URL:https://www.esplanadebytheislandslifestyle.com/event/pickleball-fit-clinic-60/
LOCATION:Pickleball Courts
CATEGORIES:Courts
ATTACH;FMTTYPE=image/png:https://www.esplanadebytheislandslifestyle.com/wp-content/uploads/sites/64/2025/01/High-Res-pickle-ball-01-1024x687-1-300x201-1.png
END:VEVENT
BEGIN:VEVENT
DTSTART;TZID=America/New_York:20260522T103000
DTEND;TZID=America/New_York:20260522T120000
DTSTAMP:20260421T145915
CREATED:20260421T155400Z
LAST-MODIFIED:20260421T155438Z
UID:72219-1779445800-1779451200@www.esplanadebytheislandslifestyle.com
SUMMARY:Pickleball "For The Day Dinkers"
DESCRIPTION:Grab your paddles and your sense of fun for The Day Dinkers\, a playful pickleball social.
URL:https://www.esplanadebytheislandslifestyle.com/event/pickleball-for-the-day-dinkers/
LOCATION:Pickleball Courts
CATEGORIES:Courts
ORGANIZER;CN="Ted Heiser":MAILTO:ted.heiser@teamesplanade.com
END:VEVENT
BEGIN:VEVENT
DTSTART;TZID=America/New_York:20260527T120000
DTEND;TZID=America/New_York:20260527T130000
DTSTAMP:20260421T145915
CREATED:20260413T124204Z
LAST-MODIFIED:20260413T124204Z
UID:71904-1779883200-1779886800@www.esplanadebytheislandslifestyle.com
SUMMARY:Stroke Development Pickleball
DESCRIPTION:Join Racket Sports Teaching Professional Ted Heiser to perfect the pickleball strokes. This is a great opportunity to practice specific strokes. \n  \n\n\nAll levels welcome. Please bring a paddle!
URL:https://www.esplanadebytheislandslifestyle.com/event/stroke-development-pickleball-20/
LOCATION:Pickleball Courts
CATEGORIES:Courts
ATTACH;FMTTYPE=image/jpeg:https://www.esplanadebytheislandslifestyle.com/wp-content/uploads/sites/64/2024/11/PickleballPaddlesandBalls.jpg
ORGANIZER;CN="Ted Heiser":MAILTO:ted.heiser@teamesplanade.com
END:VEVENT
BEGIN:VEVENT
DTSTART;TZID=America/New_York:20260610T120000
DTEND;TZID=America/New_York:20260610T130000
DTSTAMP:20260421T145915
CREATED:20260413T130211Z
LAST-MODIFIED:20260413T130211Z
UID:71941-1781092800-1781096400@www.esplanadebytheislandslifestyle.com
SUMMARY:Stroke Development Pickleball
DESCRIPTION:Join Racket Sports Teaching Professional Ted Heiser to perfect the pickleball strokes. This is a great opportunity to practice specific strokes. \n  \n\n\nAll levels welcome. Please bring a paddle!
URL:https://www.esplanadebytheislandslifestyle.com/event/stroke-development-pickleball-21/
LOCATION:Pickleball Courts
CATEGORIES:Courts
ATTACH;FMTTYPE=image/jpeg:https://www.esplanadebytheislandslifestyle.com/wp-content/uploads/sites/64/2024/11/PickleballPaddlesandBalls.jpg
ORGANIZER;CN="Ted Heiser":MAILTO:ted.heiser@teamesplanade.com
END:VEVENT
BEGIN:VEVENT
DTSTART;TZID=America/New_York:20260611T110000
DTEND;TZID=America/New_York:20260611T123000
DTSTAMP:20260421T145915
CREATED:20260413T130350Z
LAST-MODIFIED:20260413T130350Z
UID:71944-1781175600-1781181000@www.esplanadebytheislandslifestyle.com
SUMMARY:Pickleball FIT Clinic
DESCRIPTION:Join Racket Sports Teaching Professional Ted Heiser for a morning of cardio drills and a friendly court competition!  This is a great opportunity to meet your neighbors and make new connections with Members who enjoy playing. \n\n\nIn this face-paced cardio class\, you will hit lots of pickleballs and get a great cardio workout. Fitness interval training is suitable for general fitness and is recommended for beginners and intermediate athletes. \nAll levels welcome. Please bring a paddle!
URL:https://www.esplanadebytheislandslifestyle.com/event/pickleball-fit-clinic-61/
LOCATION:Pickleball Courts
CATEGORIES:Courts
ATTACH;FMTTYPE=image/png:https://www.esplanadebytheislandslifestyle.com/wp-content/uploads/sites/64/2025/01/High-Res-pickle-ball-01-1024x687-1-300x201-1.png
END:VEVENT
END:VCALENDAR