BEGIN:VCALENDAR
VERSION:2.0
PRODID:-//Esplanade by the Islands - ECPv6.15.15//NONSGML v1.0//EN
CALSCALE:GREGORIAN
METHOD:PUBLISH
X-WR-CALNAME:Esplanade by the Islands
X-ORIGINAL-URL:https://www.esplanadebytheislandslifestyle.com
X-WR-CALDESC:Events for Esplanade by the Islands
REFRESH-INTERVAL;VALUE=DURATION:PT1H
X-Robots-Tag:noindex
X-PUBLISHED-TTL:PT1H
BEGIN:VTIMEZONE
TZID:America/New_York
BEGIN:DAYLIGHT
TZOFFSETFROM:-0500
TZOFFSETTO:-0400
TZNAME:EDT
DTSTART:20240310T070000
END:DAYLIGHT
BEGIN:STANDARD
TZOFFSETFROM:-0400
TZOFFSETTO:-0500
TZNAME:EST
DTSTART:20241103T060000
END:STANDARD
BEGIN:DAYLIGHT
TZOFFSETFROM:-0500
TZOFFSETTO:-0400
TZNAME:EDT
DTSTART:20250309T070000
END:DAYLIGHT
BEGIN:STANDARD
TZOFFSETFROM:-0400
TZOFFSETTO:-0500
TZNAME:EST
DTSTART:20251102T060000
END:STANDARD
BEGIN:DAYLIGHT
TZOFFSETFROM:-0500
TZOFFSETTO:-0400
TZNAME:EDT
DTSTART:20260308T070000
END:DAYLIGHT
BEGIN:STANDARD
TZOFFSETFROM:-0400
TZOFFSETTO:-0500
TZNAME:EST
DTSTART:20261101T060000
END:STANDARD
END:VTIMEZONE
BEGIN:VEVENT
DTSTART;TZID=America/New_York:20250116T100000
DTEND;TZID=America/New_York:20250116T120000
DTSTAMP:20260422T002124
CREATED:20241216T154322Z
LAST-MODIFIED:20241216T154322Z
UID:41295-1737021600-1737028800@www.esplanadebytheislandslifestyle.com
SUMMARY:Sip & Shop with Rebecca's Ladies Fashions
DESCRIPTION:Join us for a day of fashion\, fun\, and fabulous finds at our Sip & Shop event with Rebecca’s Ladies Fashions & Accessories! Have a relaxed shopping experience while enjoying complimentary mimosas and breakfast bites. Whether you’re looking to refresh your wardrobe\, find the perfect gift\, or just enjoy a day of shopping with your Esplanade friends\, we’ve got something for everyone.
URL:https://www.esplanadebytheislandslifestyle.com/event/sip-shop-with-rebeccas-ladies-fashions/
LOCATION:Rebecca’s Ladies Fashions\, 9123 Strada Place Unit 7110\, Naples\, FL\, 34108
CATEGORIES:Lifestyle Activities and Events
ATTACH;FMTTYPE=image/jpeg:https://www.esplanadebytheislandslifestyle.com/wp-content/uploads/sites/64/2024/11/ChampagneGlassPour-1.jpg
END:VEVENT
END:VCALENDAR